﻿BEGIN:VCALENDAR
VERSION:2.0
PRODID:-//Pennenfeld - ECPv6.10.0//NONSGML v1.0//EN
CALSCALE:GREGORIAN
METHOD:PUBLISH
X-WR-CALNAME:Pennenfeld
X-ORIGINAL-URL:https://wohnen-im-pennenfeld.de
X-WR-CALDESC:Veranstaltungen für Pennenfeld
REFRESH-INTERVAL;VALUE=DURATION:PT1H
X-Robots-Tag:noindex
X-PUBLISHED-TTL:PT1H
BEGIN:VTIMEZONE
TZID:Europe/Berlin
BEGIN:DAYLIGHT
TZOFFSETFROM:+0100
TZOFFSETTO:+0200
TZNAME:CEST
DTSTART:20220327T010000
END:DAYLIGHT
BEGIN:STANDARD
TZOFFSETFROM:+0200
TZOFFSETTO:+0100
TZNAME:CET
DTSTART:20221030T010000
END:STANDARD
END:VTIMEZONE
BEGIN:VEVENT
DTSTART;TZID=Europe/Berlin:20220811T150000
DTEND;TZID=Europe/Berlin:20220811T170000
DTSTAMP:20260424T181115
CREATED:20220705T095848Z
LAST-MODIFIED:20220725T095941Z
UID:3398-1660230000-1660237200@wohnen-im-pennenfeld.de
SUMMARY:Gesangsnachmittag bei Kaffee und Kuchen
DESCRIPTION:Gemeinsam singen wir quer durch das deutsche Liedgut zu Akkordeon- und Mandolinenbegleitung.\nDie Veranstaltung ist kostenlos. Spenden willkommen. Keine Anmeldung erforderlich.\nLeitung: Frau Dr. M. Knüpling\nInfos unter Nadine Schwarz-Kühle: 0228 2274 2441
URL:https://wohnen-im-pennenfeld.de/termine/gesangsnachmittag-bei-kaffee-und-kuchen-16/
LOCATION:Nachbarschaftstreff Pennenfeld\, Maidenheadstraße 20\, Bonn\, NRW\, 53177\, Deutschland
ORGANIZER;CN="Quartiersmanagement Pennenfeld":MAILTO:wilbertz@vebowag.de
END:VEVENT
BEGIN:VEVENT
DTSTART;TZID=Europe/Berlin:20220810T140000
DTEND;TZID=Europe/Berlin:20220810T163000
DTSTAMP:20260424T181115
CREATED:20220725T092226Z
LAST-MODIFIED:20220725T092226Z
UID:3371-1660140000-1660149000@wohnen-im-pennenfeld.de
SUMMARY:Verbraucher- und Umweltberatung der Verbraucherzentrale
DESCRIPTION:Wir beraten Sie ohne Termin und kostenlos zu folgenden Themen:\n• Medien- und Telekommunikation (Telefon-\, TV-\, Internetverträge; Abos und Abzocke)\n• Finanzen (Inkassobriefe\, dubiose Kreditkartenangebote)\n• Freizeit (Kaufverträge & Reklamation; Haustürgeschäfte; Kaffeefahrten)\n• Energierecht\n• Umweltschutz (Mülltrennung\, Abfallvermeidung\, Gesundheitsschutz)
URL:https://wohnen-im-pennenfeld.de/termine/verbraucher-und-umweltberatung-der-verbraucherzentrale-12/
LOCATION:Nachbarschaftstreff Pennenfeld\, Maidenheadstraße 20\, Bonn\, NRW\, 53177\, Deutschland
END:VEVENT
BEGIN:VEVENT
DTSTART;TZID=Europe/Berlin:20220810T140000
DTEND;TZID=Europe/Berlin:20220810T163000
DTSTAMP:20260424T181115
CREATED:20220705T094119Z
LAST-MODIFIED:20220725T094209Z
UID:3387-1660140000-1660149000@wohnen-im-pennenfeld.de
SUMMARY:Die Rote Tonne öffnet Ihre Klappe für Elektrokleingeräte
DESCRIPTION:
URL:https://wohnen-im-pennenfeld.de/termine/die-rote-tonne-oeffnet-ihre-klappe-fuer-elektrokleingeraete-21/
LOCATION:Nachbarschaftstreff Pennenfeld\, Maidenheadstraße 20\, Bonn\, NRW\, 53177\, Deutschland
END:VEVENT
BEGIN:VEVENT
DTSTART;TZID=Europe/Berlin:20220809T150000
DTEND;TZID=Europe/Berlin:20220809T163000
DTSTAMP:20260424T181115
CREATED:20220705T100150Z
LAST-MODIFIED:20220725T100329Z
UID:3403-1660057200-1660062600@wohnen-im-pennenfeld.de
SUMMARY:Boule-Treff am Boule-Platz in der Fracatistraße
DESCRIPTION:Wir laden Sie ein\, die Kugeln rollen zu lassen. Die Regeln sind schnell erklärt\, kommen Sie gern auch ohne Boule-Erfahrung vorbei!
URL:https://wohnen-im-pennenfeld.de/termine/boule-treff-am-boule-platz-in-der-fracatistrasse-2/
LOCATION:Boule-Platz in der Frascatistraße\, Frascatistraße 15\, Bonn\, NRW\, 53177\, Deutschland
ORGANIZER;CN="Quartiersmanagement Pennenfeld":MAILTO:wilbertz@vebowag.de
END:VEVENT
BEGIN:VEVENT
DTSTART;TZID=Europe/Berlin:20220803T140000
DTEND;TZID=Europe/Berlin:20220803T163000
DTSTAMP:20260424T181115
CREATED:20220725T092100Z
LAST-MODIFIED:20220725T092100Z
UID:3369-1659535200-1659544200@wohnen-im-pennenfeld.de
SUMMARY:Verbraucher- und Umweltberatung der Verbraucherzentrale
DESCRIPTION:Wir beraten Sie ohne Termin und kostenlos zu folgenden Themen:\n• Medien- und Telekommunikation (Telefon-\, TV-\, Internetverträge; Abos und Abzocke)\n• Finanzen (Inkassobriefe\, dubiose Kreditkartenangebote)\n• Freizeit (Kaufverträge & Reklamation; Haustürgeschäfte; Kaffeefahrten)\n• Energierecht\n• Umweltschutz (Mülltrennung\, Abfallvermeidung\, Gesundheitsschutz)
URL:https://wohnen-im-pennenfeld.de/termine/verbraucher-und-umweltberatung-der-verbraucherzentrale-11/
LOCATION:Nachbarschaftstreff Pennenfeld\, Maidenheadstraße 20\, Bonn\, NRW\, 53177\, Deutschland
END:VEVENT
BEGIN:VEVENT
DTSTART;TZID=Europe/Berlin:20220803T140000
DTEND;TZID=Europe/Berlin:20220803T163000
DTSTAMP:20260424T181115
CREATED:20220705T093941Z
LAST-MODIFIED:20220725T094026Z
UID:3385-1659535200-1659544200@wohnen-im-pennenfeld.de
SUMMARY:Die Rote Tonne öffnet Ihre Klappe für Elektrokleingeräte
DESCRIPTION:
URL:https://wohnen-im-pennenfeld.de/termine/die-rote-tonne-oeffnet-ihre-klappe-fuer-elektrokleingeraete-20/
LOCATION:Nachbarschaftstreff Pennenfeld\, Maidenheadstraße 20\, Bonn\, NRW\, 53177\, Deutschland
END:VEVENT
BEGIN:VEVENT
DTSTART;TZID=Europe/Berlin:20220728T150000
DTEND;TZID=Europe/Berlin:20220728T170000
DTSTAMP:20260424T181115
CREATED:20220725T091541Z
LAST-MODIFIED:20220725T091541Z
UID:3362-1659020400-1659027600@wohnen-im-pennenfeld.de
SUMMARY:Spielenachmittag und Doppelkopf/Skat-Runde
DESCRIPTION:Jede/r Interessierte ist herzlich willkommen\, die Würfel mit uns rollen und die Karten fliegen zu lassen. \nSpenden willkommen. Keine Anmeldung erforderlich.
URL:https://wohnen-im-pennenfeld.de/termine/spielenachmittag-und-doppelkopf-skat-runde-2/
LOCATION:Nachbarschaftstreff Pennenfeld\, Maidenheadstraße 20\, Bonn\, NRW\, 53177\, Deutschland
ORGANIZER;CN="Quartiersmanagement Pennenfeld":MAILTO:wilbertz@vebowag.de
END:VEVENT
BEGIN:VEVENT
DTSTART;TZID=Europe/Berlin:20220727T140000
DTEND;TZID=Europe/Berlin:20220727T163000
DTSTAMP:20260424T181115
CREATED:20220725T091905Z
LAST-MODIFIED:20220725T091905Z
UID:3365-1658930400-1658939400@wohnen-im-pennenfeld.de
SUMMARY:Verbraucher- und Umweltberatung der Verbraucherzentrale
DESCRIPTION:Wir beraten Sie ohne Termin und kostenlos zu folgenden Themen:\n• Medien- und Telekommunikation (Telefon-\, TV-\, Internetverträge; Abos und Abzocke)\n• Finanzen (Inkassobriefe\, dubiose Kreditkartenangebote)\n• Freizeit (Kaufverträge & Reklamation; Haustürgeschäfte; Kaffeefahrten)\n• Energierecht\n• Umweltschutz (Mülltrennung\, Abfallvermeidung\, Gesundheitsschutz)
URL:https://wohnen-im-pennenfeld.de/termine/verbraucher-und-umweltberatung-der-verbraucherzentrale-10/
LOCATION:Nachbarschaftstreff Pennenfeld\, Maidenheadstraße 20\, Bonn\, NRW\, 53177\, Deutschland
END:VEVENT
BEGIN:VEVENT
DTSTART;TZID=Europe/Berlin:20220727T140000
DTEND;TZID=Europe/Berlin:20220727T163000
DTSTAMP:20260424T181115
CREATED:20220705T093741Z
LAST-MODIFIED:20220725T093906Z
UID:3382-1658930400-1658939400@wohnen-im-pennenfeld.de
SUMMARY:Die Rote Tonne öffnet Ihre Klappe für Elektrokleingeräte
DESCRIPTION:
URL:https://wohnen-im-pennenfeld.de/termine/die-rote-tonne-oeffnet-ihre-klappe-fuer-elektrokleingeraete-19/
LOCATION:Nachbarschaftstreff Pennenfeld\, Maidenheadstraße 20\, Bonn\, NRW\, 53177\, Deutschland
END:VEVENT
BEGIN:VEVENT
DTSTART;TZID=Europe/Berlin:20220726T110000
DTEND;TZID=Europe/Berlin:20220726T130000
DTSTAMP:20260424T181115
CREATED:20220705T100516Z
LAST-MODIFIED:20220725T100551Z
UID:3406-1658833200-1658840400@wohnen-im-pennenfeld.de
SUMMARY:Lebensmittelausgabe im Nachbarschaftstreff Pennenfeld
DESCRIPTION:
URL:https://wohnen-im-pennenfeld.de/termine/lebensmittelausgabe-im-nachbarschaftstreff-pennenfeld-26/
LOCATION:Nachbarschaftstreff Pennenfeld\, Maidenheadstraße 20\, Bonn\, NRW\, 53177\, Deutschland
ORGANIZER;CN="Quartiersmanagement Pennenfeld":MAILTO:wilbertz@vebowag.de
END:VEVENT
BEGIN:VEVENT
DTSTART;TZID=Europe/Berlin:20220629T140000
DTEND;TZID=Europe/Berlin:20220629T163000
DTSTAMP:20260424T181115
CREATED:20220603T112928Z
LAST-MODIFIED:20220607T183115Z
UID:3292-1656511200-1656520200@wohnen-im-pennenfeld.de
SUMMARY:Verbraucher- und Umweltberatung der Verbraucherzentrale
DESCRIPTION:Wir beraten Sie ohne Termin und kostenlos zu folgenden Themen:\n• Medien- und Telekommunikation (Telefon-\, TV-\, Internetverträge; Abos und Abzocke)\n• Finanzen (Inkassobriefe\, dubiose Kreditkartenangebote)\n• Freizeit (Kaufverträge & Reklamation; Haustürgeschäfte; Kaffeefahrten)\n• Energierecht\n• Umweltschutz (Mülltrennung\, Abfallvermeidung\, Gesundheitsschutz)
URL:https://wohnen-im-pennenfeld.de/termine/verbraucher-und-umweltberatung-der-verbraucherzentrale-8/
LOCATION:Nachbarschaftstreff Pennenfeld\, Maidenheadstraße 20\, Bonn\, NRW\, 53177\, Deutschland
END:VEVENT
BEGIN:VEVENT
DTSTART;TZID=Europe/Berlin:20220629T140000
DTEND;TZID=Europe/Berlin:20220629T163000
DTSTAMP:20260424T181115
CREATED:20220603T111202Z
LAST-MODIFIED:20220607T181300Z
UID:3283-1656511200-1656520200@wohnen-im-pennenfeld.de
SUMMARY:Die Rote Tonne öffnet Ihre Klappe für Elektrokleingeräte
DESCRIPTION:
URL:https://wohnen-im-pennenfeld.de/termine/die-rote-tonne-oeffnet-ihre-klappe-fuer-elektrokleingeraete-18/
LOCATION:Nachbarschaftstreff Pennenfeld\, Maidenheadstraße 20\, Bonn\, NRW\, 53177\, Deutschland
END:VEVENT
BEGIN:VEVENT
DTSTART;TZID=Europe/Berlin:20220623T150000
DTEND;TZID=Europe/Berlin:20220623T170000
DTSTAMP:20260424T181115
CREATED:20220607T192411Z
LAST-MODIFIED:20220607T192411Z
UID:3314-1655996400-1656003600@wohnen-im-pennenfeld.de
SUMMARY:Spielenachmittag und Doppelkopf/Skat-Runde
DESCRIPTION:Jede/r Interessierte ist herzlich willkommen\, die Würfel mit uns rollen und die Karten fliegen zu lassen. \nSpenden willkommen. Keine Anmeldung erforderlich.
URL:https://wohnen-im-pennenfeld.de/termine/spielenachmittag-und-doppelkopf-skat-runde/
LOCATION:Nachbarschaftstreff Pennenfeld\, Maidenheadstraße 20\, Bonn\, NRW\, 53177\, Deutschland
ORGANIZER;CN="Quartiersmanagement Pennenfeld":MAILTO:wilbertz@vebowag.de
END:VEVENT
BEGIN:VEVENT
DTSTART;TZID=Europe/Berlin:20220622T140000
DTEND;TZID=Europe/Berlin:20220622T163000
DTSTAMP:20260424T181115
CREATED:20220603T111725Z
LAST-MODIFIED:20220607T181901Z
UID:3290-1655906400-1655915400@wohnen-im-pennenfeld.de
SUMMARY:Verbraucher- und Umweltberatung der Verbraucherzentrale
DESCRIPTION:Wir beraten Sie ohne Termin und kostenlos zu folgenden Themen:\n• Medien- und Telekommunikation (Telefon-\, TV-\, Internetverträge; Abos und Abzocke)\n• Finanzen (Inkassobriefe\, dubiose Kreditkartenangebote)\n• Freizeit (Kaufverträge & Reklamation; Haustürgeschäfte; Kaffeefahrten)\n• Energierecht\n• Umweltschutz (Mülltrennung\, Abfallvermeidung\, Gesundheitsschutz)
URL:https://wohnen-im-pennenfeld.de/termine/verbraucher-und-umweltberatung-der-verbraucherzentrale-7/
LOCATION:Nachbarschaftstreff Pennenfeld\, Maidenheadstraße 20\, Bonn\, NRW\, 53177\, Deutschland
END:VEVENT
BEGIN:VEVENT
DTSTART;TZID=Europe/Berlin:20220622T140000
DTEND;TZID=Europe/Berlin:20220622T163000
DTSTAMP:20260424T181115
CREATED:20220603T111105Z
LAST-MODIFIED:20220607T181154Z
UID:3281-1655906400-1655915400@wohnen-im-pennenfeld.de
SUMMARY:Die Rote Tonne öffnet Ihre Klappe für Elektrokleingeräte
DESCRIPTION:
URL:https://wohnen-im-pennenfeld.de/termine/die-rote-tonne-oeffnet-ihre-klappe-fuer-elektrokleingeraete-17/
LOCATION:Nachbarschaftstreff Pennenfeld\, Maidenheadstraße 20\, Bonn\, NRW\, 53177\, Deutschland
END:VEVENT
BEGIN:VEVENT
DTSTART;TZID=Europe/Berlin:20220621T160000
DTEND;TZID=Europe/Berlin:20220621T170000
DTSTAMP:20260424T181115
CREATED:20220603T121506Z
LAST-MODIFIED:20220607T192001Z
UID:3311-1655827200-1655830800@wohnen-im-pennenfeld.de
SUMMARY:Pennenfeld Clean Up!
DESCRIPTION:Gemeinsam sammeln wir Müll auf und belohnen uns anschließend dafür mit einem Kaffeeklatsch im Freien. \n\n\n\nGreifzangen\, Handschuhe und Müllsäcke sind vor Ort vorhanden und warten auf Ihren Einsatz.
URL:https://wohnen-im-pennenfeld.de/termine/pennenfeld-clean-up-3/
LOCATION:Treffpunkt: Nachbarschaftstreff Pennenfeld\, Maidenheadstraße 20\, Bonn\, NRW\, 53177\, Deutschland
END:VEVENT
BEGIN:VEVENT
DTSTART;TZID=Europe/Berlin:20220617T150000
DTEND;TZID=Europe/Berlin:20220617T170000
DTSTAMP:20260424T181115
CREATED:20220603T121445Z
LAST-MODIFIED:20220615T095259Z
UID:3309-1655478000-1655485200@wohnen-im-pennenfeld.de
SUMMARY:Repair Café im Nachbarschaftstreff Pennenfeld
DESCRIPTION:In gemütlicher Atmosphäre reparieren wir unter fachkundiger Anleitung Elektrogeräte\, Holzmöbel und anderes. \n\n\n\n\nAnmeldung bis 17.6.2022\, 12 Uhr: 0228/9158 444\, 0228/22 74 24 42 oder info@wohnen-im-pennenfeld.de
URL:https://wohnen-im-pennenfeld.de/termine/repair-cafe-im-nachbarschaftstreff-pennenfeld-2/
LOCATION:Nachbarschaftstreff Pennenfeld\, Maidenheadstraße 20\, Bonn\, NRW\, 53177\, Deutschland
ORGANIZER;CN="Quartiersmanagement Pennenfeld":MAILTO:wilbertz@vebowag.de
END:VEVENT
BEGIN:VEVENT
DTSTART;TZID=Europe/Berlin:20220616T150000
DTEND;TZID=Europe/Berlin:20220616T150000
DTSTAMP:20260424T181115
CREATED:20220603T120952Z
LAST-MODIFIED:20220615T164113Z
UID:3306-1655391600-1655391600@wohnen-im-pennenfeld.de
SUMMARY:Picknick im Park - MUSS LEIDER AUSFALLEN!
DESCRIPTION:Herzliche Einladung zu ein em gemütlichen Picknick bei Kaffee und Kuchen in unserem blühenden PikoPark! \nBitte melden Sie sich bis zum 15.6.2022\, 15 Uhr an unter \n0228 9158 444 oder info@wohnen-im-pennenfeld.de .
URL:https://wohnen-im-pennenfeld.de/termine/picknick-im-park/
LOCATION:PikoPark Pennenfeld\, Nähe Max-Planck-Straße 17-19\, Bonn\, NRW\, 53177\, Deutschland
ORGANIZER;CN="Quartiersmanagement Pennenfeld":MAILTO:wilbertz@vebowag.de
END:VEVENT
BEGIN:VEVENT
DTSTART;TZID=Europe/Berlin:20220615T140000
DTEND;TZID=Europe/Berlin:20220615T163000
DTSTAMP:20260424T181115
CREATED:20220603T111600Z
LAST-MODIFIED:20220607T181707Z
UID:3288-1655301600-1655310600@wohnen-im-pennenfeld.de
SUMMARY:Verbraucher- und Umweltberatung der Verbraucherzentrale
DESCRIPTION:Wir beraten Sie ohne Termin und kostenlos zu folgenden Themen: \n\n\n\n\n• Medien- und Telekommunikation (Telefon-\, TV-\, Internetverträge; Abos und Abzocke)\n• Finanzen (Inkassobriefe\, dubiose Kreditkartenangebote)\n• Freizeit (Kaufverträge & Reklamation; Haustürgeschäfte; Kaffeefahrten)\n• Energierecht\n• Umweltschutz (Mülltrennung\, Abfallvermeidung\, Gesundheitsschutz)
URL:https://wohnen-im-pennenfeld.de/termine/verbraucher-und-umweltberatung-der-verbraucherzentrale-6/
LOCATION:Nachbarschaftstreff Pennenfeld\, Maidenheadstraße 20\, Bonn\, NRW\, 53177\, Deutschland
END:VEVENT
BEGIN:VEVENT
DTSTART;TZID=Europe/Berlin:20220615T140000
DTEND;TZID=Europe/Berlin:20220615T163000
DTSTAMP:20260424T181115
CREATED:20220603T111417Z
LAST-MODIFIED:20220607T181523Z
UID:3286-1655301600-1655310600@wohnen-im-pennenfeld.de
SUMMARY:Die Rote Tonne öffnet Ihre Klappe für Elektrokleingeräte
DESCRIPTION:
URL:https://wohnen-im-pennenfeld.de/termine/die-rote-tonne-oeffnet-ihre-klappe-fuer-elektrokleingeraete-16/
LOCATION:Nachbarschaftstreff Pennenfeld\, Maidenheadstraße 20\, Bonn\, NRW\, 53177\, Deutschland
END:VEVENT
BEGIN:VEVENT
DTSTART;TZID=Europe/Berlin:20220615T120000
DTEND;TZID=Europe/Berlin:20220615T120000
DTSTAMP:20260424T181115
CREATED:20220603T105542Z
LAST-MODIFIED:20220607T175624Z
UID:3263-1655294400-1655294400@wohnen-im-pennenfeld.de
SUMMARY:Mittagstisch – ein deftiges Essen nach Hausfrauenart
DESCRIPTION:Kostenbeitrag inkl. Nachtisch und Kaffee:  € 4\,-.\nBitte melden Sie sich bis zum 13.6.2022 an – Nadine Schwarz-Kühle: 0228-2274 2441
URL:https://wohnen-im-pennenfeld.de/termine/mittagstisch-ein-deftiges-essen-nach-hausfrauenart-11/
LOCATION:Nachbarschaftstreff Pennenfeld\, Maidenheadstraße 20\, Bonn\, NRW\, 53177\, Deutschland
ORGANIZER;CN="Quartiersmanagement Pennenfeld":MAILTO:wilbertz@vebowag.de
END:VEVENT
BEGIN:VEVENT
DTSTART;TZID=Europe/Berlin:20220614T150000
DTEND;TZID=Europe/Berlin:20220614T170000
DTSTAMP:20260424T181115
CREATED:20220603T120331Z
LAST-MODIFIED:20220607T190650Z
UID:3303-1655218800-1655226000@wohnen-im-pennenfeld.de
SUMMARY:Boule-Treff am Boule-Platz in der Fracatistraße
DESCRIPTION:Wir laden Sie ein\, die Kugeln rollen zu lassen\, dazu gibt´s Kaffee und Kuchen.
URL:https://wohnen-im-pennenfeld.de/termine/boule-treff-am-boule-platz-in-der-fracatistrasse/
LOCATION:Boule-Platz in der Frascatistraße\, Frascatistraße 15\, Bonn\, NRW\, 53177\, Deutschland
ORGANIZER;CN="Quartiersmanagement Pennenfeld":MAILTO:wilbertz@vebowag.de
END:VEVENT
BEGIN:VEVENT
DTSTART;TZID=Europe/Berlin:20220611T100000
DTEND;TZID=Europe/Berlin:20220611T120000
DTSTAMP:20260424T181115
CREATED:20220601T153611Z
LAST-MODIFIED:20220607T191100Z
UID:3300-1654941600-1654948800@wohnen-im-pennenfeld.de
SUMMARY:Pflegeaktion in PikoPark und Naturinsel
DESCRIPTION:
URL:https://wohnen-im-pennenfeld.de/termine/pflegeaktion-in-pikopark-und-naturinsel/
LOCATION:PikoPark Pennenfeld\, Nähe Max-Planck-Straße 17-19\, Bonn\, NRW\, 53177\, Deutschland
ORGANIZER;CN="Quartiersmanagement Pennenfeld":MAILTO:wilbertz@vebowag.de
END:VEVENT
BEGIN:VEVENT
DTSTART;TZID=Europe/Berlin:20220610T100000
DTEND;TZID=Europe/Berlin:20220610T113000
DTSTAMP:20260424T181115
CREATED:20220603T113514Z
LAST-MODIFIED:20220607T183559Z
UID:3298-1654855200-1654860600@wohnen-im-pennenfeld.de
SUMMARY:Interkulturelles Frauenfrühstück
DESCRIPTION:Herzliche Einladung zu unserem interkulturellen Frauenfrühstück \n\n\n\nBitte bringen Sie einen kleinen Beitrag zum gemeinsamen bunten Buffet mit. \nDie Veranstaltung ist kostenlos. Keine Anmeldung erforderlich.
URL:https://wohnen-im-pennenfeld.de/termine/interkulturelles-frauenfruehstueck-2/
LOCATION:Nachbarschaftstreff Pennenfeld\, Maidenheadstraße 20\, Bonn\, NRW\, 53177\, Deutschland
ORGANIZER;CN="Quartiersmanagement Pennenfeld":MAILTO:wilbertz@vebowag.de
END:VEVENT
BEGIN:VEVENT
DTSTART;TZID=Europe/Berlin:20220609T150000
DTEND;TZID=Europe/Berlin:20220609T170000
DTSTAMP:20260424T181115
CREATED:20220608T182824Z
LAST-MODIFIED:20220725T191114Z
UID:3337-1654786800-1654794000@wohnen-im-pennenfeld.de
SUMMARY:Gesangsnachmittag bei Kaffee und Kuchen
DESCRIPTION:Gemeinsam singen wir quer durch das deutsche Liedgut zu Akkordeon- und Mandolinenbegleitung.\nDie Veranstaltung ist kostenlos\, Spenden willkommen\, keine Anmeldung erforderlich.\nLeitung: Frau Dr. M. Knüpling\nInfos unter Nadine Schwarz-Kühle: 0228 2274 2441
URL:https://wohnen-im-pennenfeld.de/termine/gesangsnachmittag-bei-kaffee-und-kuchen-15/
LOCATION:Nachbarschaftstreff Pennenfeld\, Maidenheadstraße 20\, Bonn\, NRW\, 53177\, Deutschland
ORGANIZER;CN="Quartiersmanagement Pennenfeld":MAILTO:wilbertz@vebowag.de
END:VEVENT
BEGIN:VEVENT
DTSTART;TZID=Europe/Berlin:20220608T140000
DTEND;TZID=Europe/Berlin:20220608T163000
DTSTAMP:20260424T181115
CREATED:20220603T113135Z
LAST-MODIFIED:20220607T183226Z
UID:3294-1654696800-1654705800@wohnen-im-pennenfeld.de
SUMMARY:Verbraucher- und Umweltberatung der Verbraucherzentrale
DESCRIPTION:Wir beraten Sie ohne Termin und kostenlos zu folgenden Themen:\n• Medien- und Telekommunikation (Telefon-\, TV-\, Internetverträge; Abos und Abzocke)\n• Finanzen (Inkassobriefe\, dubiose Kreditkartenangebote)\n• Freizeit (Kaufverträge & Reklamation; Haustürgeschäfte; Kaffeefahrten)\n• Energierecht\n• Umweltschutz (Mülltrennung\, Abfallvermeidung\, Gesundheitsschutz)
URL:https://wohnen-im-pennenfeld.de/termine/verbraucher-und-umweltberatung-der-verbraucherzentrale-9/
LOCATION:Nachbarschaftstreff Pennenfeld\, Maidenheadstraße 20\, Bonn\, NRW\, 53177\, Deutschland
END:VEVENT
BEGIN:VEVENT
DTSTART;TZID=Europe/Berlin:20220608T140000
DTEND;TZID=Europe/Berlin:20220608T163000
DTSTAMP:20260424T181115
CREATED:20220603T110649Z
LAST-MODIFIED:20220607T180806Z
UID:3276-1654696800-1654705800@wohnen-im-pennenfeld.de
SUMMARY:Die Rote Tonne öffnet Ihre Klappe für Elektrokleingeräte
DESCRIPTION:
URL:https://wohnen-im-pennenfeld.de/termine/die-rote-tonne-oeffnet-ihre-klappe-fuer-elektrokleingeraete-15/
LOCATION:Nachbarschaftstreff Pennenfeld\, Maidenheadstraße 20\, Bonn\, NRW\, 53177\, Deutschland
END:VEVENT
BEGIN:VEVENT
DTSTART;TZID=Europe/Berlin:20220605T120000
DTEND;TZID=Europe/Berlin:20220605T170000
DTSTAMP:20260424T181115
CREATED:20220527T132459Z
LAST-MODIFIED:20220527T132822Z
UID:3255-1654430400-1654448400@wohnen-im-pennenfeld.de
SUMMARY:Offene Gartenpforte
DESCRIPTION:in der Naturinsel Pennenfeld (für mehr Infos hier anklicken) . \nGartenbesichtigung bei Kaffee und Kuchen.
URL:https://wohnen-im-pennenfeld.de/termine/offene-gartenpforte-2/
LOCATION:Naturinsel Pennenfeld\, Maidenheadstraße 18-20 / Max-Planck-Straße\, Bonn\, 53177
ORGANIZER;CN="Quartiersmanagement Pennenfeld":MAILTO:wilbertz@vebowag.de
END:VEVENT
BEGIN:VEVENT
DTSTART;TZID=Europe/Berlin:20220601T140000
DTEND;TZID=Europe/Berlin:20220601T163000
DTSTAMP:20260424T181115
CREATED:20220530T121330Z
LAST-MODIFIED:20220607T175905Z
UID:3265-1654092000-1654101000@wohnen-im-pennenfeld.de
SUMMARY:Die Rote Tonne öffnet Ihre Klappe für Elektrokleingeräte
DESCRIPTION:
URL:https://wohnen-im-pennenfeld.de/termine/die-rote-tonne-oeffnet-ihre-klappe-fuer-elektrokleingeraete-14/
LOCATION:Nachbarschaftstreff Pennenfeld\, Maidenheadstraße 20\, Bonn\, NRW\, 53177\, Deutschland
END:VEVENT
BEGIN:VEVENT
DTSTART;TZID=Europe/Berlin:20220601T140000
DTEND;TZID=Europe/Berlin:20220601T163000
DTSTAMP:20260424T181115
CREATED:20220530T110107Z
LAST-MODIFIED:20220607T180213Z
UID:3268-1654092000-1654101000@wohnen-im-pennenfeld.de
SUMMARY:Verbraucher- und Umweltberatung der Verbraucherzentrale
DESCRIPTION:Wir beraten Sie ohne Termin und kostenlos zu folgenden Themen:\n• Medien- und Telekommunikation (Telefon-\, TV-\, Internetverträge; Abos und Abzocke)\n• Finanzen (Inkassobriefe\, dubiose Kreditkartenangebote)\n• Freizeit (Kaufverträge & Reklamation; Haustürgeschäfte; Kaffeefahrten)\n• Energierecht\n• Umweltschutz (Mülltrennung\, Abfallvermeidung\, Gesundheitsschutz)
URL:https://wohnen-im-pennenfeld.de/termine/verbraucher-und-umweltberatung-der-verbraucherzentrale-5/
END:VEVENT
END:VCALENDAR