﻿BEGIN:VCALENDAR
VERSION:2.0
PRODID:-//Pennenfeld - ECPv6.10.0//NONSGML v1.0//EN
CALSCALE:GREGORIAN
METHOD:PUBLISH
X-WR-CALNAME:Pennenfeld
X-ORIGINAL-URL:https://wohnen-im-pennenfeld.de
X-WR-CALDESC:Veranstaltungen für Pennenfeld
REFRESH-INTERVAL;VALUE=DURATION:PT1H
X-Robots-Tag:noindex
X-PUBLISHED-TTL:PT1H
BEGIN:VTIMEZONE
TZID:Europe/Berlin
BEGIN:DAYLIGHT
TZOFFSETFROM:+0100
TZOFFSETTO:+0200
TZNAME:CEST
DTSTART:20220327T010000
END:DAYLIGHT
BEGIN:STANDARD
TZOFFSETFROM:+0200
TZOFFSETTO:+0100
TZNAME:CET
DTSTART:20221030T010000
END:STANDARD
END:VTIMEZONE
BEGIN:VEVENT
DTSTART;TZID=Europe/Berlin:20220601T140000
DTEND;TZID=Europe/Berlin:20220601T163000
DTSTAMP:20260424T230848
CREATED:20220530T110107Z
LAST-MODIFIED:20220607T180213Z
UID:3268-1654092000-1654101000@wohnen-im-pennenfeld.de
SUMMARY:Verbraucher- und Umweltberatung der Verbraucherzentrale
DESCRIPTION:Wir beraten Sie ohne Termin und kostenlos zu folgenden Themen:\n• Medien- und Telekommunikation (Telefon-\, TV-\, Internetverträge; Abos und Abzocke)\n• Finanzen (Inkassobriefe\, dubiose Kreditkartenangebote)\n• Freizeit (Kaufverträge & Reklamation; Haustürgeschäfte; Kaffeefahrten)\n• Energierecht\n• Umweltschutz (Mülltrennung\, Abfallvermeidung\, Gesundheitsschutz)
URL:https://wohnen-im-pennenfeld.de/termine/verbraucher-und-umweltberatung-der-verbraucherzentrale-5/
END:VEVENT
BEGIN:VEVENT
DTSTART;TZID=Europe/Berlin:20220525T140000
DTEND;TZID=Europe/Berlin:20220525T163000
DTSTAMP:20260424T230848
CREATED:20220502T165007Z
LAST-MODIFIED:20220509T185403Z
UID:3200-1653487200-1653496200@wohnen-im-pennenfeld.de
SUMMARY:Die Rote Tonne öffnet Ihre Klappe für Elektrokleingeräte
DESCRIPTION:
URL:https://wohnen-im-pennenfeld.de/termine/die-rote-tonne-oeffnet-ihre-klappe-fuer-elektrokleingeraete-12/
LOCATION:Nachbarschaftstreff Pennenfeld\, Maidenheadstraße 20\, Bonn\, NRW\, 53177\, Deutschland
END:VEVENT
BEGIN:VEVENT
DTSTART;TZID=Europe/Berlin:20220525T080000
DTEND;TZID=Europe/Berlin:20220525T170000
DTSTAMP:20260424T230848
CREATED:20220502T164400Z
LAST-MODIFIED:20220509T184444Z
UID:3194-1653465600-1653498000@wohnen-im-pennenfeld.de
SUMMARY:Verbraucher- und Umweltberatung der Verbraucherzentrale
DESCRIPTION:Wir beraten Sie ohne Termin und kostenlos zu folgenden Themen:\n• Medien- und Telekommunikation (Telefon-\, TV-\, Internetverträge; Abos und Abzocke)\n• Finanzen (Inkassobriefe\, dubiose Kreditkartenangebote)\n• Freizeit (Kaufverträge & Reklamation; Haustürgeschäfte; Kaffeefahrten)\n• Energierecht\n• Umweltschutz (Mülltrennung\, Abfallvermeidung\, Gesundheitsschutz)
URL:https://wohnen-im-pennenfeld.de/termine/verbraucher-und-umweltberatung-der-verbraucherzentrale-3/
END:VEVENT
BEGIN:VEVENT
DTSTART;TZID=Europe/Berlin:20220524T150000
DTEND;TZID=Europe/Berlin:20220524T170000
DTSTAMP:20260424T230848
CREATED:20220502T173236Z
LAST-MODIFIED:20220509T193421Z
UID:3230-1653404400-1653411600@wohnen-im-pennenfeld.de
SUMMARY:Herren Doppelkopf und Skat! Wir suchen neue Mitspieler!!!
DESCRIPTION:Melden Sie sich gerne an unter: 0228 22742441 oder kommen Sie an dem Tag einfach vorbei. Die Veranstaltung ist kostenlos\, spenden willkommen.
URL:https://wohnen-im-pennenfeld.de/termine/herren-doppelkopf-und-skat-wir-suchen-neue-mitspieler-2/
LOCATION:Nachbarschaftstreff Pennenfeld\, Maidenheadstraße 20\, Bonn\, NRW\, 53177\, Deutschland
ORGANIZER;CN="Quartiersmanagement Pennenfeld":MAILTO:wilbertz@vebowag.de
END:VEVENT
BEGIN:VEVENT
DTSTART;TZID=Europe/Berlin:20220520T170000
DTEND;TZID=Europe/Berlin:20220520T200000
DTSTAMP:20260424T230848
CREATED:20220506T172915Z
LAST-MODIFIED:20220509T193042Z
UID:3227-1653066000-1653076800@wohnen-im-pennenfeld.de
SUMMARY:Tag des Nachbarn
DESCRIPTION:
URL:https://wohnen-im-pennenfeld.de/termine/tag-des-nachbarn/
LOCATION:Garten des Nachbarschaftstreffs Pennenfeld
ORGANIZER;CN="Quartiersmanagement Pennenfeld":MAILTO:wilbertz@vebowag.de
END:VEVENT
BEGIN:VEVENT
DTSTART;TZID=Europe/Berlin:20220519T153000
DTEND;TZID=Europe/Berlin:20220519T163000
DTSTAMP:20260424T230848
CREATED:20220502T163343Z
LAST-MODIFIED:20220509T190113Z
UID:3184-1652974200-1652977800@wohnen-im-pennenfeld.de
SUMMARY:English conversation
DESCRIPTION:Neue TeilnehmerInnen sind herzlich willkommen.\nKenntnissen aus alten Schulzeiten können hier in vertrauter geselliger Atmosphäre Leben eingehaucht und diese aufgefrischt werden.\nDer Kurs findet immer am 1. und 3. Donnerstag eines jeweiligen Monats statt.\nKosten: € 5\,- pro Monat.\nBitte melden Sie sich an: 0228-2274 2441 (AB). Leitung: Brinda Krosta. \n 
URL:https://wohnen-im-pennenfeld.de/termine/english-conversation-5/
LOCATION:Nachbarschaftstreff Pennenfeld\, Maidenheadstraße 20\, Bonn\, NRW\, 53177\, Deutschland
ORGANIZER;CN="Quartiersmanagement Pennenfeld":MAILTO:wilbertz@vebowag.de
END:VEVENT
BEGIN:VEVENT
DTSTART;TZID=Europe/Berlin:20220518T140000
DTEND;TZID=Europe/Berlin:20220518T163000
DTSTAMP:20260424T230848
CREATED:20220502T165132Z
LAST-MODIFIED:20220509T185229Z
UID:3203-1652882400-1652891400@wohnen-im-pennenfeld.de
SUMMARY:Die Rote Tonne öffnet Ihre Klappe für Elektrokleingeräte
DESCRIPTION:
URL:https://wohnen-im-pennenfeld.de/termine/die-rote-tonne-oeffnet-ihre-klappe-fuer-elektrokleingeraete-13/
LOCATION:Nachbarschaftstreff Pennenfeld\, Maidenheadstraße 20\, Bonn\, NRW\, 53177\, Deutschland
END:VEVENT
BEGIN:VEVENT
DTSTART;TZID=Europe/Berlin:20220518T140000
DTEND;TZID=Europe/Berlin:20220518T163000
DTSTAMP:20260424T230848
CREATED:20220502T163816Z
LAST-MODIFIED:20220509T185632Z
UID:3189-1652882400-1652891400@wohnen-im-pennenfeld.de
SUMMARY:Verbraucher- und Umweltberatung der Verbraucherzentrale
DESCRIPTION:Wir beraten Sie ohne Termin und kostenlos zu folgenden Themen:\n• Medien- und Telekommunikation (Telefon-\, TV-\, Internetverträge; Abos und Abzocke)\n• Finanzen (Inkassobriefe\, dubiose Kreditkartenangebote)\n• Freizeit (Kaufverträge & Reklamation; Haustürgeschäfte; Kaffeefahrten)\n• Energierecht\n• Umweltschutz (Mülltrennung\, Abfallvermeidung\, Gesundheitsschutz)
URL:https://wohnen-im-pennenfeld.de/termine/3189/
LOCATION:Nachbarschaftstreff Pennenfeld\, Maidenheadstraße 20\, Bonn\, NRW\, 53177\, Deutschland
END:VEVENT
BEGIN:VEVENT
DTSTART;TZID=Europe/Berlin:20220518T120000
DTEND;TZID=Europe/Berlin:20220518T120000
DTSTAMP:20260424T230848
CREATED:20220502T172006Z
LAST-MODIFIED:20220509T192449Z
UID:3220-1652875200-1652875200@wohnen-im-pennenfeld.de
SUMMARY:Mittagstisch – ein deftiges Essen nach Hausfrauenart
DESCRIPTION:Kostenbeitrag inkl. Nachtisch und Kaffee:  € 4\,-.\nBitte melden Sie sich bis zum 13.5.2022 an: Schwarz-Kühle: 0228-2274 2441
URL:https://wohnen-im-pennenfeld.de/termine/mittagstisch-ein-deftiges-essen-nach-hausfrauenart-10/
LOCATION:Nachbarschaftstreff Pennenfeld\, Maidenheadstraße 20\, Bonn\, NRW\, 53177\, Deutschland
ORGANIZER;CN="Quartiersmanagement Pennenfeld":MAILTO:wilbertz@vebowag.de
END:VEVENT
BEGIN:VEVENT
DTSTART;TZID=Europe/Berlin:20220517T160000
DTEND;TZID=Europe/Berlin:20220517T170000
DTSTAMP:20260424T230848
CREATED:20220502T171517Z
LAST-MODIFIED:20220509T192534Z
UID:3218-1652803200-1652806800@wohnen-im-pennenfeld.de
SUMMARY:Pennenfeld Clean Up! – Gemeinsam sammeln wir Müll auf und belohnen uns anschließend dafür mit einem Kaffeeklatsch im Freien.
DESCRIPTION:Greifzangen\, Handschuhe und Müllsäcke sind vor Ort vorhanden und warten auf Ihren Einsatz.
URL:https://wohnen-im-pennenfeld.de/termine/pennenfeld-clean-up-gemeinsam-sammeln-wir-muell-auf-und-belohnen-uns-anschliessend-dafuer-mit-einem-kaffeeklatsch-im-freien-2/
LOCATION:Treffpunkt: Nachbarschaftstreff Pennenfeld\, Maidenheadstraße 20\, Bonn\, NRW\, 53177\, Deutschland
END:VEVENT
BEGIN:VEVENT
DTSTART;TZID=Europe/Berlin:20220514T120000
DTEND;TZID=Europe/Berlin:20220514T170000
DTSTAMP:20260424T230848
CREATED:20220502T170540Z
LAST-MODIFIED:20220509T191504Z
UID:3212-1652529600-1652547600@wohnen-im-pennenfeld.de
SUMMARY:Offene Gartenpforte
DESCRIPTION:in der Naturinsel Pennenfeld (für mehr Infos hier anklicken) und \nim PikoPark Pennenfeld (für mehr Infos hier anklicken) . \nGartenbesichtigung bei Kaffee und Kuchen.
URL:https://wohnen-im-pennenfeld.de/termine/offene-gartenpforte/
LOCATION:Naturinsel Pennenfeld\, Maidenheadstraße 18-20 / Max-Planck-Straße\, Bonn\, 53177
ORGANIZER;CN="Quartiersmanagement Pennenfeld":MAILTO:wilbertz@vebowag.de
END:VEVENT
BEGIN:VEVENT
DTSTART;TZID=Europe/Berlin:20220513T100000
DTEND;TZID=Europe/Berlin:20220513T113000
DTSTAMP:20260424T230848
CREATED:20220502T170300Z
LAST-MODIFIED:20220509T190510Z
UID:3210-1652436000-1652441400@wohnen-im-pennenfeld.de
SUMMARY:Interkulturelles Frauenfrühstück
DESCRIPTION:Bitte bringen Sie einen kleinen Beitrag zum gemeinsamen bunten Buffet mit. \nDie Veranstaltung ist kostenlos.
URL:https://wohnen-im-pennenfeld.de/termine/interkulturelles-frauenfruehstueck/
LOCATION:Nachbarschaftstreff Pennenfeld\, Maidenheadstraße 20\, Bonn\, NRW\, 53177\, Deutschland
ORGANIZER;CN="Quartiersmanagement Pennenfeld":MAILTO:wilbertz@vebowag.de
END:VEVENT
BEGIN:VEVENT
DTSTART;TZID=Europe/Berlin:20220512T150000
DTEND;TZID=Europe/Berlin:20220512T170000
DTSTAMP:20260424T230848
CREATED:20220502T165842Z
LAST-MODIFIED:20220509T190041Z
UID:3206-1652367600-1652374800@wohnen-im-pennenfeld.de
SUMMARY:Gesangsnachmittag bei Kaffee und Kuchen
DESCRIPTION:Gemeinsam singen wir Lieder quer durch das deutsche Liederbuch zu Akkordeon- und\nMandolinebegleitung.\nDie Veranstaltung ist kostenlos\, Spenden willkommen\, keine Anmeldung erforderlich.\nLeitung: Frau Dr. M. Knüpling. Infos unter:  Nadine Schwarz-Kühle: 0228-2274 2441 \n 
URL:https://wohnen-im-pennenfeld.de/termine/gesangsnachmittag-bei-kaffee-und-kuchen-14/
LOCATION:Nachbarschaftstreff Pennenfeld\, Maidenheadstraße 20\, Bonn\, NRW\, 53177\, Deutschland
ORGANIZER;CN="Quartiersmanagement Pennenfeld":MAILTO:wilbertz@vebowag.de
END:VEVENT
BEGIN:VEVENT
DTSTART;TZID=Europe/Berlin:20220511T140000
DTEND;TZID=Europe/Berlin:20220511T163000
DTSTAMP:20260424T230848
CREATED:20220502T164456Z
LAST-MODIFIED:20220509T185757Z
UID:3196-1652277600-1652286600@wohnen-im-pennenfeld.de
SUMMARY:Die Rote Tonne öffnet Ihre Klappe für Elektrokleingeräte
DESCRIPTION:
URL:https://wohnen-im-pennenfeld.de/termine/verbraucher-und-umweltberatung-der-verbraucherzentrale-4/
LOCATION:Nachbarschaftstreff Pennenfeld\, Maidenheadstraße 20\, Bonn\, NRW\, 53177\, Deutschland
END:VEVENT
BEGIN:VEVENT
DTSTART;TZID=Europe/Berlin:20220511T140000
DTEND;TZID=Europe/Berlin:20220511T163000
DTSTAMP:20260424T230848
CREATED:20220502T164039Z
LAST-MODIFIED:20220509T185325Z
UID:3192-1652277600-1652286600@wohnen-im-pennenfeld.de
SUMMARY:Verbraucher- und Umweltberatung der Verbraucherzentrale
DESCRIPTION:Wir beraten Sie ohne Termin und kostenlos zu folgenden Themen:\n• Medien- und Telekommunikation (Telefon-\, TV-\, Internetverträge; Abos und Abzocke)\n• Finanzen (Inkassobriefe\, dubiose Kreditkartenangebote)\n• Freizeit (Kaufverträge & Reklamation; Haustürgeschäfte; Kaffeefahrten)\n• Energierecht\n• Umweltschutz (Mülltrennung\, Abfallvermeidung\, Gesundheitsschutz)
URL:https://wohnen-im-pennenfeld.de/termine/verbraucher-und-umweltberatung-der-verbraucherzentrale-2/
LOCATION:Nachbarschaftstreff Pennenfeld\, Maidenheadstraße 20\, Bonn\, NRW\, 53177\, Deutschland
END:VEVENT
BEGIN:VEVENT
DTSTART;TZID=Europe/Berlin:20220505T153000
DTEND;TZID=Europe/Berlin:20220505T163000
DTSTAMP:20260424T230848
CREATED:20220502T160857Z
LAST-MODIFIED:20220509T190151Z
UID:3152-1651764600-1651768200@wohnen-im-pennenfeld.de
SUMMARY:English conversation
DESCRIPTION:Neue TeilnehmerInnen sind herzlich willkommen.\nKenntnissen aus alten Schulzeiten können hier in vertrauter geselliger Atmosphäre Leben eingehaucht und diese aufgefrischt werden.\nDer Kurs findet immer am 1. und 3. Donnerstag eines jeweiligen Monats statt.\nKosten: € 5\,- pro Monat.\nBitte melden Sie sich an: 0228-2274 2441 (AB). Leitung: Brinda Krosta.
URL:https://wohnen-im-pennenfeld.de/termine/english-conversation-4/
LOCATION:Nachbarschaftstreff Pennenfeld\, Maidenheadstraße 20\, Bonn\, NRW\, 53177\, Deutschland
ORGANIZER;CN="Quartiersmanagement Pennenfeld":MAILTO:wilbertz@vebowag.de
END:VEVENT
BEGIN:VEVENT
DTSTART;TZID=Europe/Berlin:20220504T140000
DTEND;TZID=Europe/Berlin:20220504T163000
DTSTAMP:20260424T230848
CREATED:20220503T201332Z
LAST-MODIFIED:20220509T184237Z
UID:3159-1651672800-1651681800@wohnen-im-pennenfeld.de
SUMMARY:Die Rote Tonne öffnet Ihre Klappe für Elektrokleingeräte
DESCRIPTION:
URL:https://wohnen-im-pennenfeld.de/termine/die-rote-tonne-oeffnet-ihre-klappe-fuer-elektrokleingeraete-11/
END:VEVENT
BEGIN:VEVENT
DTSTART;TZID=Europe/Berlin:20220504T140000
DTEND;TZID=Europe/Berlin:20220504T163000
DTSTAMP:20260424T230848
CREATED:20220503T201135Z
LAST-MODIFIED:20220503T201438Z
UID:3157-1651672800-1651681800@wohnen-im-pennenfeld.de
SUMMARY:Verbraucher- und Umweltberatung der Verbraucherzentrale
DESCRIPTION:Wir beraten Sie ohne Termin und kostenlos zu folgenden Themen:\n• Medien- und Telekommunikation (Telefon-\, TV-\, Internetverträge; Abos und Abzocke)\n• Finanzen (Inkassobriefe\, dubiose Kreditkartenangebote)\n• Freizeit (Kaufverträge & Reklamation; Haustürgeschäfte; Kaffeefahrten)\n• Energierecht\n• Umweltschutz (Mülltrennung\, Abfallvermeidung\, Gesundheitsschutz)
URL:https://wohnen-im-pennenfeld.de/termine/verbraucher-und-umweltberatung-der-verbraucherzentrale/
LOCATION:Nachbarschaftstreff Pennenfeld\, Maidenheadstraße 20\, Bonn\, NRW\, 53177\, Deutschland
END:VEVENT
BEGIN:VEVENT
DTSTART;TZID=Europe/Berlin:20220501T160000
DTEND;TZID=Europe/Berlin:20220501T160000
DTSTAMP:20260424T230848
CREATED:20220416T130708Z
LAST-MODIFIED:20220429T090822Z
UID:3136-1651420800-1651420800@wohnen-im-pennenfeld.de
SUMMARY:Maifest 2022
DESCRIPTION:
URL:https://wohnen-im-pennenfeld.de/termine/maifest-2022/
LOCATION:Vor dem Netto-Einkaufsmarkt\, Zentrum Pennenfeld - Max-Planck-Str/Albertus-Magnus-Str.\, Bonn\, NRW\, 53177
END:VEVENT
BEGIN:VEVENT
DTSTART;TZID=Europe/Berlin:20220429T140000
DTEND;TZID=Europe/Berlin:20220429T170000
DTSTAMP:20260424T230848
CREATED:20220425T113730Z
LAST-MODIFIED:20220428T113957Z
UID:3119-1651240800-1651251600@wohnen-im-pennenfeld.de
SUMMARY:Grüner Workshop im Nachbarschaftstreff Pennenfeld
DESCRIPTION:
URL:https://wohnen-im-pennenfeld.de/termine/gruener-workshop/
LOCATION:Nachbarschaftstreff Pennenfeld\, Maidenheadstraße 20\, Bonn\, NRW\, 53177\, Deutschland
ORGANIZER;CN="Quartiersmanagement Pennenfeld":MAILTO:wilbertz@vebowag.de
END:VEVENT
BEGIN:VEVENT
DTSTART;TZID=Europe/Berlin:20220429T140000
DTEND;TZID=Europe/Berlin:20220429T170000
DTSTAMP:20260424T230848
CREATED:20220401T142118Z
LAST-MODIFIED:20220411T212427Z
UID:3054-1651240800-1651251600@wohnen-im-pennenfeld.de
SUMMARY:Wie das Gärtnern Generationen und Kulturen\, Erinnerungen und Zukünftiges verbindet
DESCRIPTION:Workshop mit Herrn Michael Angenfort\,\nAWO OV Bad Godesberg – war immer schon Gärtner \nWir nähern uns dem Thema Garten zunächst mit einer Einführung zur Bedeutung des Gartens in den unterschiedlichen Kulturen und geschichtlichen Zeiträumen. Danach möchten wir Sie zu einem Austausch über Ihre eigenen biografischen Garten-Erlebnisse einladen – auch ein fehlender Garten ist ein Gartenerlebnis. Nach einer Kaffeepause werden wir uns unserer konkreten Nachbarschaft zuwenden\, durch den Naturgarten streifen und die Frage bewegen\, wie wir uns die Flächen\, die uns umgeben\, Balkone und Terrassen\, gärtnerisch aneignen können.
URL:https://wohnen-im-pennenfeld.de/termine/wie-das-gaertnern-generationen-und-kulturen-erinnerungen-und-zukuenftiges-verbindet/
LOCATION:Nachbarschaftstreff Pennenfeld\, Maidenheadstraße 20\, Bonn\, NRW\, 53177\, Deutschland
ORGANIZER;CN="Quartiersmanagement Pennenfeld":MAILTO:wilbertz@vebowag.de
END:VEVENT
BEGIN:VEVENT
DTSTART;TZID=Europe/Berlin:20220428T150000
DTEND;TZID=Europe/Berlin:20220428T170000
DTSTAMP:20260424T230848
CREATED:20220401T141747Z
LAST-MODIFIED:20220411T211843Z
UID:3049-1651158000-1651165200@wohnen-im-pennenfeld.de
SUMMARY:Spielenachmittag
DESCRIPTION:Lustige Brett- und Kartenspiele für Jung & Alt. Jede/r Interessierte ist herzlich\nwillkommen die Würfel mit uns rollen zu lassen. Keine Anmeldung erforderlich. \nDie Veranstaltung findt unter den aktuellen Hygienebedingungen und unter Berücksichtigung der drei\nGs: geimpft\, genesen\, getestet statt.\nBitte bringen Sie zu allen Veranstaltungen die entsprechenden Nachweise mit. Vielen Dank für Ihr Verständnis!
URL:https://wohnen-im-pennenfeld.de/termine/spielenachmittag-8/
LOCATION:Nachbarschaftstreff Pennenfeld\, Maidenheadstraße 20\, Bonn\, NRW\, 53177\, Deutschland
ORGANIZER;CN="Quartiersmanagement Pennenfeld":MAILTO:wilbertz@vebowag.de
END:VEVENT
BEGIN:VEVENT
DTSTART;TZID=Europe/Berlin:20220427T150000
DTEND;TZID=Europe/Berlin:20220427T170000
DTSTAMP:20260424T230848
CREATED:20220401T145151Z
LAST-MODIFIED:20220411T215213Z
UID:3064-1651071600-1651078800@wohnen-im-pennenfeld.de
SUMMARY:Repair Café im Nachbarschaftstreff Pennenfeld - aufgrund des Feiertags nicht am 3. Freitag\, sondern am letzten Mittwoch des Monats!
DESCRIPTION:In gemütlicher Atmosphäre reparieren wir unter fachkundiger Anleitung Elektrogeräte\, Holzmöbel und anderes. \nAnmeldung bis 27.4.2022\, 12 Uhr: 0228/9158 444\, 0228/22 74 24 42 oder info@wohnen-im-pennenfeld.de \nDie Veranstaltung ist kostenlos\, Spenden sind willkommen. \nDie Veranstaltung findt unter den aktuellen Hygienebedingungen und unter Berücksichtigung der drei\nGs: geimpft\, genesen\, getestet statt.\nBitte bringen Sie zu allen Veranstaltungen die entsprechenden Nachweise mit. Vielen Dank für Ihr Verständnis!
URL:https://wohnen-im-pennenfeld.de/termine/repair-cafe-im-nachbarschaftstreff-pennenfeld-aufgrund-des-feiertags-nicht-am-3-freitag-sondern-am-letzten-mittwoch-des-monats/
LOCATION:Nachbarschaftstreff Pennenfeld\, Maidenheadstraße 20\, Bonn\, NRW\, 53177\, Deutschland
ORGANIZER;CN="Quartiersmanagement Pennenfeld":MAILTO:wilbertz@vebowag.de
END:VEVENT
BEGIN:VEVENT
DTSTART;TZID=Europe/Berlin:20220427T140000
DTEND;TZID=Europe/Berlin:20220427T163000
DTSTAMP:20260424T230848
CREATED:20220401T145931Z
LAST-MODIFIED:20220411T220040Z
UID:3075-1651068000-1651077000@wohnen-im-pennenfeld.de
SUMMARY:NEU im Nachbarschaftstreff Pennenfeld - Verbraucher- und Umweltberatung der Verbraucherzentrale
DESCRIPTION:Wir beraten Sie ohne Termin und kostenlos zu folgenden Themen:\n• Medien- und Telekommunikation (Telefon-\, TV-\, Internetverträge; Abos und Abzocke)\n• Finanzen (Inkassobriefe\, dubiose Kreditkartenangebote)\n• Freizeit (Kaufverträge & Reklamation; Haustürgeschäfte; Kaffeefahrten)\n• Energierecht\n• Umweltschutz (Mülltrennung\, Abfallvermeidung\, Gesundheitsschutz)
URL:https://wohnen-im-pennenfeld.de/termine/neu-im-nachbarschaftstreff-pennenfeld-verbraucher-und-umweltberatung-der-verbraucherzentrale-3/
LOCATION:Nachbarschaftstreff Pennenfeld\, Maidenheadstraße 20\, Bonn\, NRW\, 53177\, Deutschland
END:VEVENT
BEGIN:VEVENT
DTSTART;TZID=Europe/Berlin:20220426T150000
DTEND;TZID=Europe/Berlin:20220426T170000
DTSTAMP:20260424T230848
CREATED:20220401T141854Z
LAST-MODIFIED:20220411T212055Z
UID:3051-1650985200-1650992400@wohnen-im-pennenfeld.de
SUMMARY:Herren Doppelkopf und Skat! Wir suchen neue Mitspieler!!!
DESCRIPTION:Melden Sie sich gerne an unter: 0228 22742441 oder kommen Sie an dem Tag einfach vorbei. Die Veranstaltung ist kostenlos\, spenden willkommen. \nDie Veranstaltung findt unter den aktuellen Hygienebedingungen und unter Berücksichtigung der drei\nGs: geimpft\, genesen\, getestet statt.\nBitte bringen Sie zu allen Veranstaltungen die entsprechenden Nachweise mit. Vielen Dank für Ihr Verständnis!
URL:https://wohnen-im-pennenfeld.de/termine/herren-doppelkopf-und-skat-wir-suchen-neue-mitspieler/
LOCATION:Nachbarschaftstreff Pennenfeld\, Maidenheadstraße 20\, Bonn\, NRW\, 53177\, Deutschland
ORGANIZER;CN="Quartiersmanagement Pennenfeld":MAILTO:wilbertz@vebowag.de
END:VEVENT
BEGIN:VEVENT
DTSTART;TZID=Europe/Berlin:20220426T110000
DTEND;TZID=Europe/Berlin:20220426T130000
DTSTAMP:20260424T230848
CREATED:20220401T140115Z
LAST-MODIFIED:20220411T210154Z
UID:3031-1650970800-1650978000@wohnen-im-pennenfeld.de
SUMMARY:Ausgabe von kostenlosen FFP2 Masken für Bedürftige im Nachbarschaftstreff Pennenfeld
DESCRIPTION:
URL:https://wohnen-im-pennenfeld.de/termine/ausgabe-von-kostenlosen-ffp2-masken-fuer-beduerftige-im-nachbarschaftstreff-pennenfeld-18/
LOCATION:Nachbarschaftstreff Pennenfeld\, Maidenheadstraße 20\, Bonn\, NRW\, 53177\, Deutschland
ORGANIZER;CN="Quartiersmanagement Pennenfeld":MAILTO:wilbertz@vebowag.de
END:VEVENT
BEGIN:VEVENT
DTSTART;TZID=Europe/Berlin:20220426T110000
DTEND;TZID=Europe/Berlin:20220426T130000
DTSTAMP:20260424T230848
CREATED:20220401T135757Z
LAST-MODIFIED:20220411T205833Z
UID:3023-1650970800-1650978000@wohnen-im-pennenfeld.de
SUMMARY:Lebensmittelausgabe im Nachbarschaftstreff Pennenfeld
DESCRIPTION:
URL:https://wohnen-im-pennenfeld.de/termine/lebensmittelausgabe-im-nachbarschaftstreff-pennenfeld-20/
LOCATION:Nachbarschaftstreff Pennenfeld\, Maidenheadstraße 20\, Bonn\, NRW\, 53177\, Deutschland
ORGANIZER;CN="Quartiersmanagement Pennenfeld":MAILTO:wilbertz@vebowag.de
END:VEVENT
BEGIN:VEVENT
DTSTART;TZID=Europe/Berlin:20220421T153000
DTEND;TZID=Europe/Berlin:20220421T163000
DTSTAMP:20260424T230848
CREATED:20220401T140419Z
LAST-MODIFIED:20220411T210540Z
UID:3035-1650555000-1650558600@wohnen-im-pennenfeld.de
SUMMARY:English conversation
DESCRIPTION:Neuer Kurs-Beginn! Neue TeilnehmerInnen sind herzlich willkommen.\nKenntnissen aus alten Schulzeiten können hier in vertrauter geselliger Atmosphäre Leben\neingehaucht und aufgefrischt werden.\nDer Kurs findet immer am 1. und 3. Donnerstag eines jeweiligen Monats statt.\nKosten: € 5\,- pro Monat.\nBitte melden Sie sich an: 0228-2274 2441 (AB). Leitung: Brinda Krosta. \nDie Veranstaltung findet unter den aktuellen Hygienebedingungen und unter Berücksichtigung der drei  Gs: geimpft\, genesen\, getestet statt.\nBitte bringen Sie zu allen Veranstaltungen die entsprechenden Nachweise mit. Vielen Dank für Ihr Verständnis!
URL:https://wohnen-im-pennenfeld.de/termine/english-conversation-3/
LOCATION:Nachbarschaftstreff Pennenfeld\, Maidenheadstraße 20\, Bonn\, NRW\, 53177\, Deutschland
ORGANIZER;CN="Quartiersmanagement Pennenfeld":MAILTO:wilbertz@vebowag.de
END:VEVENT
BEGIN:VEVENT
DTSTART;TZID=Europe/Berlin:20220420T140000
DTEND;TZID=Europe/Berlin:20220420T163000
DTSTAMP:20260424T230848
CREATED:20220401T145808Z
LAST-MODIFIED:20220411T215919Z
UID:3073-1650463200-1650472200@wohnen-im-pennenfeld.de
SUMMARY:NEU im Nachbarschaftstreff Pennenfeld! - Verbraucher- und Umweltberatung der Verbraucherzentrale
DESCRIPTION:Wir beraten Sie ohne Termin und kostenlos zu folgenden Themen:\n• Medien- und Telekommunikation (Telefon-\, TV-\, Internetverträge; Abos und Abzocke)\n• Finanzen (Inkassobriefe\, dubiose Kreditkartenangebote)\n• Freizeit (Kaufverträge & Reklamation; Haustürgeschäfte; Kaffeefahrten)\n• Energierecht\n• Umweltschutz (Mülltrennung\, Abfallvermeidung\, Gesundheitsschutz)
URL:https://wohnen-im-pennenfeld.de/termine/neu-im-nachbarschaftstreff-pennenfeld-verbraucher-und-umweltberatung-der-verbraucherzentrale-2/
LOCATION:Nachbarschaftstreff Pennenfeld\, Maidenheadstraße 20\, Bonn\, NRW\, 53177\, Deutschland
END:VEVENT
BEGIN:VEVENT
DTSTART;TZID=Europe/Berlin:20220420T120000
DTEND;TZID=Europe/Berlin:20220420T120000
DTSTAMP:20260424T230848
CREATED:20220401T141512Z
LAST-MODIFIED:20220411T211653Z
UID:3047-1650456000-1650456000@wohnen-im-pennenfeld.de
SUMMARY:Mittagstisch – ein deftiges Essen nach Hausfrauenart
DESCRIPTION:Kostenbeitrag inkl. Nachtisch und Kaffee:  € 4\,-.\nBitte melden Sie sich bis zum 14.4.2022 an: Schwarz-Kühle: 0228-2274 2441 \nDie Veranstaltung findt unter den aktuellen Hygienebedingungen und unter Berücksichtigung der drei\nGs: geimpft\, genesen\, getestet statt.\nBitte bringen Sie zu allen Veranstaltungen die entsprechenden Nachweise mit. Vielen Dank für Ihr Verständnis!
URL:https://wohnen-im-pennenfeld.de/termine/mittagstisch-ein-deftiges-essen-nach-hausfrauenart-9/
LOCATION:Nachbarschaftstreff Pennenfeld\, Maidenheadstraße 20\, Bonn\, NRW\, 53177\, Deutschland
ORGANIZER;CN="Quartiersmanagement Pennenfeld":MAILTO:wilbertz@vebowag.de
END:VEVENT
END:VCALENDAR