﻿BEGIN:VCALENDAR
VERSION:2.0
PRODID:-//Pennenfeld - ECPv6.10.0//NONSGML v1.0//EN
CALSCALE:GREGORIAN
METHOD:PUBLISH
X-WR-CALNAME:Pennenfeld
X-ORIGINAL-URL:https://wohnen-im-pennenfeld.de
X-WR-CALDESC:Veranstaltungen für Pennenfeld
REFRESH-INTERVAL;VALUE=DURATION:PT1H
X-Robots-Tag:noindex
X-PUBLISHED-TTL:PT1H
BEGIN:VTIMEZONE
TZID:Europe/Berlin
BEGIN:DAYLIGHT
TZOFFSETFROM:+0100
TZOFFSETTO:+0200
TZNAME:CEST
DTSTART:20220327T010000
END:DAYLIGHT
BEGIN:STANDARD
TZOFFSETFROM:+0200
TZOFFSETTO:+0100
TZNAME:CET
DTSTART:20221030T010000
END:STANDARD
END:VTIMEZONE
BEGIN:VEVENT
DTSTART;TZID=Europe/Berlin:20220419T160000
DTEND;TZID=Europe/Berlin:20220419T170000
DTSTAMP:20260425T044016
CREATED:20220401T141258Z
LAST-MODIFIED:20220411T211501Z
UID:3045-1650384000-1650387600@wohnen-im-pennenfeld.de
SUMMARY:Pennenfeld Clean Up! – Gemeinsam sammeln wir Müll auf und belohnen uns anschließend dafür mit einem Kaffeeklatsch im Freien.
DESCRIPTION:Greifzangen\, Handschuhe und Müllsäcke sind vorhanden und warten auf ihren Einsatz.
URL:https://wohnen-im-pennenfeld.de/termine/pennenfeld-clean-up-gemeinsam-sammeln-wir-muell-auf-und-belohnen-uns-anschliessend-dafuer-mit-einem-kaffeeklatsch-im-freien/
LOCATION:Treffpunkt: Nachbarschaftstreff Pennenfeld\, Maidenheadstraße 20\, Bonn\, NRW\, 53177\, Deutschland
END:VEVENT
BEGIN:VEVENT
DTSTART;TZID=Europe/Berlin:20220419T110000
DTEND;TZID=Europe/Berlin:20220419T130000
DTSTAMP:20260425T044016
CREATED:20220401T135708Z
LAST-MODIFIED:20220411T205747Z
UID:3021-1650366000-1650373200@wohnen-im-pennenfeld.de
SUMMARY:Lebensmittelausgabe im Nachbarschaftstreff Pennenfeld
DESCRIPTION:
URL:https://wohnen-im-pennenfeld.de/termine/lebensmittelausgabe-im-nachbarschaftstreff-pennenfeld-19/
LOCATION:Nachbarschaftstreff Pennenfeld\, Maidenheadstraße 20\, Bonn\, NRW\, 53177\, Deutschland
ORGANIZER;CN="Quartiersmanagement Pennenfeld":MAILTO:wilbertz@vebowag.de
END:VEVENT
BEGIN:VEVENT
DTSTART;TZID=Europe/Berlin:20220419T110000
DTEND;TZID=Europe/Berlin:20220419T130000
DTSTAMP:20260425T044016
CREATED:20220401T130017Z
LAST-MODIFIED:20220411T210055Z
UID:3029-1650366000-1650373200@wohnen-im-pennenfeld.de
SUMMARY:Ausgabe von kostenlosen FFP2 Masken für Bedürftige im Nachbarschaftstreff Pennenfeld
DESCRIPTION:
URL:https://wohnen-im-pennenfeld.de/termine/ausgabe-von-kostenlosen-ffp2-masken-fuer-beduerftige-im-nachbarschaftstreff-pennenfeld-17/
LOCATION:Nachbarschaftstreff Pennenfeld\, Maidenheadstraße 20\, Bonn\, NRW\, 53177\, Deutschland
ORGANIZER;CN="Quartiersmanagement Pennenfeld":MAILTO:wilbertz@vebowag.de
END:VEVENT
BEGIN:VEVENT
DTSTART;TZID=Europe/Berlin:20220414T150000
DTEND;TZID=Europe/Berlin:20220414T170000
DTSTAMP:20260425T044016
CREATED:20220401T141043Z
LAST-MODIFIED:20220411T211154Z
UID:3043-1649948400-1649955600@wohnen-im-pennenfeld.de
SUMMARY:Gesangsnachmittag bei Kaffee und Kuchen
DESCRIPTION:Gemeinsam singen wir Lieder quer durch das deutsche Liederbuch zu Akkordeon- und\nMandolinebegleitung.\nDie Veranstaltung ist kostenlos\, Spenden willkommen\, keine Anmeldung erforderlich.\nLeitung: Frau Dr. M. Knüpling. Infos unter:  Nadine Schwarz-Kühle: 0228-2274 2441 \nDie Veranstaltung findet unter den aktuellen Hygienebedingungen und unter Berücksichtigung der drei  Gs: geimpft\, genesen\, getestet statt.\nBitte bringen Sie zu allen Veranstaltungen die entsprechenden Nachweise mit. Vielen Dank für Ihr Verständnis!
URL:https://wohnen-im-pennenfeld.de/termine/gesangsnachmittag-bei-kaffee-und-kuchen-13/
LOCATION:Nachbarschaftstreff Pennenfeld\, Maidenheadstraße 20\, Bonn\, NRW\, 53177\, Deutschland
ORGANIZER;CN="Quartiersmanagement Pennenfeld":MAILTO:wilbertz@vebowag.de
END:VEVENT
BEGIN:VEVENT
DTSTART;TZID=Europe/Berlin:20220413T140000
DTEND;TZID=Europe/Berlin:20220413T163000
DTSTAMP:20260425T044016
CREATED:20220401T145604Z
LAST-MODIFIED:20220411T215731Z
UID:3070-1649858400-1649867400@wohnen-im-pennenfeld.de
SUMMARY:NEU im Nachbarschaftstreff Pennenfeld!Verbraucher- und Umweltberatung der Verbraucherzentrale:
DESCRIPTION:Wir beraten Sie ohne Termin und kostenlos zu folgenden Themen:\n• Medien- und Telekommunikation (Telefon-\, TV-\, Internetverträge; Abos und Abzocke)\n• Finanzen (Inkassobriefe\, dubiose Kreditkartenangebote)\n• Freizeit (Kaufverträge & Reklamation; Haustürgeschäfte; Kaffeefahrten)\n• Energierecht\n• Umweltschutz (Mülltrennung\, Abfallvermeidung\, Gesundheitsschutz)
URL:https://wohnen-im-pennenfeld.de/termine/neu-im-nachbarschaftstreff-pennenfeldverbraucher-und-umweltberatung-der-verbraucherzentrale/
LOCATION:Nachbarschaftstreff Pennenfeld\, Maidenheadstraße 20\, Bonn\, NRW\, 53177\, Deutschland
END:VEVENT
BEGIN:VEVENT
DTSTART;TZID=Europe/Berlin:20220412T110000
DTEND;TZID=Europe/Berlin:20220412T130000
DTSTAMP:20260425T044016
CREATED:20220401T135600Z
LAST-MODIFIED:20220411T205649Z
UID:3019-1649761200-1649768400@wohnen-im-pennenfeld.de
SUMMARY:Lebensmittelausgabe im Nachbarschaftstreff Pennenfeld
DESCRIPTION:
URL:https://wohnen-im-pennenfeld.de/termine/lebensmittelausgabe-im-nachbarschaftstreff-pennenfeld-18/
LOCATION:Nachbarschaftstreff Pennenfeld\, Maidenheadstraße 20\, Bonn\, NRW\, 53177\, Deutschland
ORGANIZER;CN="Quartiersmanagement Pennenfeld":MAILTO:wilbertz@vebowag.de
END:VEVENT
BEGIN:VEVENT
DTSTART;TZID=Europe/Berlin:20220408T150000
DTEND;TZID=Europe/Berlin:20220408T180000
DTSTAMP:20260425T044016
CREATED:20220401T140811Z
LAST-MODIFIED:20220411T210942Z
UID:3039-1649430000-1649440800@wohnen-im-pennenfeld.de
SUMMARY:Pflanzen- und Samen-Tauschbörse
DESCRIPTION:Einfach die übrig gebliebenen Pflanzen oder Samen mitbringen und sie gegen andere eintauschen – so entsteht Vielfalt im Garten. Zudem bietet die Veranstaltung eine Plattform\, sich über Tipps und Tricks rund um den Garten auszutauschen.\nNachbarschaftstreff Pennenfeld / Terrasse. Es ist keine Anmeldung erforderlich. \nDie Veranstaltung findet unter den aktuellen Hygienebedingungen und unter Berücksichtigung der drei  Gs: geimpft\, genesen\, getestet statt.\nBitte bringen Sie zu allen Veranstaltungen die entsprechenden Nachweise mit. Vielen Dank für Ihr Verständnis!
URL:https://wohnen-im-pennenfeld.de/termine/pflanzen-und-samen-tauschboerse/
LOCATION:Nachbarschaftstreff Pennenfeld\, Maidenheadstraße 20\, Bonn\, NRW\, 53177\, Deutschland
ORGANIZER;CN="Quartiersmanagement Pennenfeld":MAILTO:wilbertz@vebowag.de
END:VEVENT
BEGIN:VEVENT
DTSTART;TZID=Europe/Berlin:20220407T153000
DTEND;TZID=Europe/Berlin:20220407T163000
DTSTAMP:20260425T044016
CREATED:20220401T140255Z
LAST-MODIFIED:20220411T210733Z
UID:3033-1649345400-1649349000@wohnen-im-pennenfeld.de
SUMMARY:English conversation
DESCRIPTION:Neuer Kurs-Beginn! Neue TeilnehmerInnen sind herzlich willkommen.\nKenntnissen aus alten Schulzeiten können hier in vertrauter geselliger Atmosphäre Leben\neingehaucht und aufgefrischt werden.\nDer Kurs findet immer am 1. und 3. Donnerstag eines jeweiligen Monats statt.\nKosten: € 5\,- pro Monat.\nBitte melden Sie sich an: 0228-2274 2441 (AB). Leitung: Brinda Krosta. \nDie Veranstaltung findet unter den aktuellen Hygienebedingungen und unter Berücksichtigung der drei  Gs: geimpft\, genesen\, getestet statt.\nBitte bringen Sie zu allen Veranstaltungen die entsprechenden Nachweise mit. Vielen Dank für Ihr Verständnis!
URL:https://wohnen-im-pennenfeld.de/termine/english-conversation-2/
LOCATION:Nachbarschaftstreff Pennenfeld\, Maidenheadstraße 20\, Bonn\, NRW\, 53177\, Deutschland
ORGANIZER;CN="Quartiersmanagement Pennenfeld":MAILTO:wilbertz@vebowag.de
END:VEVENT
BEGIN:VEVENT
DTSTART;TZID=Europe/Berlin:20220406T140000
DTEND;TZID=Europe/Berlin:20220406T163000
DTSTAMP:20260425T044016
CREATED:20220401T145438Z
LAST-MODIFIED:20220411T215548Z
UID:3068-1649253600-1649262600@wohnen-im-pennenfeld.de
SUMMARY:NEU im Nachbarschaftstreff Pennenfeld! - Verbraucher- und Umweltberatung der Verbraucherzentrale
DESCRIPTION:Wir beraten Sie ohne Termin und kostenlos zu folgenden Themen:\n• Medien- und Telekommunikation (Telefon-\, TV-\, Internetverträge; Abos und Abzocke)\n• Finanzen (Inkassobriefe\, dubiose Kreditkartenangebote)\n• Freizeit (Kaufverträge & Reklamation; Haustürgeschäfte; Kaffeefahrten)\n• Energierecht\n• Umweltschutz (Mülltrennung\, Abfallvermeidung\, Gesundheitsschutz)
URL:https://wohnen-im-pennenfeld.de/termine/neu-im-nachbarschaftstreff-pennenfeld-verbraucher-und-umweltberatung-der-verbraucherzentrale/
LOCATION:Nachbarschaftstreff Pennenfeld\, Maidenheadstraße 20\, Bonn\, NRW\, 53177\, Deutschland
END:VEVENT
BEGIN:VEVENT
DTSTART;TZID=Europe/Berlin:20220405T170000
DTEND;TZID=Europe/Berlin:20220405T180000
DTSTAMP:20260425T044016
CREATED:20220401T150042Z
LAST-MODIFIED:20220411T220250Z
UID:3077-1649178000-1649181600@wohnen-im-pennenfeld.de
SUMMARY:Infoveranstaltung zum Tanztheaterprojekt ohnMacht bewegt
DESCRIPTION:Für ein Tanztheaterprojekt in der Brotfabrik in Bonn-Beuel werden Menschen mit & ohne Tanzerfahrung ab 18 Jahren\, mit oder ohne Migrations- oder Fluchthintergrund gesucht\, die Lust auf Austausch mit verschiedenen Menschen\, Bewegung und den Themen Macht und Ohnmacht haben. Heute stellen sich die Macher*innen vor und beantworten alle Ihre Fragen.
URL:https://wohnen-im-pennenfeld.de/termine/infoveranstaltung-zum-tanztheaterprojekt-ohnmacht-bewegt/
LOCATION:Nachbarschaftstreff Pennenfeld\, Maidenheadstraße 20\, Bonn\, NRW\, 53177\, Deutschland
ORGANIZER;CN="Quartiersmanagement Pennenfeld":MAILTO:wilbertz@vebowag.de
END:VEVENT
BEGIN:VEVENT
DTSTART;TZID=Europe/Berlin:20220405T110000
DTEND;TZID=Europe/Berlin:20220405T130000
DTSTAMP:20260425T044016
CREATED:20220401T135903Z
LAST-MODIFIED:20220411T205940Z
UID:3025-1649156400-1649163600@wohnen-im-pennenfeld.de
SUMMARY:Ausgabe von kostenlosen FFP2 Masken für Bedürftige im Nachbarschaftstreff Pennenfeld
DESCRIPTION:
URL:https://wohnen-im-pennenfeld.de/termine/ausgabe-von-kostenlosen-ffp2-masken-fuer-beduerftige-im-nachbarschaftstreff-pennenfeld-15/
LOCATION:Nachbarschaftstreff Pennenfeld\, Maidenheadstraße 20\, Bonn\, NRW\, 53177\, Deutschland
ORGANIZER;CN="Quartiersmanagement Pennenfeld":MAILTO:wilbertz@vebowag.de
END:VEVENT
BEGIN:VEVENT
DTSTART;TZID=Europe/Berlin:20220405T110000
DTEND;TZID=Europe/Berlin:20220405T130000
DTSTAMP:20260425T044016
CREATED:20220401T135535Z
LAST-MODIFIED:20220411T205553Z
UID:3017-1649156400-1649163600@wohnen-im-pennenfeld.de
SUMMARY:Lebensmittelausgabe im Nachbarschaftstreff Pennenfeld
DESCRIPTION:
URL:https://wohnen-im-pennenfeld.de/termine/lebensmittelausgabe-im-nachbarschaftstreff-pennenfeld-17/
LOCATION:Nachbarschaftstreff Pennenfeld\, Maidenheadstraße 20\, Bonn\, NRW\, 53177\, Deutschland
ORGANIZER;CN="Quartiersmanagement Pennenfeld":MAILTO:wilbertz@vebowag.de
END:VEVENT
BEGIN:VEVENT
DTSTART;TZID=Europe/Berlin:20220330T140000
DTEND;TZID=Europe/Berlin:20220330T163000
DTSTAMP:20260425T044016
CREATED:20220303T091121Z
LAST-MODIFIED:20220305T231234Z
UID:2952-1648648800-1648657800@wohnen-im-pennenfeld.de
SUMMARY:Die Rote Tonne öffnet Ihre Klappe für Elektrokleingeräte
DESCRIPTION:
URL:https://wohnen-im-pennenfeld.de/termine/die-rote-tonne-oeffnet-ihre-klappe-fuer-elektrokleingeraete-6/
LOCATION:Nachbarschaftstreff Pennenfeld\, Maidenheadstraße 20\, Bonn\, NRW\, 53177\, Deutschland
END:VEVENT
BEGIN:VEVENT
DTSTART;TZID=Europe/Berlin:20220329T110000
DTEND;TZID=Europe/Berlin:20220329T130000
DTSTAMP:20260425T044016
CREATED:20220302T173259Z
LAST-MODIFIED:20220302T203334Z
UID:2923-1648551600-1648558800@wohnen-im-pennenfeld.de
SUMMARY:Lebensmittelausgabe im Nachbarschaftstreff Pennenfeld
DESCRIPTION:
URL:https://wohnen-im-pennenfeld.de/termine/lebensmittelausgabe-im-nachbarschaftstreff-pennenfeld-16/
LOCATION:Nachbarschaftstreff Pennenfeld\, Maidenheadstraße 20\, Bonn\, NRW\, 53177\, Deutschland
ORGANIZER;CN="Quartiersmanagement Pennenfeld":MAILTO:wilbertz@vebowag.de
END:VEVENT
BEGIN:VEVENT
DTSTART;TZID=Europe/Berlin:20220324T150000
DTEND;TZID=Europe/Berlin:20220324T170000
DTSTAMP:20260425T044016
CREATED:20220305T175316Z
LAST-MODIFIED:20220305T235441Z
UID:2978-1648134000-1648141200@wohnen-im-pennenfeld.de
SUMMARY:Spielenachmittag
DESCRIPTION:Lustige Brett- und Kartenspiele für Jung & Alt. Jede/r Interessierte ist herzlich\nwillkommen die Würfel mit uns rollen zu lassen. Keine Anmeldung erforderlich. \nDie Veranstaltung findt unter den aktuellen Hygienebedingungen und unter Berücksichtigung der drei\nGs: geimpft\, genesen\, getestet statt.\nBitte bringen Sie zu allen Veranstaltungen die entsprechenden Nachweise mit. Vielen Dank für Ihr Verständnis!
URL:https://wohnen-im-pennenfeld.de/termine/spielenachmittag-7/
LOCATION:Nachbarschaftstreff Pennenfeld\, Maidenheadstraße 20\, Bonn\, NRW\, 53177\, Deutschland
ORGANIZER;CN="Quartiersmanagement Pennenfeld":MAILTO:wilbertz@vebowag.de
END:VEVENT
BEGIN:VEVENT
DTSTART;TZID=Europe/Berlin:20220323T140000
DTEND;TZID=Europe/Berlin:20220323T163000
DTSTAMP:20260425T044016
CREATED:20220306T140735Z
LAST-MODIFIED:20220306T005149Z
UID:2947-1648044000-1648053000@wohnen-im-pennenfeld.de
SUMMARY:Die Rote Tonne öffnet Ihre Klappe für Elektrokleingeräte
DESCRIPTION:
URL:https://wohnen-im-pennenfeld.de/termine/die-rote-tonne-oeffnet-ihre-klappe-fuer-elektrokleingeraete-4/
LOCATION:Nachbarschaftstreff Pennenfeld\, Maidenheadstraße 20\, Bonn\, NRW\, 53177\, Deutschland
END:VEVENT
BEGIN:VEVENT
DTSTART;TZID=Europe/Berlin:20220323T140000
DTEND;TZID=Europe/Berlin:20220323T163000
DTSTAMP:20260425T044016
CREATED:20220303T140925Z
LAST-MODIFIED:20220305T231403Z
UID:2949-1648044000-1648053000@wohnen-im-pennenfeld.de
SUMMARY:Die Rote Tonne öffnet Ihre Klappe für Elektrokleingeräte
DESCRIPTION:
URL:https://wohnen-im-pennenfeld.de/termine/die-rote-tonne-oeffnet-ihre-klappe-fuer-elektrokleingeraete-5/
LOCATION:Nachbarschaftstreff Pennenfeld\, Maidenheadstraße 20\, Bonn\, NRW\, 53177\, Deutschland
END:VEVENT
BEGIN:VEVENT
DTSTART;TZID=Europe/Berlin:20220322T110000
DTEND;TZID=Europe/Berlin:20220322T140000
DTSTAMP:20260425T044016
CREATED:20220302T173205Z
LAST-MODIFIED:20220302T203252Z
UID:2921-1647946800-1647957600@wohnen-im-pennenfeld.de
SUMMARY:Lebensmittelausgabe im Nachbarschaftstreff Pennenfeld
DESCRIPTION:
URL:https://wohnen-im-pennenfeld.de/termine/lebensmittelausgabe-im-nachbarschaftstreff-pennenfeld-15/
LOCATION:Nachbarschaftstreff Pennenfeld\, Maidenheadstraße 20\, Bonn\, NRW\, 53177\, Deutschland
ORGANIZER;CN="Quartiersmanagement Pennenfeld":MAILTO:wilbertz@vebowag.de
END:VEVENT
BEGIN:VEVENT
DTSTART;TZID=Europe/Berlin:20220318T150000
DTEND;TZID=Europe/Berlin:20220318T170000
DTSTAMP:20260425T044016
CREATED:20220305T175455Z
LAST-MODIFIED:20220315T200442Z
UID:2980-1647615600-1647622800@wohnen-im-pennenfeld.de
SUMMARY:Das Repair Café findet endlich wieder als Präsenzveranstaltung statt und öffnet seine Türen!
DESCRIPTION:In gemütlicher Atmosphäre reparieren wir unter fachkundiger Anleitung Elektrogeräte\, Holzmöbel und anderes. \nAnmeldung bis 18.3.2022\, 12 Uhr: 0228/9158 444 oder info@wohnen-im-pennenfeld.de \nDie Veranstaltung ist kostenlos\, Spenden sind willkommen. \nDie Veranstaltung findt unter den aktuellen Hygienebedingungen und unter Berücksichtigung der drei\nGs: geimpft\, genesen\, getestet statt.\nBitte bringen Sie zu allen Veranstaltungen die entsprechenden Nachweise mit. Vielen Dank für Ihr Verständnis! \n 
URL:https://wohnen-im-pennenfeld.de/termine/das-repair-cafe-findet-endlich-wieder-als-praesenzveranstaltung-statt-und-oeffnet-seine-tueren/
LOCATION:Nachbarschaftstreff Pennenfeld\, Maidenheadstraße 20\, Bonn\, NRW\, 53177\, Deutschland
ORGANIZER;CN="Quartiersmanagement Pennenfeld":MAILTO:wilbertz@vebowag.de
END:VEVENT
BEGIN:VEVENT
DTSTART;TZID=Europe/Berlin:20220317T153000
DTEND;TZID=Europe/Berlin:20220317T163000
DTSTAMP:20260425T044016
CREATED:20220305T234415Z
LAST-MODIFIED:20220305T234438Z
UID:2967-1647531000-1647534600@wohnen-im-pennenfeld.de
SUMMARY:English conversation
DESCRIPTION:Neuer Kurs-Beginn! Neue TeilnehmerInnen sind herzlich willkommen.\nKenntnissen aus alten Schulzeiten können hier in vertrauter geselliger Atmosphäre Leben\neingehaucht und aufgefrischt werden.\nDer Kurs findet immer am 1. und 3. Donnerstag eines jeweiligen Monats statt.\nKosten: € 5\,- pro Monat.\nBitte melden Sie sich an: 0228-2274 2441 (AB). Leitung: Brinda Krosta. \nDie Veranstaltung findet unter den aktuellen Hygienebedingungen und unter Berücksichtigung der drei  Gs: geimpft\, genesen\, getestet statt.\nBitte bringen Sie zu allen Veranstaltungen die entsprechenden Nachweise mit. Vielen Dank für Ihr Verständnis!
URL:https://wohnen-im-pennenfeld.de/termine/english-conversation/
LOCATION:Nachbarschaftstreff Pennenfeld\, Maidenheadstraße 20\, Bonn\, NRW\, 53177\, Deutschland
ORGANIZER;CN="Quartiersmanagement Pennenfeld":MAILTO:wilbertz@vebowag.de
END:VEVENT
BEGIN:VEVENT
DTSTART;TZID=Europe/Berlin:20220316T140000
DTEND;TZID=Europe/Berlin:20220316T163000
DTSTAMP:20260425T044016
CREATED:20220304T105121Z
LAST-MODIFIED:20220305T231329Z
UID:2944-1647439200-1647448200@wohnen-im-pennenfeld.de
SUMMARY:Die Rote Tonne öffnet Ihre Klappe für Elektrokleingeräte
DESCRIPTION:
URL:https://wohnen-im-pennenfeld.de/termine/die-rote-tonne-oeffnet-ihre-klappe-fuer-elektrokleingeraete-3/
LOCATION:Nachbarschaftstreff Pennenfeld\, Maidenheadstraße 20\, Bonn\, NRW\, 53177\, Deutschland
END:VEVENT
BEGIN:VEVENT
DTSTART;TZID=Europe/Berlin:20220315T160000
DTEND;TZID=Europe/Berlin:20220315T170000
DTSTAMP:20260425T044016
CREATED:20220305T174919Z
LAST-MODIFIED:20220305T235300Z
UID:2974-1647360000-1647363600@wohnen-im-pennenfeld.de
SUMMARY:Pennenfeld Clean Up! - Gemeinsam sammeln wir Müll auf und belohnen uns anschließend dafür mit einem Kaffeeklatsch im Freien.
DESCRIPTION:Greifzangen\, Handschuhe und Müllsäcke sind vorhanden und warten auf ihren Einsatz. \n \n 
URL:https://wohnen-im-pennenfeld.de/termine/pennenfeld-clean-up-2/
LOCATION:Treffpunkt: Nachbarschaftstreff Pennenfeld\, Maidenheadstraße 20\, Bonn\, NRW\, 53177\, Deutschland
END:VEVENT
BEGIN:VEVENT
DTSTART;TZID=Europe/Berlin:20220315T110000
DTEND;TZID=Europe/Berlin:20220315T130000
DTSTAMP:20260425T044016
CREATED:20220302T173731Z
LAST-MODIFIED:20220302T203919Z
UID:2929-1647342000-1647349200@wohnen-im-pennenfeld.de
SUMMARY:Ausgabe von kostenlosen FFP2 Masken für Bedürftige im Nachbarschaftstreff Pennenfeld
DESCRIPTION:
URL:https://wohnen-im-pennenfeld.de/termine/ausgabe-von-kostenlosen-ffp2-masken-fuer-beduerftige-im-nachbarschaftstreff-pennenfeld-12/
LOCATION:Nachbarschaftstreff Pennenfeld\, Maidenheadstraße 20\, Bonn\, NRW\, 53177\, Deutschland
ORGANIZER;CN="Quartiersmanagement Pennenfeld":MAILTO:wilbertz@vebowag.de
END:VEVENT
BEGIN:VEVENT
DTSTART;TZID=Europe/Berlin:20220315T110000
DTEND;TZID=Europe/Berlin:20220315T130000
DTSTAMP:20260425T044016
CREATED:20220302T173020Z
LAST-MODIFIED:20220302T203036Z
UID:2917-1647342000-1647349200@wohnen-im-pennenfeld.de
SUMMARY:Lebensmittelausgabe im Nachbarschaftstreff Pennenfeld
DESCRIPTION:
URL:https://wohnen-im-pennenfeld.de/termine/lebensmittelausgabe-im-nachbarschaftstreff-pennenfeld-14/
LOCATION:Nachbarschaftstreff Pennenfeld\, Maidenheadstraße 20\, Bonn\, NRW\, 53177\, Deutschland
ORGANIZER;CN="Quartiersmanagement Pennenfeld":MAILTO:wilbertz@vebowag.de
END:VEVENT
BEGIN:VEVENT
DTSTART;TZID=Europe/Berlin:20220310T180000
DTEND;TZID=Europe/Berlin:20220310T180000
DTSTAMP:20260425T044016
CREATED:20220305T223917Z
LAST-MODIFIED:20220305T223917Z
UID:2937-1646935200-1646935200@wohnen-im-pennenfeld.de
SUMMARY:Vergessene Nachbarn: Heimische Pflanzen für Balkon und Garten\, Vortrag am 10.3.2022\, 18 Uhr im Nachbarschaftstreff Pennenfeld
DESCRIPTION:
URL:https://wohnen-im-pennenfeld.de/termine/vergessene-nachbarn-heimische-pflanzen-fuer-balkon-und-garten-vortrag-am-10-3-2022-18-uhr-im-nachbarschaftstreff-pennenfeld/
LOCATION:Nachbarschaftstreff Pennenfeld\, Maidenheadstraße 20\, Bonn\, NRW\, 53177\, Deutschland
ORGANIZER;CN="Quartiersmanagement Pennenfeld":MAILTO:wilbertz@vebowag.de
END:VEVENT
BEGIN:VEVENT
DTSTART;TZID=Europe/Berlin:20220310T150000
DTEND;TZID=Europe/Berlin:20220310T170000
DTSTAMP:20260425T044016
CREATED:20220305T234153Z
LAST-MODIFIED:20220305T234253Z
UID:2964-1646924400-1646931600@wohnen-im-pennenfeld.de
SUMMARY:Gesangsnachmittag bei Kaffee und Kuchen
DESCRIPTION:Gemeinsam singen wir Lieder quer durch das deutsche Liederbuch zu Akkordeon- und\nMandolinebegleitung.\nDie Veranstaltung ist kostenlos\, Spenden willkommen\, keine Anmeldung erforderlich.\nLeitung: Frau Dr. M. Knüpling. Infos unter:  Nadine Schwarz-Kühle: 0228-2274 2441 \nDie Veranstaltung findet unter den aktuellen Hygienebedingungen und unter Berücksichtigung der drei  Gs: geimpft\, genesen\, getestet statt.\nBitte bringen Sie zu allen Veranstaltungen die entsprechenden Nachweise mit. Vielen Dank für Ihr Verständnis! \n 
URL:https://wohnen-im-pennenfeld.de/termine/gesangsnachmittag-bei-kaffee-und-kuchen-12/
LOCATION:Nachbarschaftstreff Pennenfeld\, Maidenheadstraße 20\, Bonn\, NRW\, 53177\, Deutschland
ORGANIZER;CN="Quartiersmanagement Pennenfeld":MAILTO:wilbertz@vebowag.de
END:VEVENT
BEGIN:VEVENT
DTSTART;TZID=Europe/Berlin:20220309T140000
DTEND;TZID=Europe/Berlin:20220309T163000
DTSTAMP:20260425T044016
CREATED:20220302T193750Z
LAST-MODIFIED:20220302T194041Z
UID:2904-1646834400-1646843400@wohnen-im-pennenfeld.de
SUMMARY:Die Rote Tonne öffnet Ihre Klappe für Elektrokleingeräte
DESCRIPTION:
URL:https://wohnen-im-pennenfeld.de/termine/die-rote-tonne-oeffnet-ihre-klappe-fuer-elektrokleingeraete-2/
LOCATION:Nachbarschaftstreff Pennenfeld\, Maidenheadstraße 20\, Bonn\, NRW\, 53177\, Deutschland
ORGANIZER;CN="Quartiersmanagement Pennenfeld":MAILTO:wilbertz@vebowag.de
END:VEVENT
BEGIN:VEVENT
DTSTART;TZID=Europe/Berlin:20220308T110000
DTEND;TZID=Europe/Berlin:20220308T130000
DTSTAMP:20260425T044016
CREATED:20220302T173645Z
LAST-MODIFIED:20220302T203829Z
UID:2927-1646737200-1646744400@wohnen-im-pennenfeld.de
SUMMARY:Ausgabe von kostenlosen FFP2 Masken für Bedürftige im Nachbarschaftstreff Pennenfeld
DESCRIPTION:
URL:https://wohnen-im-pennenfeld.de/termine/ausgabe-von-kostenlosen-ffp2-masken-fuer-beduerftige-im-nachbarschaftstreff-pennenfeld-11/
LOCATION:Nachbarschaftstreff Pennenfeld\, Maidenheadstraße 20\, Bonn\, NRW\, 53177\, Deutschland
ORGANIZER;CN="Quartiersmanagement Pennenfeld":MAILTO:wilbertz@vebowag.de
END:VEVENT
BEGIN:VEVENT
DTSTART;TZID=Europe/Berlin:20220308T110000
DTEND;TZID=Europe/Berlin:20220308T130000
DTSTAMP:20260425T044016
CREATED:20220302T172811Z
LAST-MODIFIED:20220302T203636Z
UID:2915-1646737200-1646744400@wohnen-im-pennenfeld.de
SUMMARY:Lebensmittelausgabe im Nachbarschaftstreff Pennenfeld
DESCRIPTION:
URL:https://wohnen-im-pennenfeld.de/termine/lebensmittelausgabe-im-nachbarschaftstreff-pennenfeld-13/
LOCATION:Nachbarschaftstreff Pennenfeld\, Maidenheadstraße 20\, Bonn\, NRW\, 53177\, Deutschland
ORGANIZER;CN="Quartiersmanagement Pennenfeld":MAILTO:wilbertz@vebowag.de
END:VEVENT
BEGIN:VEVENT
DTSTART;TZID=Europe/Berlin:20220304T150000
DTEND;TZID=Europe/Berlin:20220304T173000
DTSTAMP:20260425T044016
CREATED:20220302T193014Z
LAST-MODIFIED:20220302T193014Z
UID:2898-1646406000-1646415000@wohnen-im-pennenfeld.de
SUMMARY:Frühjahrs-Treffen im PikoPark
DESCRIPTION:
URL:https://wohnen-im-pennenfeld.de/termine/fruehjahrs-treffen-im-pikopark/
LOCATION:Treffpunkt am PikoPark\, Nähe Max-Planck-Straße 17-19\, Bonn\, NRW\, 53177
ORGANIZER;CN="Quartiersmanagement Pennenfeld":MAILTO:wilbertz@vebowag.de
END:VEVENT
END:VCALENDAR