﻿BEGIN:VCALENDAR
VERSION:2.0
PRODID:-//Pennenfeld - ECPv6.10.0//NONSGML v1.0//EN
CALSCALE:GREGORIAN
METHOD:PUBLISH
X-ORIGINAL-URL:https://wohnen-im-pennenfeld.de
X-WR-CALDESC:Veranstaltungen für Pennenfeld
REFRESH-INTERVAL;VALUE=DURATION:PT1H
X-Robots-Tag:noindex
X-PUBLISHED-TTL:PT1H
BEGIN:VTIMEZONE
TZID:Europe/Berlin
BEGIN:DAYLIGHT
TZOFFSETFROM:+0100
TZOFFSETTO:+0200
TZNAME:CEST
DTSTART:20210328T010000
END:DAYLIGHT
BEGIN:STANDARD
TZOFFSETFROM:+0200
TZOFFSETTO:+0100
TZNAME:CET
DTSTART:20211031T010000
END:STANDARD
END:VTIMEZONE
BEGIN:VEVENT
DTSTART;TZID=Europe/Berlin:20210928T110000
DTEND;TZID=Europe/Berlin:20210928T140000
DTSTAMP:20260425T164618
CREATED:20210921T085715Z
LAST-MODIFIED:20210921T085715Z
UID:2670-1632826800-1632837600@wohnen-im-pennenfeld.de
SUMMARY:Lebensmittelausgabe im Nachbarschaftstreff Pennenfeld
DESCRIPTION:
URL:https://wohnen-im-pennenfeld.de/termine/lebensmittelausgabe-im-nachbarschaftstreff-pennenfeld-2/
LOCATION:Nachbarschaftstreff Pennenfeld\, Maidenheadstraße 20\, Bonn\, NRW\, 53177\, Deutschland
ORGANIZER;CN="Quartiersmanagement Pennenfeld":MAILTO:wilbertz@vebowag.de
END:VEVENT
BEGIN:VEVENT
DTSTART;TZID=Europe/Berlin:20210923T150000
DTEND;TZID=Europe/Berlin:20210923T170000
DTSTAMP:20260425T164618
CREATED:20210906T112115Z
LAST-MODIFIED:20210906T112115Z
UID:2567-1632409200-1632416400@wohnen-im-pennenfeld.de
SUMMARY:Spielenachmittag
DESCRIPTION:Lustige Brett- und Kartenspiele für Jung & Alt. Keine Anmeldung erforderlich. \nAlle Veranstaltungen finden selbstverständlich unter den aktuellen Hygienebedingungen und unter Berücksichtigung der drei Gs : geimpft\, genesen\, getestet statt. Bitte bringen Sie zu allen Veranstaltungen die entsprechenden Nachweise mit. Vielen Dank für Ihr Verständnis!
URL:https://wohnen-im-pennenfeld.de/termine/spielenachmittag-5/
LOCATION:Nachbarschaftstreff Pennenfeld\, Maidenheadstraße 20\, Bonn\, NRW\, 53177\, Deutschland
ORGANIZER;CN="Quartiersmanagement Pennenfeld":MAILTO:wilbertz@vebowag.de
END:VEVENT
BEGIN:VEVENT
DTSTART;TZID=Europe/Berlin:20210921T110000
DTEND;TZID=Europe/Berlin:20210921T140000
DTSTAMP:20260425T164618
CREATED:20210921T085603Z
LAST-MODIFIED:20210921T085611Z
UID:2668-1632222000-1632232800@wohnen-im-pennenfeld.de
SUMMARY:Lebensmittelausgabe im Nachbarschaftstreff Pennenfeld
DESCRIPTION:
URL:https://wohnen-im-pennenfeld.de/termine/lebensmittelausgabe-im-nachbarschaftstreff-pennenfeld/
LOCATION:Nachbarschaftstreff Pennenfeld\, Maidenheadstraße 20\, Bonn\, NRW\, 53177\, Deutschland
ORGANIZER;CN="Quartiersmanagement Pennenfeld":MAILTO:wilbertz@vebowag.de
END:VEVENT
BEGIN:VEVENT
DTSTART;TZID=Europe/Berlin:20210916T170000
DTEND;TZID=Europe/Berlin:20210916T200000
DTSTAMP:20260425T164618
CREATED:20210906T141943Z
LAST-MODIFIED:20210906T142348Z
UID:2611-1631811600-1631822400@wohnen-im-pennenfeld.de
SUMMARY:Pennenfelder Fahrradtour im Rahmen der Aktion „Stadtradeln“
DESCRIPTION:
URL:https://wohnen-im-pennenfeld.de/termine/pennenfelder-fahrradtour-im-rahmen-der-aktion-stadtradeln/
LOCATION:Treffpunkt: Nachbarschaftstreff Pennenfeld\, Maidenheadstraße 20\, Bonn\, NRW\, 53177\, Deutschland
ORGANIZER;CN="Quartiersmanagement Pennenfeld":MAILTO:wilbertz@vebowag.de
END:VEVENT
BEGIN:VEVENT
DTSTART;TZID=Europe/Berlin:20210916T153000
DTEND;TZID=Europe/Berlin:20210916T163000
DTSTAMP:20260425T164618
CREATED:20210906T112910Z
LAST-MODIFIED:20210906T112910Z
UID:2579-1631806200-1631809800@wohnen-im-pennenfeld.de
SUMMARY:English conversation – Für jedes Niveau.
DESCRIPTION:Leitung: Brinda Krosta \nKosten: € 5\,- pro Monat. \nBitte melden Sie sich an: 0228-2274 2441 (AB). \nAlle Veranstaltungen finden selbstverständlich unter den aktuellen Hygienebedingungen und unter Berücksichtigung der drei Gs : geimpft\, genesen\, getestet statt. Bitte bringen Sie zu allen Veranstaltungen die entsprechenden Nachweise mit. Vielen Dank für Ihr Verständnis!
URL:https://wohnen-im-pennenfeld.de/termine/english-conversation-fuer-jedes-niveau-23/
LOCATION:Nachbarschaftstreff Pennenfeld\, Maidenheadstraße 20\, Bonn\, NRW\, 53177\, Deutschland
ORGANIZER;CN="Quartiersmanagement Pennenfeld":MAILTO:wilbertz@vebowag.de
END:VEVENT
BEGIN:VEVENT
DTSTART;TZID=Europe/Berlin:20210916T110000
DTEND;TZID=Europe/Berlin:20210916T120000
DTSTAMP:20260425T164618
CREATED:20210906T153704Z
LAST-MODIFIED:20210906T153704Z
UID:2619-1631790000-1631793600@wohnen-im-pennenfeld.de
SUMMARY:Fitness für Körper und Geist- Bewegungsangebot für Seniorinnen und Senioren
DESCRIPTION:Leitung: Martina Weiß-Bischoff (AlterAktiv) \nKosten: gesamter Kurs (8 mal): € 20\,- ; einzelne Stunde: € 4\,- \nBitte melden Sie sich an: Schwarz-Kühle: 0228-2274 2441 \nAlle Veranstaltungen finden selbstverständlich unter den aktuellen Hygienebedingungen und unter Berücksichtigung der drei Gs : geimpft\, genesen\, getestet statt. Bitte bringen Sie zu allen Veranstaltungen die entsprechenden Nachweise mit. Vielen Dank für Ihr Verständnis!
URL:https://wohnen-im-pennenfeld.de/termine/fitness-fuer-koerper-und-geist-bewegungsangebot-fuer-seniorinnen-und-senioren-5/
LOCATION:Nachbarschaftstreff Pennenfeld\, Maidenheadstraße 20\, Bonn\, NRW\, 53177\, Deutschland
ORGANIZER;CN="Quartiersmanagement Pennenfeld":MAILTO:wilbertz@vebowag.de
END:VEVENT
BEGIN:VEVENT
DTSTART;TZID=Europe/Berlin:20210915T120000
DTEND;TZID=Europe/Berlin:20210915T120000
DTSTAMP:20260425T164618
CREATED:20210906T113340Z
LAST-MODIFIED:20210906T113340Z
UID:2584-1631707200-1631707200@wohnen-im-pennenfeld.de
SUMMARY:Mittagstisch – ein deftiges Essen nach Hausfrauenart
DESCRIPTION:Kostenbeitrag inkl. Nachtisch und Kaffee: € 4\,-. \nBitte melden Sie sich bis zum 13.9.2021 an: Frank Wilbertz 0228-9158 444 \nAlle Veranstaltungen finden selbstverständlich unter den aktuellen Hygienebedingungen und unter Berücksichtigung der drei Gs : geimpft\, genesen\, getestet statt. Bitte bringen Sie zu allen Veranstaltungen die entsprechenden Nachweise mit. Vielen Dank für Ihr Verständnis!
URL:https://wohnen-im-pennenfeld.de/termine/mittagstisch-ein-deftiges-essen-nach-hausfrauenart-5/
LOCATION:Nachbarschaftstreff Pennenfeld\, Maidenheadstraße 20\, Bonn\, NRW\, 53177\, Deutschland
ORGANIZER;CN="Quartiersmanagement Pennenfeld":MAILTO:wilbertz@vebowag.de
END:VEVENT
BEGIN:VEVENT
DTSTART;TZID=Europe/Berlin:20210911T100000
DTEND;TZID=Europe/Berlin:20210911T130000
DTSTAMP:20260425T164618
CREATED:20210906T141709Z
LAST-MODIFIED:20210910T181636Z
UID:2608-1631354400-1631365200@wohnen-im-pennenfeld.de
SUMMARY:PikoPark Frühherbst-Treffen
DESCRIPTION:Unter fachkundiger Anleitung pflegen wir gemeinsam die Beete im PikoPark. \nAuch wer nicht aktiv mithelfen kann\, ist herzlich eingeladen\, vorbeizuschauen. \nWir freuen uns auf Sie! \nWo?   PikoPark an der Max-Planck-Straße. \nInfo und Anmeldung: Frank Wilbertz 0228-9158 444 oder pikopark@magenta.de \n \n 
URL:https://wohnen-im-pennenfeld.de/termine/pikopark-fruehherbst-treffen/
LOCATION:PikoPark Pennenfeld\, Nähe Max-Planck-Straße 17-19\, Bonn\, NRW\, 53177\, Deutschland
END:VEVENT
BEGIN:VEVENT
DTSTART;TZID=Europe/Berlin:20210909T150000
DTEND;TZID=Europe/Berlin:20210909T170000
DTSTAMP:20260425T164618
CREATED:20210906T112346Z
LAST-MODIFIED:20210906T112426Z
UID:2571-1631199600-1631206800@wohnen-im-pennenfeld.de
SUMMARY:Gesangsnachmittag bei Kaffee und Kuchen – im Garten des Nachbarschaftstreffs
DESCRIPTION:Bitte kommen Sie außen um das Gebäude in den Garten und denken Sie an dem Wetter entsprechende Kleidung. \nLeitung: Frau Dr. M. Knüpling. \nGemeinsam singen wir Lieder quer durch das deutsche Liederbuch zu Akkordeon- und Mandolinenbegleitung. \nDie Veranstaltung ist kostenlos\, Spenden willkommen\, keine Anmeldung erforderlich. Bei Regen muss die Veranstaltung leider ausfallen. \nAlle Veranstaltungen finden selbstverständlich unter den aktuellen Hygienebedingungen und unter Berücksichtigung der drei Gs: geimpft\, genesen\, getestet statt. Bitte bringen Sie zu allen Veranstaltungen die entsprechenden Nachweise mit. Vielen Dank für Ihr Verständnis!
URL:https://wohnen-im-pennenfeld.de/termine/gesangsnachmittag-bei-kaffee-und-kuchen-im-garten-des-nachbarschaftstreffs-3/
LOCATION:Garten des Nachbarschaftstreffs Pennenfeld
ORGANIZER;CN="Quartiersmanagement Pennenfeld":MAILTO:wilbertz@vebowag.de
END:VEVENT
BEGIN:VEVENT
DTSTART;TZID=Europe/Berlin:20210909T110000
DTEND;TZID=Europe/Berlin:20210909T120000
DTSTAMP:20260425T164618
CREATED:20210906T113752Z
LAST-MODIFIED:20210906T113752Z
UID:2591-1631185200-1631188800@wohnen-im-pennenfeld.de
SUMMARY:Fitness für Körper und Geist- Bewegungsangebot für Seniorinnen und Senioren
DESCRIPTION:Leitung: Martina Weiß-Bischoff (AlterAktiv) \nKosten: gesamter Kurs (8 mal): € 20\,- ; einzelne Stunde: € 4\,- \nBitte melden Sie sich an: Schwarz-Kühle: 0228-2274 2441 \nAlle Veranstaltungen finden selbstverständlich unter den aktuellen Hygienebedingungen und unter Berücksichtigung der drei Gs : geimpft\, genesen\, getestet statt. Bitte bringen Sie zu allen Veranstaltungen die entsprechenden Nachweise mit. Vielen Dank für Ihr Verständnis!
URL:https://wohnen-im-pennenfeld.de/termine/fitness-fuer-koerper-und-geist-bewegungsangebot-fuer-seniorinnen-und-senioren-2/
LOCATION:Nachbarschaftstreff Pennenfeld\, Maidenheadstraße 20\, Bonn\, NRW\, 53177\, Deutschland
ORGANIZER;CN="Quartiersmanagement Pennenfeld":MAILTO:wilbertz@vebowag.de
END:VEVENT
BEGIN:VEVENT
DTSTART;TZID=Europe/Berlin:20210902T153000
DTEND;TZID=Europe/Berlin:20210902T163000
DTSTAMP:20260425T164618
CREATED:20210902T092511Z
LAST-MODIFIED:20210906T112633Z
UID:2573-1630596600-1630600200@wohnen-im-pennenfeld.de
SUMMARY:English conversation – Für jedes Niveau.
DESCRIPTION:Leitung: Brinda Krosta \nKosten: € 5\,- pro Monat. \nBitte melden Sie sich an: 0228-2274 2441 (AB). \nAlle Veranstaltungen finden selbstverständlich unter den aktuellen Hygienebedingungen und unter Berücksichtigung der drei Gs : geimpft\, genesen\, getestet statt. Bitte bringen Sie zu allen Veranstaltungen die entsprechenden Nachweise mit. Vielen Dank für Ihr Verständnis!
URL:https://wohnen-im-pennenfeld.de/termine/english-conversation-fuer-jedes-niveau-22/
LOCATION:Nachbarschaftstreff Pennenfeld\, Maidenheadstraße 20\, Bonn\, NRW\, 53177\, Deutschland
ORGANIZER;CN="Quartiersmanagement Pennenfeld":MAILTO:wilbertz@vebowag.de
END:VEVENT
BEGIN:VEVENT
DTSTART;TZID=Europe/Berlin:20210902T110000
DTEND;TZID=Europe/Berlin:20210902T120000
DTSTAMP:20260425T164618
CREATED:20210906T113646Z
LAST-MODIFIED:20210906T113646Z
UID:2588-1630580400-1630584000@wohnen-im-pennenfeld.de
SUMMARY:Fitness für Körper und Geist- Bewegungsangebot für Seniorinnen und Senioren
DESCRIPTION:Leitung: Martina Weiß-Bischoff (AlterAktiv) \nKosten: gesamter Kurs (8 mal): € 20\,- ; einzelne Stunde: € 4\,- \nBitte melden Sie sich an: Schwarz-Kühle: 0228-2274 2441 \nAlle Veranstaltungen finden selbstverständlich unter den aktuellen Hygienebedingungen und unter Berücksichtigung der drei Gs : geimpft\, genesen\, getestet statt. Bitte bringen Sie zu allen Veranstaltungen die entsprechenden Nachweise mit. Vielen Dank für Ihr Verständnis!
URL:https://wohnen-im-pennenfeld.de/termine/fitness-fuer-koerper-und-geist-bewegungsangebot-fuer-seniorinnen-und-senioren/
LOCATION:Nachbarschaftstreff Pennenfeld\, Maidenheadstraße 20\, Bonn\, NRW\, 53177\, Deutschland
ORGANIZER;CN="Quartiersmanagement Pennenfeld":MAILTO:wilbertz@vebowag.de
END:VEVENT
BEGIN:VEVENT
DTSTART;TZID=Europe/Berlin:20210826T150000
DTEND;TZID=Europe/Berlin:20210826T170000
DTSTAMP:20260425T164618
CREATED:20210804T180803Z
LAST-MODIFIED:20210804T180810Z
UID:2491-1629990000-1629997200@wohnen-im-pennenfeld.de
SUMMARY:Spielenachmittag
DESCRIPTION:Lustige Brett- und Kartenspiele für Jung & Alt. Keine Anmeldung erforderlich. \nAlle Veranstaltungen finden selbstverständlich unter den aktuellen Hygienebedingungen und unter Berücksichtigung der drei Gs : geimpft\, genesen\, getestet statt. Bitte bringen Sie zu allen Veranstaltungen die entsprechenden Nachweise mit. Vielen Dank für Ihr Verständnis!
URL:https://wohnen-im-pennenfeld.de/termine/spielenachmittag-4/
LOCATION:Nachbarschaftstreff Pennenfeld\, Maidenheadstraße 20\, Bonn\, NRW\, 53177\, Deutschland
ORGANIZER;CN="Quartiersmanagement Pennenfeld":MAILTO:wilbertz@vebowag.de
END:VEVENT
BEGIN:VEVENT
DTSTART;TZID=Europe/Berlin:20210820T150000
DTEND;TZID=Europe/Berlin:20210820T170000
DTSTAMP:20260425T164618
CREATED:20210804T180636Z
LAST-MODIFIED:20210818T190557Z
UID:2489-1629471600-1629478800@wohnen-im-pennenfeld.de
SUMMARY:Repair Café – Reparieren statt wegwerfen!
DESCRIPTION:In gemütlicher Atmosphäre reparieren wir auf der Terrasse des Nachbarschaftstreffs unter fachkundiger Anleitung Elektrogeräte\, Möbelstücke und andere Holzarbeiten. Bei Regen weichen wir in den Innenraum aus. \nAnmeldung/Terminvergabe bis 20.8.\, 12 Uhr: Frank Wilbertz 0228-9158 444. \nDie Veranstaltung ist kostenlos\, Spenden willkommen. \nAlle Veranstaltungen finden selbstverständlich unter den aktuellen Hygienebedingungen und unter Berücksichtigung der drei Gs : geimpft\, genesen\, getestet statt. Bitte bringen Sie zu allen Veranstaltungen die entsprechenden Nachweise mit. Vielen Dank für Ihr Verständnis!
URL:https://wohnen-im-pennenfeld.de/termine/repair-cafe-reparieren-statt-wegwerfen-12/
LOCATION:Terrasse des Nachbarschaftstreffs Pennenfeld\, Maidenheadstraße 20\, Bonn\, NRW\, 53177\, Deutschland
ORGANIZER;CN="Quartiersmanagement Pennenfeld":MAILTO:wilbertz@vebowag.de
END:VEVENT
BEGIN:VEVENT
DTSTART;TZID=Europe/Berlin:20210819T153000
DTEND;TZID=Europe/Berlin:20210819T163000
DTSTAMP:20260425T164618
CREATED:20210804T165802Z
LAST-MODIFIED:20210804T165852Z
UID:2481-1629387000-1629390600@wohnen-im-pennenfeld.de
SUMMARY:English conversation – Für jedes Niveau.
DESCRIPTION:Leitung: Brinda Krosta \nKosten: € 5\,- pro Monat. \nBitte melden Sie sich an: 0228-2274 2441 (AB). \nAlle Veranstaltungen finden selbstverständlich unter den aktuellen Hygienebedingungen und unter Berücksichtigung der drei Gs : geimpft\, genesen\, getestet statt. Bitte bringen Sie zu allen Veranstaltungen die entsprechenden Nachweise mit. Vielen Dank für Ihr Verständnis!
URL:https://wohnen-im-pennenfeld.de/termine/english-conversation-fuer-jedes-niveau-21/
LOCATION:Nachbarschaftstreff Pennenfeld\, Maidenheadstraße 20\, Bonn\, NRW\, 53177\, Deutschland
ORGANIZER;CN="Quartiersmanagement Pennenfeld":MAILTO:wilbertz@vebowag.de
END:VEVENT
BEGIN:VEVENT
DTSTART;TZID=Europe/Berlin:20210818T120000
DTEND;TZID=Europe/Berlin:20210818T120000
DTSTAMP:20260425T164618
CREATED:20210804T170848Z
LAST-MODIFIED:20210804T180120Z
UID:2485-1629288000-1629288000@wohnen-im-pennenfeld.de
SUMMARY:Mittagstisch – ein deftiges Essen nach Hausfrauenart
DESCRIPTION:Kostenbeitrag inkl. Nachtisch und Kaffee: € 4\,-. \nBitte melden Sie sich bis zum 13.8.2021 an: Frank Wilbertz 0228-9158 444 \nAlle Veranstaltungen finden selbstverständlich unter den aktuellen Hygienebedingungen und unter Berücksichtigung der drei Gs : geimpft\, genesen\, getestet statt. Bitte bringen Sie zu allen Veranstaltungen die entsprechenden Nachweise mit. Vielen Dank für Ihr Verständnis!
URL:https://wohnen-im-pennenfeld.de/termine/mittagstisch-ein-deftiges-essen-nach-hausfrauenart-4/
LOCATION:Nachbarschaftstreff Pennenfeld\, Maidenheadstraße 20\, Bonn\, NRW\, 53177\, Deutschland
ORGANIZER;CN="Quartiersmanagement Pennenfeld":MAILTO:wilbertz@vebowag.de
END:VEVENT
BEGIN:VEVENT
DTSTART;TZID=Europe/Berlin:20210812T150000
DTEND;TZID=Europe/Berlin:20210812T170000
DTSTAMP:20260425T164618
CREATED:20210804T180348Z
LAST-MODIFIED:20210804T180348Z
UID:2487-1628780400-1628787600@wohnen-im-pennenfeld.de
SUMMARY:Gesangsnachmittag bei Kaffee und Kuchen – im Garten des Nachbarschaftstreffs
DESCRIPTION:Bitte kommen Sie außen um das Gebäude in den Garten. \nLeitung: Frau Dr. M. Knüpling. \nGemeinsam singen wir Lieder quer durch das deutsche Liederbuch zu Akkordeon- und Mandolinenbegleitung. \nDie Veranstaltung ist kostenlos\, Spenden willkommen\, keine Anmeldung erforderlich. Bei Regen muss die Veranstaltung leider ausfallen. \nAlle Veranstaltungen finden selbstverständlich unter den aktuellen Hygienebedingungen und unter Berücksichtigung der drei Gs: geimpft\, genesen\, getestet statt. Bitte bringen Sie zu allen Veranstaltungen die entsprechenden Nachweise mit. Vielen Dank für Ihr Verständnis!
URL:https://wohnen-im-pennenfeld.de/termine/gesangsnachmittag-bei-kaffee-und-kuchen-im-garten-des-nachbarschaftstreffs-2/
LOCATION:Garten des Nachbarschaftstreffs Pennenfeld
ORGANIZER;CN="Quartiersmanagement Pennenfeld":MAILTO:wilbertz@vebowag.de
END:VEVENT
BEGIN:VEVENT
DTSTART;TZID=Europe/Berlin:20210805T153000
DTEND;TZID=Europe/Berlin:20210805T163000
DTSTAMP:20260425T164618
CREATED:20210804T165700Z
LAST-MODIFIED:20210804T165700Z
UID:2479-1628177400-1628181000@wohnen-im-pennenfeld.de
SUMMARY:English conversation – Für jedes Niveau.
DESCRIPTION:Leitung: Brinda Krosta \nKosten: € 5\,- pro Monat. \nBitte melden Sie sich an: 0228-2274 2441 (AB). \nAlle Veranstaltungen finden selbstverständlich unter den aktuellen Hygienebedingungen und unter Berücksichtigung der drei Gs : geimpft\, genesen\, getestet statt. Bitte bringen Sie zu allen Veranstaltungen die entsprechenden Nachweise mit. Vielen Dank für Ihr Verständnis!
URL:https://wohnen-im-pennenfeld.de/termine/english-conversation-fuer-jedes-niveau-20/
LOCATION:Nachbarschaftstreff Pennenfeld\, Maidenheadstraße 20\, Bonn\, NRW\, 53177\, Deutschland
ORGANIZER;CN="Quartiersmanagement Pennenfeld":MAILTO:wilbertz@vebowag.de
END:VEVENT
BEGIN:VEVENT
DTSTART;TZID=Europe/Berlin:20210723T150000
DTEND;TZID=Europe/Berlin:20210723T170000
DTSTAMP:20260425T164618
CREATED:20210701T181212Z
LAST-MODIFIED:20210701T181212Z
UID:2425-1627052400-1627059600@wohnen-im-pennenfeld.de
SUMMARY:Repair Café - Reparieren statt wegwerfen!
DESCRIPTION:In gemütlicher Atmosphäre reparieren wir auf der Terrasse des Nachbarschaftstreffs unter fachkundiger Anleitung Elektrogeräte\, Möbelstücke und andere Holzarbeiten. \nAnmeldung/Terminvergabe bis 23.7.\, 12 Uhr: Frank Wilbertz 0228-9158 444. \nDie Veranstaltung ist kostenlos\, Spenden willkommen. \nAlle Veranstaltungen finden selbstverständlich unter den aktuellen Hygienebedingungen und unter Berücksichtigung der drei Gs : geimpft\, genesen\, getestet statt. Bitte bringen Sie zu allen Veranstaltungen die entsprechenden Nachweise mit. Vielen Dank für Ihr Verständnis!
URL:https://wohnen-im-pennenfeld.de/termine/repair-cafe-reparieren-statt-wegwerfen-11/
LOCATION:Terrasse des Nachbarschaftstreffs Pennenfeld\, Maidenheadstraße 20\, Bonn\, NRW\, 53177\, Deutschland
ORGANIZER;CN="Quartiersmanagement Pennenfeld":MAILTO:wilbertz@vebowag.de
END:VEVENT
BEGIN:VEVENT
DTSTART;TZID=Europe/Berlin:20210715T153000
DTEND;TZID=Europe/Berlin:20210715T163000
DTSTAMP:20260425T164618
CREATED:20210701T181556Z
LAST-MODIFIED:20210701T181556Z
UID:2429-1626363000-1626366600@wohnen-im-pennenfeld.de
SUMMARY:English conversation - Für jedes Niveau.
DESCRIPTION:Leitung: Brinda Krosta \nKosten: € 5\,- pro Monat. \nBitte melden Sie sich an: 0228-2274 2441 (AB). \nAlle Veranstaltungen finden selbstverständlich unter den aktuellen Hygienebedingungen und unter Berücksichtigung der drei Gs : geimpft\, genesen\, getestet statt. Bitte bringen Sie zu allen Veranstaltungen die entsprechenden Nachweise mit. Vielen Dank für Ihr Verständnis!
URL:https://wohnen-im-pennenfeld.de/termine/english-conversation-fuer-jedes-niveau-19/
LOCATION:Nachbarschaftstreff Pennenfeld\, Maidenheadstraße 20\, Bonn\, NRW\, 53177\, Deutschland
ORGANIZER;CN="Quartiersmanagement Pennenfeld":MAILTO:wilbertz@vebowag.de
END:VEVENT
BEGIN:VEVENT
DTSTART;TZID=Europe/Berlin:20210714T120000
DTEND;TZID=Europe/Berlin:20210714T120000
DTSTAMP:20260425T164618
CREATED:20210701T180754Z
LAST-MODIFIED:20210701T180852Z
UID:2423-1626264000-1626264000@wohnen-im-pennenfeld.de
SUMMARY:Mittagstisch – ein deftiges Essen nach Hausfrauenart
DESCRIPTION:Kostenbeitrag inkl. Nachtisch und Kaffee: € 4\,-. \nBitte melden Sie sich bis zum 8.7.2021 an: Nadine Schwarz-Kühle 0228-2274 2441 \nAlle Veranstaltungen finden selbstverständlich unter den aktuellen Hygienebedingungen und unter Berücksichtigung der drei Gs : geimpft\, genesen\, getestet statt. Bitte bringen Sie zu allen Veranstaltungen die entsprechenden Nachweise mit. Vielen Dank für Ihr Verständnis!
URL:https://wohnen-im-pennenfeld.de/termine/mittagstisch-ein-deftiges-essen-nach-hausfrauenart-3/
LOCATION:Nachbarschaftstreff Pennenfeld\, Maidenheadstraße 20\, Bonn\, NRW\, 53177\, Deutschland
ORGANIZER;CN="Quartiersmanagement Pennenfeld":MAILTO:wilbertz@vebowag.de
END:VEVENT
BEGIN:VEVENT
DTSTART;TZID=Europe/Berlin:20210708T150000
DTEND;TZID=Europe/Berlin:20210708T170000
DTSTAMP:20260425T164618
CREATED:20210701T180450Z
LAST-MODIFIED:20210701T180450Z
UID:2421-1625756400-1625763600@wohnen-im-pennenfeld.de
SUMMARY:Gesangsnachmittag bei Kaffee und Kuchen – im Garten des Nachbarschaftstreffs
DESCRIPTION:Bitte kommen Sie außen um das Gebäude in den Garten. \nLeitung: Frau Dr. M. Knüpling. \nGemeinsam singen wir Lieder quer durch das deutsche Liederbuch zu Akkordeon- und Mandolinebegleitung. \nDie Veranstaltung ist kostenlos\, Spenden willkommen\, keine Anmeldung erforderlich. \nAlle Veranstaltungen finden selbstverständlich unter den aktuellen Hygienebedingungen und unter Berücksichtigung der drei Gs: geimpft\, genesen\, getestet statt. Bitte bringen Sie zu allen Veranstaltungen die entsprechenden Nachweise mit. Vielen Dank für Ihr Verständnis! \n  \n 
URL:https://wohnen-im-pennenfeld.de/termine/gesangsnachmittag-bei-kaffee-und-kuchen-im-garten-des-nachbarschaftstreffs/
LOCATION:Garten des Nachbarschaftstreffs Pennenfeld
ORGANIZER;CN="Quartiersmanagement Pennenfeld":MAILTO:wilbertz@vebowag.de
END:VEVENT
BEGIN:VEVENT
DTSTART;TZID=Europe/Berlin:20210701T153000
DTEND;TZID=Europe/Berlin:20210701T163000
DTSTAMP:20260425T164618
CREATED:20210701T181450Z
LAST-MODIFIED:20210701T181651Z
UID:2427-1625153400-1625157000@wohnen-im-pennenfeld.de
SUMMARY:English conversation - Für jedes Niveau.
DESCRIPTION:Leitung: Brinda Krosta \nKosten: € 5\,- pro Monat. \nBitte melden Sie sich an: 0228-2274 2441 (AB). \nAlle Veranstaltungen finden selbstverständlich unter den aktuellen Hygienebedingungen und unter Berücksichtigung der drei Gs : geimpft\, genesen\, getestet statt. Bitte bringen Sie zu allen Veranstaltungen die entsprechenden Nachweise mit. Vielen Dank für Ihr Verständnis!
URL:https://wohnen-im-pennenfeld.de/termine/english-conversation-fuer-jedes-niveau-18/
LOCATION:Nachbarschaftstreff Pennenfeld\, Maidenheadstraße 20\, Bonn\, NRW\, 53177\, Deutschland
ORGANIZER;CN="Quartiersmanagement Pennenfeld":MAILTO:wilbertz@vebowag.de
END:VEVENT
BEGIN:VEVENT
DTSTART;TZID=Europe/Berlin:20210625T150000
DTEND;TZID=Europe/Berlin:20210625T150000
DTSTAMP:20260425T164618
CREATED:20210618T154242Z
LAST-MODIFIED:20210623T154425Z
UID:2406-1624633200-1624633200@wohnen-im-pennenfeld.de
SUMMARY:Café Pennenfeld
DESCRIPTION:
URL:https://wohnen-im-pennenfeld.de/termine/r-cafe-pennenfeld/
LOCATION:Terrasse des Nachbarschaftstreffs Pennenfeld\, Maidenheadstraße 20\, Bonn\, NRW\, 53177\, Deutschland
ORGANIZER;CN="Quartiersmanagement Pennenfeld":MAILTO:wilbertz@vebowag.de
END:VEVENT
BEGIN:VEVENT
DTSTART;TZID=Europe/Berlin:20210623T173000
DTEND;TZID=Europe/Berlin:20210623T183000
DTSTAMP:20260425T164618
CREATED:20210608T161322Z
LAST-MODIFIED:20210608T161358Z
UID:2378-1624469400-1624473000@wohnen-im-pennenfeld.de
SUMMARY:Pennenfeld trifft sich online!
DESCRIPTION:
URL:https://wohnen-im-pennenfeld.de/termine/2378/
LOCATION:Online
ORGANIZER;CN="Quartiersmanagement Pennenfeld":MAILTO:wilbertz@vebowag.de
END:VEVENT
BEGIN:VEVENT
DTSTART;TZID=Europe/Berlin:20210617T150000
DTEND;TZID=Europe/Berlin:20210617T170000
DTSTAMP:20260425T164618
CREATED:20210608T160106Z
LAST-MODIFIED:20210608T160106Z
UID:2369-1623942000-1623949200@wohnen-im-pennenfeld.de
SUMMARY:Wir singen wieder!
DESCRIPTION:
URL:https://wohnen-im-pennenfeld.de/termine/wir-singen-wieder/
LOCATION:Garten des Nachbarschaftstreffs Pennenfeld
ORGANIZER;CN="Quartiersmanagement Pennenfeld":MAILTO:wilbertz@vebowag.de
END:VEVENT
BEGIN:VEVENT
DTSTART;TZID=Europe/Berlin:20210609T173000
DTEND;TZID=Europe/Berlin:20210609T183000
DTSTAMP:20260425T164618
CREATED:20210601T155827Z
LAST-MODIFIED:20210608T155942Z
UID:2366-1623259800-1623263400@wohnen-im-pennenfeld.de
SUMMARY:Pennenfeld trifft sich online!
DESCRIPTION:
URL:https://wohnen-im-pennenfeld.de/termine/pennenfeld-trifft-sich-online-11/
LOCATION:Online
ORGANIZER;CN="Quartiersmanagement Pennenfeld":MAILTO:wilbertz@vebowag.de
END:VEVENT
BEGIN:VEVENT
DTSTART;VALUE=DATE:20210528
DTEND;VALUE=DATE:20210529
DTSTAMP:20260425T164618
CREATED:20210525T174316Z
LAST-MODIFIED:20210525T174714Z
UID:2321-1622160000-1622246399@wohnen-im-pennenfeld.de
SUMMARY:"Führen Sie Ihren Nachbarn aus!" - am Tag der Nachbarn am 28.5.2021
DESCRIPTION:
URL:https://wohnen-im-pennenfeld.de/termine/fuehren-sie-ihren-nachbarn-aus-am-tag-der-nachbarn-am-28-5-2021/
END:VEVENT
BEGIN:VEVENT
DTSTART;TZID=Europe/Berlin:20210527T160000
DTEND;TZID=Europe/Berlin:20210527T170000
DTSTAMP:20260425T164618
CREATED:20210510T153443Z
LAST-MODIFIED:20210525T173532Z
UID:2313-1622131200-1622134800@wohnen-im-pennenfeld.de
SUMMARY:Eltern-Kind-Zoom-Sport
DESCRIPTION:
URL:https://wohnen-im-pennenfeld.de/termine/eltern-kind-zoom-sport-10/
LOCATION:Online
END:VEVENT
BEGIN:VEVENT
DTSTART;TZID=Europe/Berlin:20210526T173000
DTEND;TZID=Europe/Berlin:20210526T183000
DTSTAMP:20260425T164618
CREATED:20210507T074458Z
LAST-MODIFIED:20210512T074657Z
UID:2287-1622050200-1622053800@wohnen-im-pennenfeld.de
SUMMARY:Pennenfeld trifft sich online!
DESCRIPTION:
URL:https://wohnen-im-pennenfeld.de/termine/pennenfeld-trifft-sich-online-10/
LOCATION:Online
ORGANIZER;CN="Quartiersmanagement Pennenfeld":MAILTO:wilbertz@vebowag.de
END:VEVENT
END:VCALENDAR