﻿BEGIN:VCALENDAR
VERSION:2.0
PRODID:-//Pennenfeld - ECPv6.10.0//NONSGML v1.0//EN
CALSCALE:GREGORIAN
METHOD:PUBLISH
X-WR-CALNAME:Pennenfeld
X-ORIGINAL-URL:https://wohnen-im-pennenfeld.de
X-WR-CALDESC:Veranstaltungen für Pennenfeld
REFRESH-INTERVAL;VALUE=DURATION:PT1H
X-Robots-Tag:noindex
X-PUBLISHED-TTL:PT1H
BEGIN:VTIMEZONE
TZID:Europe/Berlin
BEGIN:DAYLIGHT
TZOFFSETFROM:+0100
TZOFFSETTO:+0200
TZNAME:CEST
DTSTART:20200329T010000
END:DAYLIGHT
BEGIN:STANDARD
TZOFFSETFROM:+0200
TZOFFSETTO:+0100
TZNAME:CET
DTSTART:20201025T010000
END:STANDARD
END:VTIMEZONE
BEGIN:VEVENT
DTSTART;TZID=Europe/Berlin:20200910T150000
DTEND;TZID=Europe/Berlin:20200910T170000
DTSTAMP:20260426T055236
CREATED:20200901T160115Z
LAST-MODIFIED:20200911T161953Z
UID:1803-1599750000-1599757200@wohnen-im-pennenfeld.de
SUMMARY:Gesangsnachmittag bei Kaffee und Kuchen
DESCRIPTION:Leitung: Frau Dr. M. Knüpling. Gemeinsam singen wir mit Akkordeonbegleitung im Garten des Nachbarschaftstreff. \nDenken Sie bitte an Ihre Gesichtsmaske. Keine Anmeldung erforderlich.\nKostenbeitrag: € 2\,50.
URL:https://wohnen-im-pennenfeld.de/termine/gesangsnachmittag-bei-kaffee-und-kuchen-10/
LOCATION:Terrasse des Nachbarschaftstreffs Pennenfeld\, Maidenheadstraße 20\, Bonn\, NRW\, 53177\, Deutschland
ORGANIZER;CN="Quartiersmanagement Pennenfeld":MAILTO:wilbertz@vebowag.de
END:VEVENT
BEGIN:VEVENT
DTSTART;TZID=Europe/Berlin:20200908T100000
DTEND;TZID=Europe/Berlin:20200908T110000
DTSTAMP:20260426T055236
CREATED:20200901T144910Z
LAST-MODIFIED:20200901T144945Z
UID:1792-1599559200-1599562800@wohnen-im-pennenfeld.de
SUMMARY:Sitzgymnastik in Kooperation mit dem GTV.
DESCRIPTION:Jeder Termin kann einzeln und ohne Voranmeldung besucht werden. \n\n\n\n\n\n\nJe Termin: € 5\,-/ € 2\,50 für GTV-Mitglieder\nGesichtsschutzmaskenpflicht. Findet bei gutem Wetter auf der Terrasse des Nachbarschaftstreff Pennenfeld statt.
URL:https://wohnen-im-pennenfeld.de/termine/sitzgymnastik-in-kooperation-mit-dem-gtv-36/
LOCATION:Terrasse des Nachbarschaftstreffs Pennenfeld\, Maidenheadstraße 20\, Bonn\, NRW\, 53177\, Deutschland
END:VEVENT
BEGIN:VEVENT
DTSTART;TZID=Europe/Berlin:20200903T153000
DTEND;TZID=Europe/Berlin:20200903T163000
DTSTAMP:20260426T055236
CREATED:20200901T145516Z
LAST-MODIFIED:20200911T162057Z
UID:1797-1599147000-1599150600@wohnen-im-pennenfeld.de
SUMMARY:English conversation – Für jedes Niveau.
DESCRIPTION:Kosten: € 5\,- pro Monat. Denken Sie bitte an Ihre Gesichtsmaske. Bitte melden Sie sich an: 0228-2274 2441 (AB).\nLeitung: Brinda Krosta
URL:https://wohnen-im-pennenfeld.de/termine/english-conversation-fuer-jedes-niveau-14/
LOCATION:Nachbarschaftstreff Pennenfeld\, Maidenheadstraße 20\, Bonn\, NRW\, 53177\, Deutschland
ORGANIZER;CN="Quartiersmanagement Pennenfeld":MAILTO:wilbertz@vebowag.de
END:VEVENT
BEGIN:VEVENT
DTSTART;TZID=Europe/Berlin:20200901T100000
DTEND;TZID=Europe/Berlin:20200901T110000
DTSTAMP:20260426T055236
CREATED:20200825T135228Z
LAST-MODIFIED:20200825T135228Z
UID:1771-1598954400-1598958000@wohnen-im-pennenfeld.de
SUMMARY:Sitzgymnastik in Kooperation mit dem GTV.
DESCRIPTION:Jeder Termin kann einzeln und ohne Voranmeldung besucht werden. \n\n\n\n\n\n\nJe Termin: € 5\,-/ € 2\,50 für GTV-Mitglieder \nGesichtsschutzmaskenpflicht. Findet bei gutem Wetter auf der Terrasse des Nachbarschaftstreff Pennenfeld statt.
URL:https://wohnen-im-pennenfeld.de/termine/sitzgymnastik-in-kooperation-mit-dem-gtv-35/
LOCATION:Nachbarschaftstreff Pennenfeld\, Maidenheadstraße 20\, Bonn\, NRW\, 53177\, Deutschland
END:VEVENT
BEGIN:VEVENT
DTSTART;TZID=Europe/Berlin:20200825T100000
DTEND;TZID=Europe/Berlin:20200825T110000
DTSTAMP:20260426T055236
CREATED:20200819T185846Z
LAST-MODIFIED:20200819T185940Z
UID:1766-1598349600-1598353200@wohnen-im-pennenfeld.de
SUMMARY:Sitzgymnastik in Kooperation mit dem GTV.
DESCRIPTION:Jeder Termin kann einzeln und ohne Voranmeldung besucht werden. \n\n\n\n\n\n\nJe Termin: € 5\,-/ € 2\,50 für GTV-Mitglieder \nGesichtsschutzmaskenpflicht. Findet bei gutem Wetter auf der Terrasse des Nachbarschaftstreff Pennenfeld statt.
URL:https://wohnen-im-pennenfeld.de/termine/sitzgymnastik-in-kooperation-mit-dem-gtv-34/
LOCATION:Terrasse des Nachbarschaftstreffs Pennenfeld\, Maidenheadstraße 20\, Bonn\, NRW\, 53177\, Deutschland
END:VEVENT
BEGIN:VEVENT
DTSTART;TZID=Europe/Berlin:20200821T150000
DTEND;TZID=Europe/Berlin:20200821T150000
DTSTAMP:20260426T055236
CREATED:20200629T134812Z
LAST-MODIFIED:20200707T135009Z
UID:1713-1598022000-1598022000@wohnen-im-pennenfeld.de
SUMMARY:Repair Café - Reparieren statt Wegwerfen!
DESCRIPTION:Spenden willkommen. \nAufgrund der Coronavirus-bedingten Maßnahmen ist eine Anmeldung unter 0228 9158-444 unbedingt erforderlich!
URL:https://wohnen-im-pennenfeld.de/termine/1713/
LOCATION:Nachbarschaftstreff Pennenfeld\, Maidenheadstraße 20\, Bonn\, NRW\, 53177\, Deutschland
ORGANIZER;CN="Quartiersmanagement Pennenfeld":MAILTO:wilbertz@vebowag.de
END:VEVENT
BEGIN:VEVENT
DTSTART;TZID=Europe/Berlin:20200820T150000
DTEND;TZID=Europe/Berlin:20200820T163000
DTSTAMP:20260426T055236
CREATED:20200817T185626Z
LAST-MODIFIED:20200819T190155Z
UID:1762-1597935600-1597941000@wohnen-im-pennenfeld.de
SUMMARY:Klönen im Garten
DESCRIPTION:Nach einem geselligen Austausch auf der Terrasse gehen wir auf Entdeckungsreise durch den PikoPark. \nBitte denken Sie für alle Fälle an die Gesichtsschutzmaske. \nBei Regen muss der Termin leider ausfallen.
URL:https://wohnen-im-pennenfeld.de/termine/kloenen-im-garten/
ORGANIZER;CN="Quartiersmanagement Pennenfeld":MAILTO:wilbertz@vebowag.de
END:VEVENT
BEGIN:VEVENT
DTSTART;TZID=Europe/Berlin:20200818T100000
DTEND;TZID=Europe/Berlin:20200818T100000
DTSTAMP:20260426T055236
CREATED:20200810T171629Z
LAST-MODIFIED:20200817T171727Z
UID:1750-1597744800-1597744800@wohnen-im-pennenfeld.de
SUMMARY:Sitzgymnastik in Kooperation mit dem GTV.
DESCRIPTION:Jeder Termin kann einzeln und ohne Voranmeldung besucht werden. \n\n\n\n\n\n\nJe Termin: € 5\,-/ € 2\,50 für GTV-Mitglieder \nGesichtsschutzmaskenpflicht. Findet bei gutem Wetter auf der Terrasse des Nachbarschaftstreff Pennenfeld statt.
URL:https://wohnen-im-pennenfeld.de/termine/sitzgymnastik-in-kooperation-mit-dem-gtv-33/
LOCATION:Nachbarschaftstreff Pennenfeld\, Maidenheadstraße 20\, Bonn\, NRW\, 53177\, Deutschland
END:VEVENT
BEGIN:VEVENT
DTSTART;TZID=Europe/Berlin:20200728T100000
DTEND;TZID=Europe/Berlin:20200728T110000
DTSTAMP:20260426T055236
CREATED:20200630T135736Z
LAST-MODIFIED:20200707T135907Z
UID:1722-1595930400-1595934000@wohnen-im-pennenfeld.de
SUMMARY:Sitzgymnastik in Kooperation mit dem GTV.
DESCRIPTION:Jeder Termin kann einzeln und ohne Voranmeldung besucht werden. \n\n\n\n\n\n\nJe Termin: € 5\,-/ € 2\,50 für GTV-Mitglieder \nGesichtsschutzmaskenpflicht. Findet bei gutem Wetter auf der Terrasse des Nachbarschaftstreff Pennenfeld statt.
URL:https://wohnen-im-pennenfeld.de/termine/sitzgymnastik-in-kooperation-mit-dem-gtv-32/
LOCATION:Nachbarschaftstreff Pennenfeld\, Maidenheadstraße 20\, Bonn\, NRW\, 53177\, Deutschland
END:VEVENT
BEGIN:VEVENT
DTSTART;TZID=Europe/Berlin:20200714T100000
DTEND;TZID=Europe/Berlin:20200714T100000
DTSTAMP:20260426T055236
CREATED:20200630T135515Z
LAST-MODIFIED:20200707T135945Z
UID:1720-1594720800-1594720800@wohnen-im-pennenfeld.de
SUMMARY:Sitzgymnastik in Kooperation mit dem GTV.
DESCRIPTION:Jeder Termin kann einzeln und ohne Voranmeldung besucht werden.\n\n\n\n\n\n\n\nJe Termin: € 5\,-/ € 2\,50 für GTV-Mitglieder \nGesichtsschutzmaskenpflicht. Findet bei gutem Wetter auf der Terrasse des Nachbarschaftstreff Pennenfeld statt. \n\n 
URL:https://wohnen-im-pennenfeld.de/termine/sitzgymnastik-in-kooperation-mit-dem-gtv-31/
LOCATION:Nachbarschaftstreff Pennenfeld\, Maidenheadstraße 20\, Bonn\, NRW\, 53177\, Deutschland
END:VEVENT
BEGIN:VEVENT
DTSTART;TZID=Europe/Berlin:20200710T150000
DTEND;TZID=Europe/Berlin:20200710T170000
DTSTAMP:20260426T055236
CREATED:20200629T133916Z
LAST-MODIFIED:20200707T134803Z
UID:1711-1594393200-1594400400@wohnen-im-pennenfeld.de
SUMMARY:Repair Café - Reparieren statt wegswerfen!
DESCRIPTION:In diesem Monat ausnahmsweise am 2. Freitag! \nSpenden willkommen. \nAufgrund der Coronavirus-bedingten Maßnahmen ist eine Anmeldung unter 0228 9158-444 unbedingt erforderlich!
URL:https://wohnen-im-pennenfeld.de/termine/repair-cafe-reparieren-statt-wegswerfen/
LOCATION:Nachbarschaftstreff Pennenfeld\, Maidenheadstraße 20\, Bonn\, NRW\, 53177\, Deutschland
ORGANIZER;CN="Quartiersmanagement Pennenfeld":MAILTO:wilbertz@vebowag.de
END:VEVENT
BEGIN:VEVENT
DTSTART;TZID=Europe/Berlin:20200707T100000
DTEND;TZID=Europe/Berlin:20200707T110000
DTSTAMP:20260426T055236
CREATED:20200630T135233Z
LAST-MODIFIED:20200707T135402Z
UID:1718-1594116000-1594119600@wohnen-im-pennenfeld.de
SUMMARY:Sitzgymnastik in Kooperation mit dem GTV.
DESCRIPTION:Jeder Termin kann einzeln und ohne Voranmeldung besucht werden. \n\n\n\n\nJe Termin: € 5\,-/ € 2\,50 für GTV-Mitglieder \nGesichtsschutzmaskenpflicht. Findet bei gutem Wetter auf der Terrasse des Nachbarschaftstreff Pennenfeld statt.
URL:https://wohnen-im-pennenfeld.de/termine/sitzgymnastik-in-kooperation-mit-dem-gtv-30/
LOCATION:Nachbarschaftstreff Pennenfeld\, Maidenheadstraße 20\, Bonn\, NRW\, 53177\, Deutschland
END:VEVENT
BEGIN:VEVENT
DTSTART;TZID=Europe/Berlin:20200630T100000
DTEND;TZID=Europe/Berlin:20200630T110000
DTSTAMP:20260426T055236
CREATED:20200629T191020Z
LAST-MODIFIED:20200629T191020Z
UID:1703-1593511200-1593514800@wohnen-im-pennenfeld.de
SUMMARY:Sitzgymnastik in Kooperation mit dem GTV.
DESCRIPTION:Jeder Termin kann einzeln und ohne Voranmeldung besucht werden. \n\n\n\n\nJe Termin: € 5\,-/ € 2\,50 für GTV-Mitglieder \nGesichtsschutzmaskenpflicht. Findet bei gutem Wetter auf der Terrasse des Nachbarschaftstreff Pennenfeld statt.
URL:https://wohnen-im-pennenfeld.de/termine/sitzgymnastik-in-kooperation-mit-dem-gtv-29/
LOCATION:Nachbarschaftstreff Pennenfeld\, Maidenheadstraße 20\, Bonn\, NRW\, 53177\, Deutschland
END:VEVENT
BEGIN:VEVENT
DTSTART;TZID=Europe/Berlin:20200331T100000
DTEND;TZID=Europe/Berlin:20200331T110000
DTSTAMP:20260426T055236
CREATED:20200302T183756Z
LAST-MODIFIED:20200316T125713Z
UID:1429-1585648800-1585652400@wohnen-im-pennenfeld.de
SUMMARY:Sitzgymnastik in Kooperation mit dem GTV. --- FÄLLT AUS!!!
DESCRIPTION:Jeder Termin kann einzeln und ohne Voranmeldung besucht werden. \n\n\n\n\nJe Termin: € 5\,-/ € 2\,50 für GTV-Mitglieder
URL:https://wohnen-im-pennenfeld.de/termine/sitzgymnastik-in-kooperation-mit-dem-gtv-28/
LOCATION:Nachbarschaftstreff Pennenfeld\, Maidenheadstraße 20\, Bonn\, NRW\, 53177\, Deutschland
END:VEVENT
BEGIN:VEVENT
DTSTART;TZID=Europe/Berlin:20200329T160000
DTEND;TZID=Europe/Berlin:20200329T180000
DTSTAMP:20260426T055236
CREATED:20200221T083133Z
LAST-MODIFIED:20200225T083736Z
UID:1388-1585497600-1585504800@wohnen-im-pennenfeld.de
SUMMARY:Pflanzen- und Samen-Tauschbörse
DESCRIPTION:
URL:https://wohnen-im-pennenfeld.de/termine/pflanzen-und-samen-tauschboerse-am-29-3-2020-16-18-uhr-im-nachbarschaftstreff-pennenfeld/
LOCATION:Nachbarschaftstreff Pennenfeld\, Maidenheadstraße 20\, Bonn\, NRW\, 53177\, Deutschland
END:VEVENT
BEGIN:VEVENT
DTSTART;TZID=Europe/Berlin:20200324T100000
DTEND;TZID=Europe/Berlin:20200324T110000
DTSTAMP:20260426T055236
CREATED:20200302T183628Z
LAST-MODIFIED:20200316T125805Z
UID:1422-1585044000-1585047600@wohnen-im-pennenfeld.de
SUMMARY:Sitzgymnastik in Kooperation mit dem GTV. --- FÄLLT AUS!!!
DESCRIPTION:Jeder Termin kann einzeln und ohne Voranmeldung besucht werden. \n\n\n\n\nJe Termin: € 5\,-/ € 2\,50 für GTV-Mitglieder
URL:https://wohnen-im-pennenfeld.de/termine/sitzgymnastik-in-kooperation-mit-dem-gtv-27/
LOCATION:Nachbarschaftstreff Pennenfeld\, Maidenheadstraße 20\, Bonn\, NRW\, 53177\, Deutschland
END:VEVENT
BEGIN:VEVENT
DTSTART;TZID=Europe/Berlin:20200320T150000
DTEND;TZID=Europe/Berlin:20200320T170000
DTSTAMP:20260426T055236
CREATED:20200303T093603Z
LAST-MODIFIED:20200316T125638Z
UID:1450-1584716400-1584723600@wohnen-im-pennenfeld.de
SUMMARY:Repair Café – Reparieren statt wegwerfen! --- FÄLLT AUS!!!
DESCRIPTION:Spenden willkommen\, keine Anmeldung erforderlich.
URL:https://wohnen-im-pennenfeld.de/termine/repair-cafe-reparieren-statt-wegwerfen-8/
LOCATION:Nachbarschaftstreff Pennenfeld\, Maidenheadstraße 20\, Bonn\, NRW\, 53177\, Deutschland
ORGANIZER;CN="Quartiersmanagement Pennenfeld":MAILTO:wilbertz@vebowag.de
END:VEVENT
BEGIN:VEVENT
DTSTART;TZID=Europe/Berlin:20200320T100000
DTEND;TZID=Europe/Berlin:20200320T120000
DTSTAMP:20260426T055236
CREATED:20200305T095326Z
LAST-MODIFIED:20200312T095627Z
UID:1464-1584698400-1584705600@wohnen-im-pennenfeld.de
SUMMARY:Frühstücken mit Ätherische Ölen
DESCRIPTION:Vorstellung verschiedener Doterra-Öle\, anschließend bieten wir ein Frühstück mit Köstlichkeiten aus der Lebensöle-Küche mit Frage- und Gesprächsrunde. Spenden willkommen.
URL:https://wohnen-im-pennenfeld.de/termine/fruehstuecken-mit-aetherische-oelen/
LOCATION:Nachbarschaftstreff Pennenfeld\, Maidenheadstraße 20\, Bonn\, NRW\, 53177\, Deutschland
ORGANIZER;CN="Quartiersmanagement Pennenfeld":MAILTO:wilbertz@vebowag.de
END:VEVENT
BEGIN:VEVENT
DTSTART;TZID=Europe/Berlin:20200318T120000
DTEND;TZID=Europe/Berlin:20200318T120000
DTSTAMP:20260426T055236
CREATED:20200303T093732Z
LAST-MODIFIED:20200316T125615Z
UID:1455-1584532800-1584532800@wohnen-im-pennenfeld.de
SUMMARY:Mittagstisch – nach Hausfrauenart --- FÄLLT AUS!!!
DESCRIPTION:Kostenbeitrag inkl. Nachtisch und Kaffee: € 4\,-. Bitte melden Sie […]
URL:https://wohnen-im-pennenfeld.de/termine/mittagstisch-nach-hausfrauenart-9/
LOCATION:Nachbarschaftstreff Pennenfeld\, Maidenheadstraße 20\, Bonn\, NRW\, 53177\, Deutschland
ORGANIZER;CN="Quartiersmanagement Pennenfeld":MAILTO:wilbertz@vebowag.de
END:VEVENT
BEGIN:VEVENT
DTSTART;TZID=Europe/Berlin:20200317T100000
DTEND;TZID=Europe/Berlin:20200317T110000
DTSTAMP:20260426T055236
CREATED:20200302T183438Z
LAST-MODIFIED:20200316T125842Z
UID:1419-1584439200-1584442800@wohnen-im-pennenfeld.de
SUMMARY:Sitzgymnastik in Kooperation mit dem GTV. --- FÄLLT AUS!!!
DESCRIPTION:Jeder Termin kann einzeln und ohne Voranmeldung besucht werden. \n\n\n\n\nJe Termin: € 5\,-/ € 2\,50 für GTV-Mitglieder
URL:https://wohnen-im-pennenfeld.de/termine/sitzgymnastik-in-kooperation-mit-dem-gtv-26/
LOCATION:Nachbarschaftstreff Pennenfeld\, Maidenheadstraße 20\, Bonn\, NRW\, 53177\, Deutschland
END:VEVENT
BEGIN:VEVENT
DTSTART;TZID=Europe/Berlin:20200314T110000
DTEND;TZID=Europe/Berlin:20200314T130000
DTSTAMP:20260426T055236
CREATED:20200305T184015Z
LAST-MODIFIED:20200313T131643Z
UID:1443-1584183600-1584190800@wohnen-im-pennenfeld.de
SUMMARY:Bonn-Picobello - Pennenfeld Picobello am 14.3.2020\, 11 Uhr - ABGESAGT
DESCRIPTION:Update: 13.3.2020 \nNachdem wir die aktuelle Lage heute Vormittag noch einmal neu bewertet haben\, haben wir uns schweren Herzens entschlossen\, die morgige Veranstaltung nicht stattfinden zu lassen. Wir beabsichtigen allerdings\, die Picobello-Aktion zu einem späteren Termin\, vielleicht im Herbst d.J. nachzuholen und würden uns freuen\, wenn wir uns in dann hoffentlich ruhigeren Zeiten in dieser Form gemeinsam für den Stadtbezirk engagieren könnten. \n  \nNatürlich betrachten auch wir die aktuellen Corona-Infektionen mit Sorge und halten uns über die Homepage der Stadt Bonn sowie über die aktuellen Verlautbarungen des Robert-Koch-Institutes auf dem Laufenden; auch mit bonnorange stehen wir in Kontakt. Aufgrund aller uns vorliegenden Informationen (Stand: 12.3.2020\, 18 Uhr) halten wir die Durchführung unserer gemeinsamen Picobello-Aktion aktuell für vertretbar. \nAuch wenn wir entsprechende Vorkehrungen für die Räumlichkeiten des Nachbarschaftstreffs Pennenfeld aktuell schon durchführen\, bitten wir aber jeden Einzelnen\, selbst noch einmal eine Risikoabwägung für sich vorzunehmen! \nSollten sich Änderungen bei der Einschätzung durch die fachlichen Stellen ergeben\, werden auch wir entsprechend reagieren.
URL:https://wohnen-im-pennenfeld.de/termine/bonn-picobello-pennenfeld-picobello-am-14-3-2020-11-uhr/
LOCATION:Nachbarschaftstreff Pennenfeld\, Maidenheadstraße 20\, Bonn\, NRW\, 53177\, Deutschland
ORGANIZER;CN="Quartiersmanagement Pennenfeld":MAILTO:wilbertz@vebowag.de
END:VEVENT
BEGIN:VEVENT
DTSTART;TZID=Europe/Berlin:20200313T093000
DTEND;TZID=Europe/Berlin:20200313T110000
DTSTAMP:20260426T055236
CREATED:20200303T094537Z
LAST-MODIFIED:20200312T094551Z
UID:1462-1584091800-1584097200@wohnen-im-pennenfeld.de
SUMMARY:Orientalisches Frühstück für Frauen aus aller Welt.
DESCRIPTION:Jede ist herzliche zu unserer gemütlichen Runde eingeladen.\n\n\n\n\nDie Veranstaltung ist kostenlos\, ein Beitrag für das gemeinsame Buffet erbeten.
URL:https://wohnen-im-pennenfeld.de/termine/orientalisches-fruehstueck-fuer-frauen-aus-aller-welt-7/
LOCATION:Nachbarschaftstreff Pennenfeld\, Maidenheadstraße 20\, Bonn\, NRW\, 53177\, Deutschland
ORGANIZER;CN="Quartiersmanagement Pennenfeld":MAILTO:wilbertz@vebowag.de
END:VEVENT
BEGIN:VEVENT
DTSTART;TZID=Europe/Berlin:20200312T150000
DTEND;TZID=Europe/Berlin:20200312T170000
DTSTAMP:20260426T055236
CREATED:20200302T093320Z
LAST-MODIFIED:20200312T093507Z
UID:1447-1584025200-1584032400@wohnen-im-pennenfeld.de
SUMMARY:Gesangsnachmittag bei Kaffee und Kuchen
DESCRIPTION:Leitung: Frau Dr. M. Knüpling. Gemeinsam singen wir mit Akkordeonbegleitung.\nKostenbeitrag: € 2\,50.
URL:https://wohnen-im-pennenfeld.de/termine/gesangsnachmittag-bei-kaffee-und-kuchen-9/
LOCATION:Nachbarschaftstreff Pennenfeld\, Maidenheadstraße 20\, Bonn\, NRW\, 53177\, Deutschland
ORGANIZER;CN="Quartiersmanagement Pennenfeld":MAILTO:wilbertz@vebowag.de
END:VEVENT
BEGIN:VEVENT
DTSTART;TZID=Europe/Berlin:20200310T100000
DTEND;TZID=Europe/Berlin:20200310T110000
DTSTAMP:20260426T055236
CREATED:20200302T183253Z
LAST-MODIFIED:20200302T183253Z
UID:1415-1583834400-1583838000@wohnen-im-pennenfeld.de
SUMMARY:Sitzgymnastik in Kooperation mit dem GTV.
DESCRIPTION:Jeder Termin kann einzeln und ohne Voranmeldung besucht werden. \n\n\n\n\nJe Termin: € 5\,-/ € 2\,50 für GTV-Mitglieder
URL:https://wohnen-im-pennenfeld.de/termine/sitzgymnastik-in-kooperation-mit-dem-gtv-25/
LOCATION:Nachbarschaftstreff Pennenfeld\, Maidenheadstraße 20\, Bonn\, NRW\, 53177\, Deutschland
END:VEVENT
BEGIN:VEVENT
DTSTART;TZID=Europe/Berlin:20200305T180000
DTEND;TZID=Europe/Berlin:20200305T200000
DTSTAMP:20260426T055236
CREATED:20200302T190637Z
LAST-MODIFIED:20200302T190723Z
UID:1438-1583431200-1583438400@wohnen-im-pennenfeld.de
SUMMARY:Make & Take: Ätherische Ölmischungen selbst herstellen
DESCRIPTION:Nach den eigenen Bedürfnissen können Ölmischungen unter Anleitung selbst hergestellt werden. Kosten pro Mischung im Fläschchen: 5\,- €
URL:https://wohnen-im-pennenfeld.de/termine/make-take-aetherische-oelmischungen-selbst-herstellen/
LOCATION:Nachbarschaftstreff Pennenfeld\, Maidenheadstraße 20\, Bonn\, NRW\, 53177\, Deutschland
ORGANIZER;CN="Quartiersmanagement Pennenfeld":MAILTO:wilbertz@vebowag.de
END:VEVENT
BEGIN:VEVENT
DTSTART;TZID=Europe/Berlin:20200305T153000
DTEND;TZID=Europe/Berlin:20200305T163000
DTSTAMP:20260426T055236
CREATED:20200302T184239Z
LAST-MODIFIED:20200302T184239Z
UID:1436-1583422200-1583425800@wohnen-im-pennenfeld.de
SUMMARY:English conversation – Für jedes Niveau.
DESCRIPTION:Kosten: € 5\,- pro Monat. Bitte melden Sie sich an: 0228-2274 2441 (AB).\nLeitung: Brinda Krosta
URL:https://wohnen-im-pennenfeld.de/termine/english-conversation-fuer-jedes-niveau-13/
LOCATION:Nachbarschaftstreff Pennenfeld\, Maidenheadstraße 20\, Bonn\, NRW\, 53177\, Deutschland
ORGANIZER;CN="Quartiersmanagement Pennenfeld":MAILTO:wilbertz@vebowag.de
END:VEVENT
BEGIN:VEVENT
DTSTART;TZID=Europe/Berlin:20200303T150000
DTEND;TZID=Europe/Berlin:20200303T170000
DTSTAMP:20260426T055236
CREATED:20200302T172859Z
LAST-MODIFIED:20200302T172859Z
UID:1395-1583247600-1583254800@wohnen-im-pennenfeld.de
SUMMARY:Naturinsel Pennenfeld - Planungstreffen
DESCRIPTION:
URL:https://wohnen-im-pennenfeld.de/termine/naturinsel-pennenfeld-planungstreffen/
LOCATION:Nachbarschaftstreff Pennenfeld\, Maidenheadstraße 20\, Bonn\, NRW\, 53177\, Deutschland
ORGANIZER;CN="Quartiersmanagement Pennenfeld":MAILTO:wilbertz@vebowag.de
END:VEVENT
BEGIN:VEVENT
DTSTART;TZID=Europe/Berlin:20200303T110000
DTEND;TZID=Europe/Berlin:20200303T120000
DTSTAMP:20260426T055236
CREATED:20200302T183004Z
LAST-MODIFIED:20200302T183120Z
UID:1409-1583233200-1583236800@wohnen-im-pennenfeld.de
SUMMARY:Sitzgymnastik in Kooperation mit dem GTV
DESCRIPTION:Jeder Termin kann einzeln und ohne Voranmeldung besucht werden. \n\n\n\n\nJe Termin: € 5\,-/ € 2\,50 für GTV-Mitglieder
URL:https://wohnen-im-pennenfeld.de/termine/sitzgymnastik-in-kooperation-mit-dem-gtv-24/
LOCATION:Nachbarschaftstreff Pennenfeld\, Maidenheadstraße 20\, Bonn\, NRW\, 53177\, Deutschland
END:VEVENT
BEGIN:VEVENT
DTSTART;TZID=Europe/Berlin:20200227T153000
DTEND;TZID=Europe/Berlin:20200227T163000
DTSTAMP:20260426T055236
CREATED:20200204T110458Z
LAST-MODIFIED:20200204T110458Z
UID:1346-1582817400-1582821000@wohnen-im-pennenfeld.de
SUMMARY:English conversation - Für jedes Niveau.
DESCRIPTION:Kosten: € 5\,- pro Monat. Bitte melden Sie sich an: 0228-2274 2441 (AB).\nLeitung: Brinda Krosta
URL:https://wohnen-im-pennenfeld.de/termine/english-conversation-fuer-jedes-niveau-12/
LOCATION:Nachbarschaftstreff Pennenfeld\, Maidenheadstraße 20\, Bonn\, NRW\, 53177\, Deutschland
ORGANIZER;CN="Quartiersmanagement Pennenfeld":MAILTO:wilbertz@vebowag.de
END:VEVENT
BEGIN:VEVENT
DTSTART;TZID=Europe/Berlin:20200221T150000
DTEND;TZID=Europe/Berlin:20200221T170000
DTSTAMP:20260426T055236
CREATED:20200204T103607Z
LAST-MODIFIED:20200204T103607Z
UID:1338-1582297200-1582304400@wohnen-im-pennenfeld.de
SUMMARY:Repair Café - Reparieren statt wegwerfen!
DESCRIPTION:Spenden willkommen\, keine Anmeldung erforderlich.
URL:https://wohnen-im-pennenfeld.de/termine/repair-cafe-reparieren-statt-wegwerfen-7/
LOCATION:Nachbarschaftstreff Pennenfeld\, Maidenheadstraße 20\, Bonn\, NRW\, 53177\, Deutschland
ORGANIZER;CN="Quartiersmanagement Pennenfeld":MAILTO:wilbertz@vebowag.de
END:VEVENT
END:VCALENDAR