﻿BEGIN:VCALENDAR
VERSION:2.0
PRODID:-//Pennenfeld - ECPv6.10.0//NONSGML v1.0//EN
CALSCALE:GREGORIAN
METHOD:PUBLISH
X-WR-CALNAME:Pennenfeld
X-ORIGINAL-URL:https://wohnen-im-pennenfeld.de
X-WR-CALDESC:Veranstaltungen für Pennenfeld
REFRESH-INTERVAL;VALUE=DURATION:PT1H
X-Robots-Tag:noindex
X-PUBLISHED-TTL:PT1H
BEGIN:VTIMEZONE
TZID:Europe/Berlin
BEGIN:DAYLIGHT
TZOFFSETFROM:+0100
TZOFFSETTO:+0200
TZNAME:CEST
DTSTART:20250330T010000
END:DAYLIGHT
BEGIN:STANDARD
TZOFFSETFROM:+0200
TZOFFSETTO:+0100
TZNAME:CET
DTSTART:20251026T010000
END:STANDARD
END:VTIMEZONE
BEGIN:VEVENT
DTSTART;TZID=Europe/Berlin:20250503T093000
DTEND;TZID=Europe/Berlin:20250503T110000
DTSTAMP:20260420T034943
CREATED:20250515T112847Z
LAST-MODIFIED:20250519T133102Z
UID:6448-1746264600-1746270000@wohnen-im-pennenfeld.de
SUMMARY:Qigong für Frauen
DESCRIPTION:Qigong trägt durch seine Bewegungs-\, Atem- und Meditationsübungen zur Wiederherstellung und zum Erhalt von Gesundheit und Wohlbefinden bei. Beim Qigong werden langsame und fließende Bewegungen im Stehen durchgeführt. Es kann in jedem Alter erlernt und angewandt werden!\nDer Kurs kann auch ohne Vorkenntnisse besucht werden.\nKursleiterin: Maria di Gennaro\nTeilnehmerbeitrag: € 5\,- pro Termin. Anmeldung: 0228-227 424 41\, andreea.bretan@awo-badgodesberg.de
URL:https://wohnen-im-pennenfeld.de/termine/qigong-fuer-frauen/2025-05-03/
LOCATION:Nachbarschaftstreff Pennenfeld\, Maidenheadstraße 20\, Bonn\, NRW\, 53177\, Deutschland
ORGANIZER;CN="Quartiersmanagement Pennenfeld":MAILTO:wilbertz@vebowag.de
END:VEVENT
BEGIN:VEVENT
DTSTART;TZID=Europe/Berlin:20250430T180000
DTEND;TZID=Europe/Berlin:20250430T190000
DTSTAMP:20260420T034943
CREATED:20250331T154017Z
LAST-MODIFIED:20250331T154017Z
UID:6374-1746036000-1746039600@wohnen-im-pennenfeld.de
SUMMARY:Tai Chi & Qi Gong
DESCRIPTION:Die in den Kursen vermittelten Gesundheitsübungen hat die Kursleiterin Maria di Gennaro (www.zen-shiatsu.it) von Prof. Li Xiaoming\, einem authentischen chinesischen Meister\, von 2006 bis heute gelernt.\nEs sind keine Vorkenntnisse notwendig!\nTeilnehmerbeitrag: € 5\,- pro Termin. Anmeldung: 0228-227 424 41\, andreea.bretan@awo-badgodesberg.de
URL:https://wohnen-im-pennenfeld.de/termine/tai-chi-qi-gong-24/2025-04-30/
LOCATION:Nachbarschaftstreff Pennenfeld\, Maidenheadstraße 20\, Bonn\, NRW\, 53177\, Deutschland
ORGANIZER;CN="Quartiersmanagement Pennenfeld":MAILTO:wilbertz@vebowag.de
END:VEVENT
BEGIN:VEVENT
DTSTART;TZID=Europe/Berlin:20250430T093000
DTEND;TZID=Europe/Berlin:20250430T110000
DTSTAMP:20260420T034943
CREATED:20250331T153831Z
LAST-MODIFIED:20250408T193946Z
UID:6353-1746005400-1746010800@wohnen-im-pennenfeld.de
SUMMARY:Deutsch-Konversationskurs für Frauen
DESCRIPTION:Möchten Sie zusammen mit anderen Frauen Ihre Deutschkenntnisse üben und erweitern? Dann sind Sie hier genau richtig! Der Kurs ist für Anfängerinnen und Fortgeschrittene geeignet.\nKursleiterin: Simone Saure\nDer Kurs ist kostenlos\, keine Anmeldung erforderlich. Der Einstieg ist jederzeit möglich.\nInfos bei: andreea.bretan@awo-badgodesberg.de\, 0228-227 424 41
URL:https://wohnen-im-pennenfeld.de/termine/deutsch-konversationskurs-fuer-frauen-13/
LOCATION:Nachbarschaftstreff Pennenfeld\, Maidenheadstraße 20\, Bonn\, NRW\, 53177\, Deutschland
ORGANIZER;CN="Quartiersmanagement Pennenfeld":MAILTO:wilbertz@vebowag.de
END:VEVENT
BEGIN:VEVENT
DTSTART;TZID=Europe/Berlin:20250429T180000
DTEND;TZID=Europe/Berlin:20250429T193000
DTSTAMP:20260420T034943
CREATED:20250331T162401Z
LAST-MODIFIED:20250408T203028Z
UID:6389-1745949600-1745955000@wohnen-im-pennenfeld.de
SUMMARY:Vortrag: Klimawandel in Bonn
DESCRIPTION:Klimawandel ist in aller Munde. Gilt das auch für Bonn-Pennenfeld? Klaus Kosack\, ehemals Chefstatistiker der Stadt Bonn\, hat Daten zum Klima in Bonn seit 1895 gesammelt und kann daher gut beurteilen\, wie sich das Wetter verändert hat. Nicht nur wärmemäßig\, sondern auch bei Regen und Sonnenschein haben wir in den letzten Jahren Rekordergebnisse. Dies wird Herr Kosack in einem spannenden Vortrag präsentieren.\nAnmeldung: 0228-227 424 41\, info@wohnen-im-pennenfeld.de
URL:https://wohnen-im-pennenfeld.de/termine/vortrag-klimawandel-in-bonn/
LOCATION:Nachbarschaftstreff Pennenfeld\, Maidenheadstraße 20\, Bonn\, NRW\, 53177\, Deutschland
ORGANIZER;CN="Quartiersmanagement Pennenfeld":MAILTO:wilbertz@vebowag.de
END:VEVENT
BEGIN:VEVENT
DTSTART;TZID=Europe/Berlin:20250426T093000
DTEND;TZID=Europe/Berlin:20250426T110000
DTSTAMP:20260420T034943
CREATED:20250331T155545Z
LAST-MODIFIED:20250331T155545Z
UID:6369-1745659800-1745665200@wohnen-im-pennenfeld.de
SUMMARY:Tai Chi & Qi Gong für Frauen
DESCRIPTION:Die in den Kursen vermittelten Gesundheitsübungen hat die Kursleiterin Maria di Gennaro (www.zen-shiatsu.it) von Prof. Li Xiaoming\, einem authentischen chinesischen Meister\, von 2006 bis heute gelernt.\nEs sind keine Vorkenntnisse notwendig!\nTeilnehmerbeitrag: € 5\,- pro Termin. Anmeldung: 0228-227 424 41\, andreea.bretan@awo-badgodesberg.de
URL:https://wohnen-im-pennenfeld.de/termine/tai-chi-qi-gong-fuer-frauen-6/2025-04-26/
LOCATION:Nachbarschaftstreff Pennenfeld\, Maidenheadstraße 20\, Bonn\, NRW\, 53177\, Deutschland
ORGANIZER;CN="Quartiersmanagement Pennenfeld":MAILTO:wilbertz@vebowag.de
END:VEVENT
BEGIN:VEVENT
DTSTART;TZID=Europe/Berlin:20250424T150000
DTEND;TZID=Europe/Berlin:20250424T170000
DTSTAMP:20260420T034943
CREATED:20250331T162041Z
LAST-MODIFIED:20250408T202153Z
UID:6387-1745506800-1745514000@wohnen-im-pennenfeld.de
SUMMARY:Spielenachmittag für Erwachsene
DESCRIPTION:Doppelkopf und Rummy-Cup\nKostenloses Angebot\, Spenden willkommen.\nKeine Anmeldung erforderlich.
URL:https://wohnen-im-pennenfeld.de/termine/spielenachmittag-fuer-erwachsene-12/
LOCATION:Nachbarschaftstreff Pennenfeld\, Maidenheadstraße 20\, Bonn\, NRW\, 53177\, Deutschland
ORGANIZER;CN="Quartiersmanagement Pennenfeld":MAILTO:wilbertz@vebowag.de
END:VEVENT
BEGIN:VEVENT
DTSTART;TZID=Europe/Berlin:20250424T110000
DTEND;TZID=Europe/Berlin:20250424T120000
DTSTAMP:20260420T034943
CREATED:20250331T155325Z
LAST-MODIFIED:20250408T195502Z
UID:6364-1745492400-1745496000@wohnen-im-pennenfeld.de
SUMMARY:Fitness für Körper und Geist
DESCRIPTION:Bewegungsangebot für Seniorinnen und Senioren\nGymnastik im Sitzen und Stehen mit Übungen aus dem Ganzheitlichen Gehirntraining (GGT)\, Wahrnehmungs-\, Gleichgewichts-\, Konzentrations- und Koordinationsübungen\, Training von Alltagskompetenzen; bei gutem Wetter nutzen wir den Outdoor-Fitnesspark\nBuchung des gesamten Kurses (8 Termine\, 24.04.-10.07.) € 45\,-\nInfos unter: 0228-227 424 41\, andreea.bretan@awo-badgodesberg.de
URL:https://wohnen-im-pennenfeld.de/termine/fitness-fuer-koerper-und-geist-31/
LOCATION:Nachbarschaftstreff Pennenfeld\, Maidenheadstraße 20\, Bonn\, NRW\, 53177\, Deutschland
ORGANIZER;CN="Quartiersmanagement Pennenfeld":MAILTO:wilbertz@vebowag.de
END:VEVENT
BEGIN:VEVENT
DTSTART;TZID=Europe/Berlin:20250424T100000
DTEND;TZID=Europe/Berlin:20250424T110000
DTSTAMP:20260420T034943
CREATED:20250331T154217Z
LAST-MODIFIED:20250408T195317Z
UID:6361-1745488800-1745492400@wohnen-im-pennenfeld.de
SUMMARY:Fitness für Körper und Geist
DESCRIPTION:Bewegungsangebot für Seniorinnen und Senioren\nGymnastik im Sitzen und Stehen mit Übungen aus dem Ganzheitlichen Gehirntraining (GGT)\, Wahrnehmungs-\, Gleichgewichts-\, Konzentrations- und Koordinationsübungen\, Training von Alltagskompetenzen; bei gutem Wetter nutzen wir den Outdoor-Fitnesspark\nBuchung des gesamten Kurses (8 Termine\, 24.04.-10.07.) € 45\,-\nInfos unter: 0228-227 424 41\, andreea.bretan@awo-badgodesberg.de
URL:https://wohnen-im-pennenfeld.de/termine/fitness-fuer-koerper-und-geist-30/
LOCATION:Nachbarschaftstreff Pennenfeld\, Maidenheadstraße 20\, Bonn\, NRW\, 53177\, Deutschland
ORGANIZER;CN="Quartiersmanagement Pennenfeld":MAILTO:wilbertz@vebowag.de
END:VEVENT
BEGIN:VEVENT
DTSTART;TZID=Europe/Berlin:20250423T180000
DTEND;TZID=Europe/Berlin:20250423T190000
DTSTAMP:20260420T034943
CREATED:20250331T154017Z
LAST-MODIFIED:20250331T154017Z
UID:6373-1745431200-1745434800@wohnen-im-pennenfeld.de
SUMMARY:Tai Chi & Qi Gong
DESCRIPTION:Die in den Kursen vermittelten Gesundheitsübungen hat die Kursleiterin Maria di Gennaro (www.zen-shiatsu.it) von Prof. Li Xiaoming\, einem authentischen chinesischen Meister\, von 2006 bis heute gelernt.\nEs sind keine Vorkenntnisse notwendig!\nTeilnehmerbeitrag: € 5\,- pro Termin. Anmeldung: 0228-227 424 41\, andreea.bretan@awo-badgodesberg.de
URL:https://wohnen-im-pennenfeld.de/termine/tai-chi-qi-gong-24/2025-04-23/
LOCATION:Nachbarschaftstreff Pennenfeld\, Maidenheadstraße 20\, Bonn\, NRW\, 53177\, Deutschland
ORGANIZER;CN="Quartiersmanagement Pennenfeld":MAILTO:wilbertz@vebowag.de
END:VEVENT
BEGIN:VEVENT
DTSTART;TZID=Europe/Berlin:20250423T120000
DTEND;TZID=Europe/Berlin:20250423T130000
DTSTAMP:20260420T034943
CREATED:20250331T161849Z
LAST-MODIFIED:20250408T201954Z
UID:6385-1745409600-1745413200@wohnen-im-pennenfeld.de
SUMMARY:Mittagstisch
DESCRIPTION:Kostenbeitrag inkl. Nachtisch und Kaffee: € 4\,-\nBitte melden Sie sich bis zum 17.4. verbindlich an: 0228-227 424 41 oder andreea.bretan@awo-badgodesberg.de
URL:https://wohnen-im-pennenfeld.de/termine/mittagstisch-21/
LOCATION:Nachbarschaftstreff Pennenfeld\, Maidenheadstraße 20\, Bonn\, NRW\, 53177\, Deutschland
ORGANIZER;CN="Quartiersmanagement Pennenfeld":MAILTO:wilbertz@vebowag.de
END:VEVENT
BEGIN:VEVENT
DTSTART;TZID=Europe/Berlin:20250419T093000
DTEND;TZID=Europe/Berlin:20250419T110000
DTSTAMP:20260420T034943
CREATED:20250331T155545Z
LAST-MODIFIED:20250331T155545Z
UID:6368-1745055000-1745060400@wohnen-im-pennenfeld.de
SUMMARY:Tai Chi & Qi Gong für Frauen
DESCRIPTION:Die in den Kursen vermittelten Gesundheitsübungen hat die Kursleiterin Maria di Gennaro (www.zen-shiatsu.it) von Prof. Li Xiaoming\, einem authentischen chinesischen Meister\, von 2006 bis heute gelernt.\nEs sind keine Vorkenntnisse notwendig!\nTeilnehmerbeitrag: € 5\,- pro Termin. Anmeldung: 0228-227 424 41\, andreea.bretan@awo-badgodesberg.de
URL:https://wohnen-im-pennenfeld.de/termine/tai-chi-qi-gong-fuer-frauen-6/2025-04-19/
LOCATION:Nachbarschaftstreff Pennenfeld\, Maidenheadstraße 20\, Bonn\, NRW\, 53177\, Deutschland
ORGANIZER;CN="Quartiersmanagement Pennenfeld":MAILTO:wilbertz@vebowag.de
END:VEVENT
BEGIN:VEVENT
DTSTART;TZID=Europe/Berlin:20250416T180000
DTEND;TZID=Europe/Berlin:20250416T190000
DTSTAMP:20260420T034943
CREATED:20250331T154017Z
LAST-MODIFIED:20250331T154017Z
UID:6372-1744826400-1744830000@wohnen-im-pennenfeld.de
SUMMARY:Tai Chi & Qi Gong
DESCRIPTION:Die in den Kursen vermittelten Gesundheitsübungen hat die Kursleiterin Maria di Gennaro (www.zen-shiatsu.it) von Prof. Li Xiaoming\, einem authentischen chinesischen Meister\, von 2006 bis heute gelernt.\nEs sind keine Vorkenntnisse notwendig!\nTeilnehmerbeitrag: € 5\,- pro Termin. Anmeldung: 0228-227 424 41\, andreea.bretan@awo-badgodesberg.de
URL:https://wohnen-im-pennenfeld.de/termine/tai-chi-qi-gong-24/2025-04-16/
LOCATION:Nachbarschaftstreff Pennenfeld\, Maidenheadstraße 20\, Bonn\, NRW\, 53177\, Deutschland
ORGANIZER;CN="Quartiersmanagement Pennenfeld":MAILTO:wilbertz@vebowag.de
END:VEVENT
BEGIN:VEVENT
DTSTART;TZID=Europe/Berlin:20250416T150000
DTEND;TZID=Europe/Berlin:20250416T170000
DTSTAMP:20260420T034943
CREATED:20250331T161615Z
LAST-MODIFIED:20250408T201806Z
UID:6383-1744815600-1744822800@wohnen-im-pennenfeld.de
SUMMARY:Repair Café - Reparieren statt wegwerfen!
DESCRIPTION:In gemütlicher Atmosphäre unter fachkundiger Anleitung Elektrogeräte\, Möbelstücke etc. reparieren.\nKostenloses Angebot\, Spenden willkommen.\nAnmeldung/ Terminvergabe: Frank Wilbertz 0228-9158 444 oder info@wohnen-im-pennenfeld.de
URL:https://wohnen-im-pennenfeld.de/termine/repair-cafe-reparieren-statt-wegwerfen-34/
LOCATION:Nachbarschaftstreff Pennenfeld\, Maidenheadstraße 20\, Bonn\, NRW\, 53177\, Deutschland
ORGANIZER;CN="Quartiersmanagement Pennenfeld":MAILTO:wilbertz@vebowag.de
END:VEVENT
BEGIN:VEVENT
DTSTART;TZID=Europe/Berlin:20250416T093000
DTEND;TZID=Europe/Berlin:20250416T110000
DTSTAMP:20260420T034943
CREATED:20250331T153335Z
LAST-MODIFIED:20250408T193821Z
UID:6348-1744795800-1744801200@wohnen-im-pennenfeld.de
SUMMARY:Deutsch-Konversationskurs für Frauen
DESCRIPTION:Möchten Sie zusammen mit anderen Frauen Ihre Deutschkenntnisse üben und erweitern? Dann sind Sie hier genau richtig! Der Kurs ist für Anfängerinnen und Fortgeschrittene geeignet.\nKursleiterin: Simone Saure\nDer Kurs ist kostenlos\, keine Anmeldung erforderlich. Der Einstieg ist jederzeit möglich.\nInfos bei: andreea.bretan@awo-badgodesberg.de\, 0228-227 424 41
URL:https://wohnen-im-pennenfeld.de/termine/deutsch-konversationskurs-fuer-frauen-12/2025-04-16/
LOCATION:Nachbarschaftstreff Pennenfeld\, Maidenheadstraße 20\, Bonn\, NRW\, 53177\, Deutschland
ORGANIZER;CN="Quartiersmanagement Pennenfeld":MAILTO:wilbertz@vebowag.de
END:VEVENT
BEGIN:VEVENT
DTSTART;TZID=Europe/Berlin:20250415T150000
DTEND;TZID=Europe/Berlin:20250415T160000
DTSTAMP:20260420T034943
CREATED:20250331T161253Z
LAST-MODIFIED:20250408T201610Z
UID:6381-1744729200-1744732800@wohnen-im-pennenfeld.de
SUMMARY:Pennenfeld Clean Up!
DESCRIPTION:Gemeinsam sammeln wir Müll auf und belohnen uns anschließend dafür mit Kaffee und Kuchen.\nGreifzangen\, Handschuhe und Müllsäcke sind vorhanden und warten auf ihren Einsatz.\nTreffen vor dem Nachbarschafstreff Pennenfeld\, Maidenheadstr. 20\nInfos unter: 0228-9158 444 oder petra.martischewski@t-online.de\nIn Kooperation mit dem Bürgerverein Buntes Pennenfeld e.V.
URL:https://wohnen-im-pennenfeld.de/termine/pennenfeld-clean-up-25/
LOCATION:Treffpunkt: Nachbarschaftstreff Pennenfeld\, Maidenheadstraße 20\, Bonn\, NRW\, 53177\, Deutschland
END:VEVENT
BEGIN:VEVENT
DTSTART;TZID=Europe/Berlin:20250412T093000
DTEND;TZID=Europe/Berlin:20250412T110000
DTSTAMP:20260420T034943
CREATED:20250331T155545Z
LAST-MODIFIED:20250331T155545Z
UID:6367-1744450200-1744455600@wohnen-im-pennenfeld.de
SUMMARY:Tai Chi & Qi Gong für Frauen
DESCRIPTION:Die in den Kursen vermittelten Gesundheitsübungen hat die Kursleiterin Maria di Gennaro (www.zen-shiatsu.it) von Prof. Li Xiaoming\, einem authentischen chinesischen Meister\, von 2006 bis heute gelernt.\nEs sind keine Vorkenntnisse notwendig!\nTeilnehmerbeitrag: € 5\,- pro Termin. Anmeldung: 0228-227 424 41\, andreea.bretan@awo-badgodesberg.de
URL:https://wohnen-im-pennenfeld.de/termine/tai-chi-qi-gong-fuer-frauen-6/2025-04-12/
LOCATION:Nachbarschaftstreff Pennenfeld\, Maidenheadstraße 20\, Bonn\, NRW\, 53177\, Deutschland
ORGANIZER;CN="Quartiersmanagement Pennenfeld":MAILTO:wilbertz@vebowag.de
END:VEVENT
BEGIN:VEVENT
DTSTART;TZID=Europe/Berlin:20250410T150000
DTEND;TZID=Europe/Berlin:20250410T170000
DTSTAMP:20260420T034943
CREATED:20250331T161028Z
LAST-MODIFIED:20250408T201125Z
UID:6379-1744297200-1744304400@wohnen-im-pennenfeld.de
SUMMARY:Gesangsnachmittag mit Kaffee und Kuchen
DESCRIPTION:Gemeinsam singen wir Lieder quer durch das deutsche Liederbuch und\nwerden dabei von Akkordeon\, Mandoline und Mundharmonika begleitet.\nTeilnehmerbeitrag: € 2\,50\, Keine Anmeldung erforderlich
URL:https://wohnen-im-pennenfeld.de/termine/gesangsnachmittag-mit-kaffee-und-kuchen-19/
LOCATION:Nachbarschaftstreff Pennenfeld\, Maidenheadstraße 20\, Bonn\, NRW\, 53177\, Deutschland
ORGANIZER;CN="Quartiersmanagement Pennenfeld":MAILTO:wilbertz@vebowag.de
END:VEVENT
BEGIN:VEVENT
DTSTART;TZID=Europe/Berlin:20250409T180000
DTEND;TZID=Europe/Berlin:20250409T190000
DTSTAMP:20260420T034943
CREATED:20250331T154017Z
LAST-MODIFIED:20250331T154017Z
UID:6371-1744221600-1744225200@wohnen-im-pennenfeld.de
SUMMARY:Tai Chi & Qi Gong
DESCRIPTION:Die in den Kursen vermittelten Gesundheitsübungen hat die Kursleiterin Maria di Gennaro (www.zen-shiatsu.it) von Prof. Li Xiaoming\, einem authentischen chinesischen Meister\, von 2006 bis heute gelernt.\nEs sind keine Vorkenntnisse notwendig!\nTeilnehmerbeitrag: € 5\,- pro Termin. Anmeldung: 0228-227 424 41\, andreea.bretan@awo-badgodesberg.de
URL:https://wohnen-im-pennenfeld.de/termine/tai-chi-qi-gong-24/2025-04-09/
LOCATION:Nachbarschaftstreff Pennenfeld\, Maidenheadstraße 20\, Bonn\, NRW\, 53177\, Deutschland
ORGANIZER;CN="Quartiersmanagement Pennenfeld":MAILTO:wilbertz@vebowag.de
END:VEVENT
BEGIN:VEVENT
DTSTART;TZID=Europe/Berlin:20250409T093000
DTEND;TZID=Europe/Berlin:20250409T110000
DTSTAMP:20260420T034943
CREATED:20250331T153335Z
LAST-MODIFIED:20250408T193821Z
UID:6347-1744191000-1744196400@wohnen-im-pennenfeld.de
SUMMARY:Deutsch-Konversationskurs für Frauen
DESCRIPTION:Möchten Sie zusammen mit anderen Frauen Ihre Deutschkenntnisse üben und erweitern? Dann sind Sie hier genau richtig! Der Kurs ist für Anfängerinnen und Fortgeschrittene geeignet.\nKursleiterin: Simone Saure\nDer Kurs ist kostenlos\, keine Anmeldung erforderlich. Der Einstieg ist jederzeit möglich.\nInfos bei: andreea.bretan@awo-badgodesberg.de\, 0228-227 424 41
URL:https://wohnen-im-pennenfeld.de/termine/deutsch-konversationskurs-fuer-frauen-12/2025-04-09/
LOCATION:Nachbarschaftstreff Pennenfeld\, Maidenheadstraße 20\, Bonn\, NRW\, 53177\, Deutschland
ORGANIZER;CN="Quartiersmanagement Pennenfeld":MAILTO:wilbertz@vebowag.de
END:VEVENT
BEGIN:VEVENT
DTSTART;TZID=Europe/Berlin:20250405T093000
DTEND;TZID=Europe/Berlin:20250405T110000
DTSTAMP:20260420T034943
CREATED:20250331T155545Z
LAST-MODIFIED:20250408T195703Z
UID:6366-1743845400-1743850800@wohnen-im-pennenfeld.de
SUMMARY:Tai Chi & Qi Gong für Frauen
DESCRIPTION:Die in den Kursen vermittelten Gesundheitsübungen hat die Kursleiterin Maria di Gennaro (www.zen-shiatsu.it) von Prof. Li Xiaoming\, einem authentischen chinesischen Meister\, von 2006 bis heute gelernt.\nEs sind keine Vorkenntnisse notwendig!\nTeilnehmerbeitrag: € 5\,- pro Termin. Anmeldung: 0228-227 424 41\, andreea.bretan@awo-badgodesberg.de
URL:https://wohnen-im-pennenfeld.de/termine/tai-chi-qi-gong-fuer-frauen-6/2025-04-05/
LOCATION:Nachbarschaftstreff Pennenfeld\, Maidenheadstraße 20\, Bonn\, NRW\, 53177\, Deutschland
ORGANIZER;CN="Quartiersmanagement Pennenfeld":MAILTO:wilbertz@vebowag.de
END:VEVENT
BEGIN:VEVENT
DTSTART;TZID=Europe/Berlin:20250403T153000
DTEND;TZID=Europe/Berlin:20250403T163000
DTSTAMP:20260420T034943
CREATED:20250331T160021Z
LAST-MODIFIED:20250408T200143Z
UID:6377-1743694200-1743697800@wohnen-im-pennenfeld.de
SUMMARY:English-Reading-and-Conversation-Club
DESCRIPTION:Wir lesen gemeinsam eine sprachlich einfache\, aber thematisch anspruchsvolle Lektüre und besprechen sie.\nTeilnehmerbeitrag: € 3\,-\nAnmeldung: 0228-227 424 41\, andreea.bretan@awo-badgodesberg.de
URL:https://wohnen-im-pennenfeld.de/termine/english-reading-and-conversation-club-16/
LOCATION:Nachbarschaftstreff Pennenfeld\, Maidenheadstraße 20\, Bonn\, NRW\, 53177\, Deutschland
ORGANIZER;CN="Quartiersmanagement Pennenfeld":MAILTO:wilbertz@vebowag.de
END:VEVENT
BEGIN:VEVENT
DTSTART;TZID=Europe/Berlin:20250402T180000
DTEND;TZID=Europe/Berlin:20250402T190000
DTSTAMP:20260420T034943
CREATED:20250331T154017Z
LAST-MODIFIED:20250408T195800Z
UID:6355-1743616800-1743620400@wohnen-im-pennenfeld.de
SUMMARY:Tai Chi & Qi Gong
DESCRIPTION:Die in den Kursen vermittelten Gesundheitsübungen hat die Kursleiterin Maria di Gennaro (www.zen-shiatsu.it) von Prof. Li Xiaoming\, einem authentischen chinesischen Meister\, von 2006 bis heute gelernt.\nEs sind keine Vorkenntnisse notwendig!\nTeilnehmerbeitrag: € 5\,- pro Termin. Anmeldung: 0228-227 424 41\, andreea.bretan@awo-badgodesberg.de
URL:https://wohnen-im-pennenfeld.de/termine/tai-chi-qi-gong-24/2025-04-02/
LOCATION:Nachbarschaftstreff Pennenfeld\, Maidenheadstraße 20\, Bonn\, NRW\, 53177\, Deutschland
ORGANIZER;CN="Quartiersmanagement Pennenfeld":MAILTO:wilbertz@vebowag.de
END:VEVENT
BEGIN:VEVENT
DTSTART;TZID=Europe/Berlin:20250402T093000
DTEND;TZID=Europe/Berlin:20250402T110000
DTSTAMP:20260420T034943
CREATED:20250331T153335Z
LAST-MODIFIED:20250408T193821Z
UID:6346-1743586200-1743591600@wohnen-im-pennenfeld.de
SUMMARY:Deutsch-Konversationskurs für Frauen
DESCRIPTION:Möchten Sie zusammen mit anderen Frauen Ihre Deutschkenntnisse üben und erweitern? Dann sind Sie hier genau richtig! Der Kurs ist für Anfängerinnen und Fortgeschrittene geeignet.\nKursleiterin: Simone Saure\nDer Kurs ist kostenlos\, keine Anmeldung erforderlich. Der Einstieg ist jederzeit möglich.\nInfos bei: andreea.bretan@awo-badgodesberg.de\, 0228-227 424 41
URL:https://wohnen-im-pennenfeld.de/termine/deutsch-konversationskurs-fuer-frauen-12/2025-04-02/
LOCATION:Nachbarschaftstreff Pennenfeld\, Maidenheadstraße 20\, Bonn\, NRW\, 53177\, Deutschland
ORGANIZER;CN="Quartiersmanagement Pennenfeld":MAILTO:wilbertz@vebowag.de
END:VEVENT
BEGIN:VEVENT
DTSTART;TZID=Europe/Berlin:20250401T153000
DTEND;TZID=Europe/Berlin:20250401T170000
DTSTAMP:20260420T034943
CREATED:20250331T155843Z
LAST-MODIFIED:20250408T195944Z
UID:6375-1743521400-1743526800@wohnen-im-pennenfeld.de
SUMMARY:Strick- und Häkeltreff
DESCRIPTION:Gemeinsames Handarbeiten\, Austausch von Anleitungen und Tipps\, Hilfestellung für Anfängerinnen sowie Knüpfen neuer Kontakte in lockerer Atmosphäre. Die Treffen finden in Deutsch und Englisch (wenn gewünscht auch in Spanisch und Italienisch) statt.\nBitte eigene Handarbeitssachen und Material mitbringen.\nKostenloses Angebot; Anmeldung unter 0228-227 424 41\, andreea.bretan@awo-badgodesberg.de
URL:https://wohnen-im-pennenfeld.de/termine/strick-und-haekeltreff-12/
LOCATION:Nachbarschaftstreff Pennenfeld\, Maidenheadstraße 20\, Bonn\, NRW\, 53177\, Deutschland
ORGANIZER;CN="Quartiersmanagement Pennenfeld":MAILTO:wilbertz@vebowag.de
END:VEVENT
BEGIN:VEVENT
DTSTART;TZID=Europe/Berlin:20250330T150000
DTEND;TZID=Europe/Berlin:20250330T180000
DTSTAMP:20260420T034943
CREATED:20250303T102016Z
LAST-MODIFIED:20250313T162228Z
UID:6269-1743346800-1743357600@wohnen-im-pennenfeld.de
SUMMARY:Frühlingsfest im Nachbarschaftstreff
DESCRIPTION:mit Kleider- und Pflanzentauschbörse bei Kaffee und Kuchen.\nIn Kooperation mit dem Bürgerverein Buntes Pennenfeld e.V.\nInfos bei Christoph Sondermann: info@buntes-pennenfeld.de
URL:https://wohnen-im-pennenfeld.de/termine/fruehlingsfest-im-nachbarschaftstreff/
LOCATION:Nachbarschaftstreff Pennenfeld\, Maidenheadstraße 20\, Bonn\, NRW\, 53177\, Deutschland
END:VEVENT
BEGIN:VEVENT
DTSTART;TZID=Europe/Berlin:20250329T093000
DTEND;TZID=Europe/Berlin:20250329T110000
DTSTAMP:20260420T034943
CREATED:20250325T101625Z
LAST-MODIFIED:20250325T101625Z
UID:6337-1743240600-1743246000@wohnen-im-pennenfeld.de
SUMMARY:Tai Chi & Qi Gong für Frauen - MUSS LEIDER AUSFALLEN!
DESCRIPTION:Die in den Kursen vermittelten Gesundheitsübungen hat die Kursleiterin\nMaria di Gennaro (www.zen-shiatsu.it) von Prof. Li Xiaoming\, einem\nauthentischen chinesischen Meister\, von 2006 bis heute gelernt.\nEs sind keine Vorkenntnisse notwendig!\nTeilnehmerbeitrag: € 5\,- pro Termin.\nAnmeldung: 0228-227 424 41\, andreea.bretan@awo-badgodesberg.de
URL:https://wohnen-im-pennenfeld.de/termine/tai-chi-qi-gong-fuer-frauen-muss-leider-ausfallen/
LOCATION:Nachbarschaftstreff Pennenfeld\, Maidenheadstraße 20\, Bonn\, NRW\, 53177\, Deutschland
ORGANIZER;CN="Quartiersmanagement Pennenfeld":MAILTO:wilbertz@vebowag.de
END:VEVENT
BEGIN:VEVENT
DTSTART;TZID=Europe/Berlin:20250327T150000
DTEND;TZID=Europe/Berlin:20250327T170000
DTSTAMP:20260420T034943
CREATED:20250303T111345Z
LAST-MODIFIED:20250313T171448Z
UID:6313-1743087600-1743094800@wohnen-im-pennenfeld.de
SUMMARY:Spielenachmittag für Erwachsene
DESCRIPTION:Doppelkopf und Rummy-Cup\nKostenloses Angebot\, Spenden willkommen.\nKeine Anmeldung erforderlich.
URL:https://wohnen-im-pennenfeld.de/termine/spielenachmittag-fuer-erwachsene-11/
LOCATION:Nachbarschaftstreff Pennenfeld\, Maidenheadstraße 20\, Bonn\, NRW\, 53177\, Deutschland
ORGANIZER;CN="Quartiersmanagement Pennenfeld":MAILTO:wilbertz@vebowag.de
END:VEVENT
BEGIN:VEVENT
DTSTART;TZID=Europe/Berlin:20250326T180000
DTEND;TZID=Europe/Berlin:20250326T190000
DTSTAMP:20260420T034943
CREATED:20250325T101350Z
LAST-MODIFIED:20250325T101350Z
UID:6335-1743012000-1743015600@wohnen-im-pennenfeld.de
SUMMARY:Tai Chi & Qi Gong - MUSS LEIDER AUSFALLEN!
DESCRIPTION:Die in den Kursen vermittelten Gesundheitsübungen hat die Kursleiterin Maria di Gennaro (www.zen-shiatsu.it) von Prof. Li Xiaoming\, einem authentischen chinesischen Meister\, von 2006 bis heute gelernt.\nEs sind keine Vorkenntnisse notwendig!\nTeilnehmerbeitrag: € 5\,- pro Termin.\nAnmeldung: 0228-227 424 41\, andreea.bretan@awo-badgodesberg.de
URL:https://wohnen-im-pennenfeld.de/termine/tai-chi-qi-gong-muss-leider-ausfallen/
LOCATION:Nachbarschaftstreff Pennenfeld\, Maidenheadstraße 20\, Bonn\, NRW\, 53177\, Deutschland
ORGANIZER;CN="Quartiersmanagement Pennenfeld":MAILTO:wilbertz@vebowag.de
END:VEVENT
BEGIN:VEVENT
DTSTART;TZID=Europe/Berlin:20250326T093000
DTEND;TZID=Europe/Berlin:20250326T110000
DTSTAMP:20260420T034943
CREATED:20250303T102311Z
LAST-MODIFIED:20250303T102311Z
UID:6274-1742981400-1742986800@wohnen-im-pennenfeld.de
SUMMARY:Deutsch-Konversationskurs für Frauen
DESCRIPTION:Möchten Sie zusammen mit anderen Frauen Ihre Deutschkenntnisse\nüben und erweitern? Dann sind Sie hier genau richtig! Der Kurs ist für\nAnfängerinnen und Fortgeschrittene geeignet.\nKursleiterin: Simone Saure\nDer Kurs ist kostenlos\, keine Anmeldung erforderlich. Der Einstieg ist\njederzeit möglich.\nInfos bei: andreea.bretan@awo-badgodesberg.de\, 0228-227 424 41
URL:https://wohnen-im-pennenfeld.de/termine/deutsch-konversationskurs-fuer-frauen-11/2025-03-26/
LOCATION:Nachbarschaftstreff Pennenfeld\, Maidenheadstraße 20\, Bonn\, NRW\, 53177\, Deutschland
ORGANIZER;CN="Quartiersmanagement Pennenfeld":MAILTO:wilbertz@vebowag.de
END:VEVENT
BEGIN:VEVENT
DTSTART;TZID=Europe/Berlin:20250322T110000
DTEND;TZID=Europe/Berlin:20250322T140000
DTSTAMP:20260420T034943
CREATED:20250303T100627Z
LAST-MODIFIED:20250321T190729Z
UID:6266-1742641200-1742652000@wohnen-im-pennenfeld.de
SUMMARY:Frühjahrs-Treffen im PikoPark
DESCRIPTION:Unter fachkundiger Anleitung der Dipl. Biologin Dr. Anke Wallraff-\nBeck bereiten wir den PikoPark gemeinsam auf das diesjährige\nGartenjahr vor.\nTreffpunkt ist der PikoPark\, hinter der Max-Planck-Straße 17.\nInformationen und Anmeldung: Frank Wilbertz 0228-91 58 444
URL:https://wohnen-im-pennenfeld.de/termine/fruehjahrs-treffen-im-pikopark-2/
LOCATION:Treffpunkt am PikoPark\, Nähe Max-Planck-Straße 17-19\, Bonn\, NRW\, 53177
ORGANIZER;CN="Quartiersmanagement Pennenfeld":MAILTO:wilbertz@vebowag.de
END:VEVENT
END:VCALENDAR