﻿BEGIN:VCALENDAR
VERSION:2.0
PRODID:-//Pennenfeld - ECPv6.10.0//NONSGML v1.0//EN
CALSCALE:GREGORIAN
METHOD:PUBLISH
X-ORIGINAL-URL:https://wohnen-im-pennenfeld.de
X-WR-CALDESC:Veranstaltungen für Pennenfeld
REFRESH-INTERVAL;VALUE=DURATION:PT1H
X-Robots-Tag:noindex
X-PUBLISHED-TTL:PT1H
BEGIN:VTIMEZONE
TZID:Europe/Berlin
BEGIN:DAYLIGHT
TZOFFSETFROM:+0100
TZOFFSETTO:+0200
TZNAME:CEST
DTSTART:20250330T010000
END:DAYLIGHT
BEGIN:STANDARD
TZOFFSETFROM:+0200
TZOFFSETTO:+0100
TZNAME:CET
DTSTART:20251026T010000
END:STANDARD
END:VTIMEZONE
BEGIN:VEVENT
DTSTART;TZID=Europe/Berlin:20250208T093000
DTEND;TZID=Europe/Berlin:20250208T110000
DTSTAMP:20260420T162839
CREATED:20250131T114601Z
LAST-MODIFIED:20250204T094728Z
UID:6185-1739007000-1739012400@wohnen-im-pennenfeld.de
SUMMARY:Tai Chi & Qi Gong für Frauen
DESCRIPTION:Die in den Kursen vermittelten Gesundheitsübungen hat die Kursleiterin Maria di Gennaro (www.zen-shiatsu.it) von Prof. Li Xiaoming\, einem authentischen chinesischen Meister\, von 2006 bis heute gelernt.\nEs sind keine Vorkenntnisse notwendig!\nTeilnehmerbeitrag: € 5\,- pro Termin. Anmeldung: 0228-227 424 41\, andreea.bretan@awo-badgodesberg.de
URL:https://wohnen-im-pennenfeld.de/termine/tai-chi-qi-gong-fuer-frauen-4/2025-02-08/
LOCATION:Nachbarschaftstreff Pennenfeld\, Maidenheadstraße 20\, Bonn\, NRW\, 53177\, Deutschland
ORGANIZER;CN="Quartiersmanagement Pennenfeld":MAILTO:wilbertz@vebowag.de
END:VEVENT
BEGIN:VEVENT
DTSTART;TZID=Europe/Berlin:20250206T153000
DTEND;TZID=Europe/Berlin:20250206T163000
DTSTAMP:20260420T162839
CREATED:20250131T113331Z
LAST-MODIFIED:20250204T093703Z
UID:6170-1738855800-1738859400@wohnen-im-pennenfeld.de
SUMMARY:English-Reading-and-Conversation-Club
DESCRIPTION:Wir lesen gemeinsam eine sprachlich einfache\, aber thematisch anspruchsvolle Lektüre und besprechen sie.\nTeilnehmerbeitrag: € 3\,-\nAnmeldung: 0228-227 424 41\, andreea.bretan@awo-badgodesberg.de
URL:https://wohnen-im-pennenfeld.de/termine/english-reading-and-conversation-club-14/2025-02-06/
LOCATION:Nachbarschaftstreff Pennenfeld\, Maidenheadstraße 20\, Bonn\, NRW\, 53177\, Deutschland
ORGANIZER;CN="Quartiersmanagement Pennenfeld":MAILTO:wilbertz@vebowag.de
END:VEVENT
BEGIN:VEVENT
DTSTART;TZID=Europe/Berlin:20250206T110000
DTEND;TZID=Europe/Berlin:20250206T120000
DTSTAMP:20260420T162839
CREATED:20250131T120306Z
LAST-MODIFIED:20250204T100623Z
UID:6214-1738839600-1738843200@wohnen-im-pennenfeld.de
SUMMARY:Fitness für Körper und Geist
DESCRIPTION:Bewegungsangebot für Seniorinnen und Senioren\nGymnastik im Sitzen und Stehen mit Übungen aus dem Ganzheitlichen Gehirntraining (GGT)\, Wahrnehmungs-\, Gleichgewichts-\, Konzentrations- und Koordinationsübungen\, Training von Alltagskompetenzen; bei gutem Wetter nutzen wir den Outdoor-Fitnesspark\nBuchung des gesamten Kurses (8 Termine\, 16.01.-13.03.): € 45\,-\nInfos unter: 0228-227 424 41\, andreea.bretan@awo-badgodesberg.de
URL:https://wohnen-im-pennenfeld.de/termine/fitness-fuer-koerper-und-geist-27/2025-02-06/
LOCATION:Nachbarschaftstreff Pennenfeld\, Maidenheadstraße 20\, Bonn\, NRW\, 53177\, Deutschland
ORGANIZER;CN="Quartiersmanagement Pennenfeld":MAILTO:wilbertz@vebowag.de
END:VEVENT
BEGIN:VEVENT
DTSTART;TZID=Europe/Berlin:20250206T100000
DTEND;TZID=Europe/Berlin:20250206T110000
DTSTAMP:20260420T162839
CREATED:20250131T120130Z
LAST-MODIFIED:20250204T100252Z
UID:6209-1738836000-1738839600@wohnen-im-pennenfeld.de
SUMMARY:Fitness für Körper und Geist
DESCRIPTION:Bewegungsangebot für Seniorinnen und Senioren\nGymnastik im Sitzen und Stehen mit Übungen aus dem Ganzheitlichen Gehirntraining (GGT)\, Wahrnehmungs-\, Gleichgewichts-\, Konzentrations- und Koordinationsübungen\, Training von Alltagskompetenzen; bei gutem Wetter nutzen wir den Outdoor-Fitnesspark\nBuchung des gesamten Kurses (8 Termine\, 16.01.-13.03.): € 45\,-\nInfos unter: 0228-227 424 41\, andreea.bretan@awo-badgodesberg.de
URL:https://wohnen-im-pennenfeld.de/termine/fitness-fuer-koerper-und-geist-26/2025-02-06/
LOCATION:Nachbarschaftstreff Pennenfeld\, Maidenheadstraße 20\, Bonn\, NRW\, 53177\, Deutschland
ORGANIZER;CN="Quartiersmanagement Pennenfeld":MAILTO:wilbertz@vebowag.de
END:VEVENT
BEGIN:VEVENT
DTSTART;TZID=Europe/Berlin:20250205T180000
DTEND;TZID=Europe/Berlin:20250205T190000
DTSTAMP:20260420T162839
CREATED:20250131T115558Z
LAST-MODIFIED:20250204T100019Z
UID:6199-1738778400-1738782000@wohnen-im-pennenfeld.de
SUMMARY:Tai Chi & Qi Gong
DESCRIPTION:Die in den Kursen vermittelten Gesundheitsübungen hat die Kursleiterin Maria di Gennaro (www.zen-shiatsu.it) von Prof. Li Xiaoming\, einem authentischen chinesischen Meister\, von 2006 bis heute gelernt.\nEs sind keine Vorkenntnisse notwendig!\nTeilnehmerbeitrag: € 5\,- pro Termin. Anmeldung: 0228-227 424 41\, andreea.bretan@awo-badgodesberg.de
URL:https://wohnen-im-pennenfeld.de/termine/tai-chi-qi-gong-22/2025-02-05/
LOCATION:Nachbarschaftstreff Pennenfeld\, Maidenheadstraße 20\, Bonn\, NRW\, 53177\, Deutschland
ORGANIZER;CN="Quartiersmanagement Pennenfeld":MAILTO:wilbertz@vebowag.de
END:VEVENT
BEGIN:VEVENT
DTSTART;TZID=Europe/Berlin:20250205T093000
DTEND;TZID=Europe/Berlin:20250205T110000
DTSTAMP:20260420T162839
CREATED:20250131T115153Z
LAST-MODIFIED:20250204T095254Z
UID:6190-1738747800-1738753200@wohnen-im-pennenfeld.de
SUMMARY:Deutsch-Konversationskurs für Frauen
DESCRIPTION:Möchten Sie zusammen mit anderen Frauen Ihre Deutschkenntnisse üben und erweitern? Dann sind Sie hier genau richtig! Der Kurs ist für Anfängerinnen und Fortgeschrittene geeignet.\nKursleiterin: Simone Saure\nDer Kurs ist kostenlos\, keine Anmeldung erforderlich. Der Einstieg ist jederzeit möglich.\nInfos bei: andreea.bretan@awo-badgodesberg.de\, 0228-227 424 41
URL:https://wohnen-im-pennenfeld.de/termine/deutsch-konversationskurs-fuer-frauen-9/
LOCATION:Nachbarschaftstreff Pennenfeld\, Maidenheadstraße 20\, Bonn\, NRW\, 53177\, Deutschland
ORGANIZER;CN="Quartiersmanagement Pennenfeld":MAILTO:wilbertz@vebowag.de
END:VEVENT
BEGIN:VEVENT
DTSTART;TZID=Europe/Berlin:20250204T173000
DTEND;TZID=Europe/Berlin:20250204T203000
DTSTAMP:20260420T162839
CREATED:20250131T113207Z
LAST-MODIFIED:20250204T093323Z
UID:6168-1738690200-1738701000@wohnen-im-pennenfeld.de
SUMMARY:Kochen im Nachbarschaftstreff
DESCRIPTION:Lernen Sie nette Menschen kennen und haben Sie Spaß beim gemeinsamen Kochen! Wir kochen regionale Gerichte aus regionalen Zutaten und probieren auch die internationale Küche mit exotischen Zutaten.\nTeilnehmerbeitrag: € 1\,50\nAnmeldung erforderlich. Bei Herrn Lee: 0151-121 84 230 oder bei Frank Wilbertz: 0228-9158 444\, info@wohnen-im-pennenfeld.de\nIn Kooperation mit der Gemeindepsychatrie Bonn-Rhein-Sieg
URL:https://wohnen-im-pennenfeld.de/termine/kochen-im-nachbarschaftstreff-15/
LOCATION:Nachbarschaftstreff Pennenfeld\, Maidenheadstraße 20\, Bonn\, NRW\, 53177\, Deutschland
END:VEVENT
BEGIN:VEVENT
DTSTART;TZID=Europe/Berlin:20250204T153000
DTEND;TZID=Europe/Berlin:20250204T170000
DTSTAMP:20260420T162839
CREATED:20250131T113036Z
LAST-MODIFIED:20250204T093200Z
UID:6166-1738683000-1738688400@wohnen-im-pennenfeld.de
SUMMARY:Strick- und Häkeltreff
DESCRIPTION:Gemeinsames Handarbeiten\, Austausch von Anleitungen und Tipps\, Hilfestellung für Anfängerinnen sowie Knüpfen neuer Kontakte in lockerer Atmosphäre. Die Treffen finden in Deutsch und Englisch (wenn gewünscht auch in Spanisch und Italienisch) statt.\nBitte eigene Handarbeitssachen und Material mitbringen.\nKostenloses Angebot; Anmeldung unter 0228-227 424 41\, andreea.bretan@awo-badgodesberg.de
URL:https://wohnen-im-pennenfeld.de/termine/strick-und-haekeltreff-10/
LOCATION:Nachbarschaftstreff Pennenfeld\, Maidenheadstraße 20\, Bonn\, NRW\, 53177\, Deutschland
ORGANIZER;CN="Quartiersmanagement Pennenfeld":MAILTO:wilbertz@vebowag.de
END:VEVENT
BEGIN:VEVENT
DTSTART;TZID=Europe/Berlin:20250201T093000
DTEND;TZID=Europe/Berlin:20250201T110000
DTSTAMP:20260420T162839
CREATED:20250121T124508Z
LAST-MODIFIED:20250121T124508Z
UID:6189-1738402200-1738407600@wohnen-im-pennenfeld.de
SUMMARY:Tai Chi & Qi Gong für Frauen
DESCRIPTION:Die in den Kursen vermittelten Gesundheitsübungen hat die Kursleiterin Maria di Gennaro (www.zen-shiatsu.it) von Prof. Li Xiaoming\, einem authentischen chinesischen Meister\, von 2006 bis heute gelernt. \nEs sind keine Vorkenntnisse notwendig! \nTeilnehmerbeitrag: € 5\,- pro Termin. \nAnmeldung: 0228-227 424 41\, andreea.bretan@awo-badgodesberg.de
URL:https://wohnen-im-pennenfeld.de/termine/tai-chi-qi-gong-fuer-frauen-3/2025-02-01/
LOCATION:Nachbarschaftstreff Pennenfeld\, Maidenheadstraße 20\, Bonn\, NRW\, 53177\, Deutschland
ORGANIZER;CN="Quartiersmanagement Pennenfeld":MAILTO:wilbertz@vebowag.de
END:VEVENT
BEGIN:VEVENT
DTSTART;TZID=Europe/Berlin:20250130T110000
DTEND;TZID=Europe/Berlin:20250130T120000
DTSTAMP:20260420T162839
CREATED:20250102T100152Z
LAST-MODIFIED:20250102T100152Z
UID:6154-1738234800-1738238400@wohnen-im-pennenfeld.de
SUMMARY:Fitness für Körper und Geist
DESCRIPTION:Bewegungsangebot für Seniorinnen und Senioren \nGymnastik im Sitzen und Stehen mit Übungen aus dem Ganzheitlichen Gehirntraining (GGT)\, Wahrnehmungs-\, Gleichgewichts-\, Konzentrations- und Koordinationsübungen\, Training von Alltagskompetenzen. \nBuchung des gesamten Kurses (8 Termine\, 16.01.-13.03.): € 45\,- \nInfos unter: 0228-227 424 41\, andreea.bretan@awo-badgodesberg.de
URL:https://wohnen-im-pennenfeld.de/termine/fitness-fuer-koerper-und-geist-24/2025-01-30/
LOCATION:Nachbarschaftstreff Pennenfeld\, Maidenheadstraße 20\, Bonn\, NRW\, 53177\, Deutschland
ORGANIZER;CN="Quartiersmanagement Pennenfeld":MAILTO:wilbertz@vebowag.de
END:VEVENT
BEGIN:VEVENT
DTSTART;TZID=Europe/Berlin:20250130T100000
DTEND;TZID=Europe/Berlin:20250130T110000
DTSTAMP:20260420T162839
CREATED:20250124T133913Z
LAST-MODIFIED:20250124T133913Z
UID:6158-1738231200-1738234800@wohnen-im-pennenfeld.de
SUMMARY:Fitness für Körper und Geist
DESCRIPTION:Bewegungsangebot für Seniorinnen und Senioren \nGymnastik im Sitzen und Stehen mit Übungen aus dem Ganzheitlichen Gehirntraining (GGT)\, Wahrnehmungs-\, Gleichgewichts-\, Konzentrations- und Koordinationsübungen\, Training von Alltagskompetenzen. \nBuchung des gesamten Kurses (8 Termine\, 16.01.-13.03.): € 45\,- \nInfos unter: 0228-227 424 41\, andreea.bretan@awo-badgodesberg.de
URL:https://wohnen-im-pennenfeld.de/termine/fitness-fuer-koerper-und-geist-25/2025-01-30/
LOCATION:Nachbarschaftstreff Pennenfeld\, Maidenheadstraße 20\, Bonn\, NRW\, 53177\, Deutschland
ORGANIZER;CN="Quartiersmanagement Pennenfeld":MAILTO:wilbertz@vebowag.de
END:VEVENT
BEGIN:VEVENT
DTSTART;TZID=Europe/Berlin:20250129T180000
DTEND;TZID=Europe/Berlin:20250129T190000
DTSTAMP:20260420T162839
CREATED:20250124T123358Z
LAST-MODIFIED:20250124T123358Z
UID:6143-1738173600-1738177200@wohnen-im-pennenfeld.de
SUMMARY:Tai Chi & Qi Gong
DESCRIPTION:Die in den Kursen vermittelten Gesundheitsübungen hat die Kursleiterin Maria di Gennaro (www.zen-shiatsu.it) von Prof. Li Xiaoming\, einem authentischen chinesischen Meister\, von 2006 bis heute gelernt. \nEs sind keine Vorkenntnisse notwendig! \nTeilnehmerbeitrag: € 5\,- pro Termin. \nAnmeldung: 0228-227 424 41\, andreea.bretan@awo-badgodesberg.de
URL:https://wohnen-im-pennenfeld.de/termine/tai-chi-qi-gong-21/2025-01-29/
LOCATION:Nachbarschaftstreff Pennenfeld\, Maidenheadstraße 20\, Bonn\, NRW\, 53177\, Deutschland
ORGANIZER;CN="Quartiersmanagement Pennenfeld":MAILTO:wilbertz@vebowag.de
END:VEVENT
BEGIN:VEVENT
DTSTART;TZID=Europe/Berlin:20250129T093000
DTEND;TZID=Europe/Berlin:20250129T110000
DTSTAMP:20260420T162839
CREATED:20250102T090158Z
LAST-MODIFIED:20250102T090158Z
UID:6058-1738143000-1738148400@wohnen-im-pennenfeld.de
SUMMARY:Deutsch-Konversationskurs für Frauen
DESCRIPTION:Möchten Sie zusammen mit anderen Frauen Ihre Deutschkenntnisse üben und erweitern? Dann sind Sie hier genau richtig! Der Kurs ist für Anfängerinnen und Fortgeschrittene geeignet. \nKursleiterin: Simone Saure \nDer Kurs ist kostenlos\, keine Anmeldung erforderlich. Der Einstieg ist jederzeit möglich. \nInfos bei: andreea.bretan@awo-badgodesberg.de\, 0228-227 424 41
URL:https://wohnen-im-pennenfeld.de/termine/deutsch-konversationskurs-fuer-frauen-8/2025-01-29/
LOCATION:Nachbarschaftstreff Pennenfeld\, Maidenheadstraße 20\, Bonn\, NRW\, 53177\, Deutschland
ORGANIZER;CN="Quartiersmanagement Pennenfeld":MAILTO:wilbertz@vebowag.de
END:VEVENT
BEGIN:VEVENT
DTSTART;TZID=Europe/Berlin:20250125T093000
DTEND;TZID=Europe/Berlin:20250125T110000
DTSTAMP:20260420T162839
CREATED:20250121T124508Z
LAST-MODIFIED:20250204T094932Z
UID:6145-1737797400-1737802800@wohnen-im-pennenfeld.de
SUMMARY:Tai Chi & Qi Gong für Frauen
DESCRIPTION:Die in den Kursen vermittelten Gesundheitsübungen hat die Kursleiterin Maria di Gennaro (www.zen-shiatsu.it) von Prof. Li Xiaoming\, einem authentischen chinesischen Meister\, von 2006 bis heute gelernt. \nEs sind keine Vorkenntnisse notwendig! \nTeilnehmerbeitrag: € 5\,- pro Termin. \nAnmeldung: 0228-227 424 41\, andreea.bretan@awo-badgodesberg.de
URL:https://wohnen-im-pennenfeld.de/termine/tai-chi-qi-gong-fuer-frauen-3/2025-01-25/
LOCATION:Nachbarschaftstreff Pennenfeld\, Maidenheadstraße 20\, Bonn\, NRW\, 53177\, Deutschland
ORGANIZER;CN="Quartiersmanagement Pennenfeld":MAILTO:wilbertz@vebowag.de
END:VEVENT
BEGIN:VEVENT
DTSTART;TZID=Europe/Berlin:20250123T150000
DTEND;TZID=Europe/Berlin:20250123T170000
DTSTAMP:20260420T162839
CREATED:20250102T150811Z
LAST-MODIFIED:20250106T110902Z
UID:6097-1737644400-1737651600@wohnen-im-pennenfeld.de
SUMMARY:Spielenachmittag für Erwachsene
DESCRIPTION:Doppelkopf und Rummy-Cup \nKostenloses Angebot\, Spenden willkommen. \nKeine Anmeldung erforderlich.
URL:https://wohnen-im-pennenfeld.de/termine/spielenachmittag-fuer-erwachsene-9/
LOCATION:Nachbarschaftstreff Pennenfeld\, Maidenheadstraße 20\, Bonn\, NRW\, 53177\, Deutschland
ORGANIZER;CN="Quartiersmanagement Pennenfeld":MAILTO:wilbertz@vebowag.de
END:VEVENT
BEGIN:VEVENT
DTSTART;TZID=Europe/Berlin:20250123T110000
DTEND;TZID=Europe/Berlin:20250123T120000
DTSTAMP:20260420T162839
CREATED:20250102T100152Z
LAST-MODIFIED:20250102T100152Z
UID:6153-1737630000-1737633600@wohnen-im-pennenfeld.de
SUMMARY:Fitness für Körper und Geist
DESCRIPTION:Bewegungsangebot für Seniorinnen und Senioren \nGymnastik im Sitzen und Stehen mit Übungen aus dem Ganzheitlichen Gehirntraining (GGT)\, Wahrnehmungs-\, Gleichgewichts-\, Konzentrations- und Koordinationsübungen\, Training von Alltagskompetenzen. \nBuchung des gesamten Kurses (8 Termine\, 16.01.-13.03.): € 45\,- \nInfos unter: 0228-227 424 41\, andreea.bretan@awo-badgodesberg.de
URL:https://wohnen-im-pennenfeld.de/termine/fitness-fuer-koerper-und-geist-24/2025-01-23/
LOCATION:Nachbarschaftstreff Pennenfeld\, Maidenheadstraße 20\, Bonn\, NRW\, 53177\, Deutschland
ORGANIZER;CN="Quartiersmanagement Pennenfeld":MAILTO:wilbertz@vebowag.de
END:VEVENT
BEGIN:VEVENT
DTSTART;TZID=Europe/Berlin:20250123T100000
DTEND;TZID=Europe/Berlin:20250123T110000
DTSTAMP:20260420T162839
CREATED:20250124T133913Z
LAST-MODIFIED:20250124T133913Z
UID:6156-1737626400-1737630000@wohnen-im-pennenfeld.de
SUMMARY:Fitness für Körper und Geist
DESCRIPTION:Bewegungsangebot für Seniorinnen und Senioren \nGymnastik im Sitzen und Stehen mit Übungen aus dem Ganzheitlichen Gehirntraining (GGT)\, Wahrnehmungs-\, Gleichgewichts-\, Konzentrations- und Koordinationsübungen\, Training von Alltagskompetenzen. \nBuchung des gesamten Kurses (8 Termine\, 16.01.-13.03.): € 45\,- \nInfos unter: 0228-227 424 41\, andreea.bretan@awo-badgodesberg.de
URL:https://wohnen-im-pennenfeld.de/termine/fitness-fuer-koerper-und-geist-25/2025-01-23/
LOCATION:Nachbarschaftstreff Pennenfeld\, Maidenheadstraße 20\, Bonn\, NRW\, 53177\, Deutschland
ORGANIZER;CN="Quartiersmanagement Pennenfeld":MAILTO:wilbertz@vebowag.de
END:VEVENT
BEGIN:VEVENT
DTSTART;TZID=Europe/Berlin:20250122T180000
DTEND;TZID=Europe/Berlin:20250122T190000
DTSTAMP:20260420T162839
CREATED:20250124T123358Z
LAST-MODIFIED:20250124T123358Z
UID:6141-1737568800-1737572400@wohnen-im-pennenfeld.de
SUMMARY:Tai Chi & Qi Gong
DESCRIPTION:Die in den Kursen vermittelten Gesundheitsübungen hat die Kursleiterin Maria di Gennaro (www.zen-shiatsu.it) von Prof. Li Xiaoming\, einem authentischen chinesischen Meister\, von 2006 bis heute gelernt. \nEs sind keine Vorkenntnisse notwendig! \nTeilnehmerbeitrag: € 5\,- pro Termin. \nAnmeldung: 0228-227 424 41\, andreea.bretan@awo-badgodesberg.de
URL:https://wohnen-im-pennenfeld.de/termine/tai-chi-qi-gong-21/2025-01-22/
LOCATION:Nachbarschaftstreff Pennenfeld\, Maidenheadstraße 20\, Bonn\, NRW\, 53177\, Deutschland
ORGANIZER;CN="Quartiersmanagement Pennenfeld":MAILTO:wilbertz@vebowag.de
END:VEVENT
BEGIN:VEVENT
DTSTART;TZID=Europe/Berlin:20250122T093000
DTEND;TZID=Europe/Berlin:20250122T110000
DTSTAMP:20260420T162839
CREATED:20250102T090158Z
LAST-MODIFIED:20250102T090158Z
UID:6057-1737538200-1737543600@wohnen-im-pennenfeld.de
SUMMARY:Deutsch-Konversationskurs für Frauen
DESCRIPTION:Möchten Sie zusammen mit anderen Frauen Ihre Deutschkenntnisse üben und erweitern? Dann sind Sie hier genau richtig! Der Kurs ist für Anfängerinnen und Fortgeschrittene geeignet. \nKursleiterin: Simone Saure \nDer Kurs ist kostenlos\, keine Anmeldung erforderlich. Der Einstieg ist jederzeit möglich. \nInfos bei: andreea.bretan@awo-badgodesberg.de\, 0228-227 424 41
URL:https://wohnen-im-pennenfeld.de/termine/deutsch-konversationskurs-fuer-frauen-8/2025-01-22/
LOCATION:Nachbarschaftstreff Pennenfeld\, Maidenheadstraße 20\, Bonn\, NRW\, 53177\, Deutschland
ORGANIZER;CN="Quartiersmanagement Pennenfeld":MAILTO:wilbertz@vebowag.de
END:VEVENT
BEGIN:VEVENT
DTSTART;TZID=Europe/Berlin:20250121T173000
DTEND;TZID=Europe/Berlin:20250121T203000
DTSTAMP:20260420T162839
CREATED:20250102T133256Z
LAST-MODIFIED:20250124T132625Z
UID:6082-1737480600-1737491400@wohnen-im-pennenfeld.de
SUMMARY:Kochen im Nachbarschaftstreff
DESCRIPTION:Lernen Sie nette Menschen kennen und haben Sie Spaß beim gemeinsamen Kochen! Wir kochen regionale Gerichte aus regionalen Zutaten und probieren auch die internationale Küche mit exotischen Zutaten. \nTeilnehmerbeitrag: € 1\,50 \nAnmeldung erforderlich. Bei Herrn Lee: 0151-121 84 230 oder bei Frank Wilbertz: 0228-9158 444\, info@wohnen-im-pennenfeld.de \nIn Kooperation mit der Gemeindepsychatrie Bonn-Rhein-Sieg
URL:https://wohnen-im-pennenfeld.de/termine/kochen-im-nachbarschaftstreff-14/2025-01-21/
LOCATION:Nachbarschaftstreff Pennenfeld\, Maidenheadstraße 20\, Bonn\, NRW\, 53177\, Deutschland
END:VEVENT
BEGIN:VEVENT
DTSTART;TZID=Europe/Berlin:20250121T150000
DTEND;TZID=Europe/Berlin:20250121T160000
DTSTAMP:20260420T162839
CREATED:20250102T150513Z
LAST-MODIFIED:20250106T110636Z
UID:6093-1737471600-1737475200@wohnen-im-pennenfeld.de
SUMMARY:Pennenfeld Clean Up!
DESCRIPTION:Gemeinsam sammeln wir Müll auf und belohnen uns anschließend dafür mit Kaffee und Kuchen.\nGreifzangen\, Handschuhe und Müllsäcke sind vorhanden und warten auf ihren Einsatz. \nTreffen vor dem Nachbarschafstreff Pennenfeld\, Maidenheadstr. 20 \nInfos unter: 0228-9158 444 oder petra.martischewski@t-online.de \nIn Kooperation mit dem Bürgerverein Buntes Pennenfeld e.V.
URL:https://wohnen-im-pennenfeld.de/termine/pennenfeld-clean-up-22/
LOCATION:Treffpunkt: Nachbarschaftstreff Pennenfeld\, Maidenheadstraße 20\, Bonn\, NRW\, 53177\, Deutschland
END:VEVENT
BEGIN:VEVENT
DTSTART;TZID=Europe/Berlin:20250121T120000
DTEND;TZID=Europe/Berlin:20250121T143000
DTSTAMP:20260420T162839
CREATED:20250102T151131Z
LAST-MODIFIED:20250102T151131Z
UID:6103-1737460800-1737469800@wohnen-im-pennenfeld.de
SUMMARY:Verbraucher- und Umweltberatung (nach vorheriger Vereinbarung!)
DESCRIPTION:Die Verbraucherzentrale berät Sie kostenlos zu rechtlichen Themen\, z.B. zu Telefon- und Internetverträgen\, Inkassobriefen\, Kaufverträgen\, dubiosen Kreditkartenangeboten\, Abos und Abzocke\, Energiesparen und Umweltschutz. \nFür einen Termin melden Sie sich bitte mindestens einen Tag vorher an: Telefonisch unter 0163-19 14 272 oder 0160-98 17 34 30 oder über die E-Mail-Adresse: bonn.quartier@verbraucherzentrale.nrw
URL:https://wohnen-im-pennenfeld.de/termine/verbraucher-und-umweltberatung-nach-vorheriger-vereinbarung/2025-01-21/
LOCATION:Nachbarschaftstreff Pennenfeld\, Maidenheadstraße 20\, Bonn\, NRW\, 53177\, Deutschland
END:VEVENT
BEGIN:VEVENT
DTSTART;TZID=Europe/Berlin:20250118T093000
DTEND;TZID=Europe/Berlin:20250118T110000
DTSTAMP:20260420T162839
CREATED:20250102T101418Z
LAST-MODIFIED:20250124T122746Z
UID:6129-1737192600-1737198000@wohnen-im-pennenfeld.de
SUMMARY:Tai Chi & Qi Gong für Frauen
DESCRIPTION:Die in den Kursen vermittelten Gesundheitsübungen hat die Kursleiterin Maria di Gennaro (www.zen-shiatsu.it) von Prof. Li Xiaoming\, einem authentischen chinesischen Meister\, von 2006 bis heute gelernt. \nEs sind keine Vorkenntnisse notwendig! \nTeilnehmerbeitrag: € 4\,- pro Termin. \nAnmeldung: 0228-227 424 41\, andreea.bretan@awo-badgodesberg.de
URL:https://wohnen-im-pennenfeld.de/termine/tai-chi-qi-gong-fuer-frauen-2/2025-01-18/
LOCATION:Nachbarschaftstreff Pennenfeld\, Maidenheadstraße 20\, Bonn\, NRW\, 53177\, Deutschland
ORGANIZER;CN="Quartiersmanagement Pennenfeld":MAILTO:wilbertz@vebowag.de
END:VEVENT
BEGIN:VEVENT
DTSTART;TZID=Europe/Berlin:20250117T150000
DTEND;TZID=Europe/Berlin:20250117T170000
DTSTAMP:20260420T162839
CREATED:20250102T150344Z
LAST-MODIFIED:20250106T110441Z
UID:6091-1737126000-1737133200@wohnen-im-pennenfeld.de
SUMMARY:Repair Café - Reparieren statt wegwerfen!
DESCRIPTION:In gemütlicher Atmosphäre unter fachkundiger Anleitung Elektrogeräte\, Möbelstücke etc. reparieren. \nKostenloses Angebot\, Spenden willkommen. \nAnmeldung/ Terminvergabe: Frank Wilbertz 0228-9158 444 oder info@wohnen-im-pennenfeld.de
URL:https://wohnen-im-pennenfeld.de/termine/repair-cafe-reparieren-statt-wegwerfen-31/
LOCATION:Nachbarschaftstreff Pennenfeld\, Maidenheadstraße 20\, Bonn\, NRW\, 53177\, Deutschland
ORGANIZER;CN="Quartiersmanagement Pennenfeld":MAILTO:wilbertz@vebowag.de
END:VEVENT
BEGIN:VEVENT
DTSTART;TZID=Europe/Berlin:20250116T153000
DTEND;TZID=Europe/Berlin:20250116T163000
DTSTAMP:20260420T162839
CREATED:20250102T150055Z
LAST-MODIFIED:20250106T110225Z
UID:6088-1737041400-1737045000@wohnen-im-pennenfeld.de
SUMMARY:English-Reading-and-Conversation-Club
DESCRIPTION:Wir lesen gemeinsam eine sprachlich einfache\, aber thematisch anspruchsvolle Lektüre und besprechen sie. \nTeilnehmerbeitrag: € 3\,- \nAnmeldung: 0228-227 424 41\, andreea.bretan@awo-badgodesberg.de
URL:https://wohnen-im-pennenfeld.de/termine/english-reading-and-conversation-club-13/
LOCATION:Nachbarschaftstreff Pennenfeld\, Maidenheadstraße 20\, Bonn\, NRW\, 53177\, Deutschland
ORGANIZER;CN="Quartiersmanagement Pennenfeld":MAILTO:wilbertz@vebowag.de
END:VEVENT
BEGIN:VEVENT
DTSTART;TZID=Europe/Berlin:20250116T110000
DTEND;TZID=Europe/Berlin:20250116T120000
DTSTAMP:20260420T162839
CREATED:20250102T100152Z
LAST-MODIFIED:20250124T133106Z
UID:6071-1737025200-1737028800@wohnen-im-pennenfeld.de
SUMMARY:Fitness für Körper und Geist
DESCRIPTION:Bewegungsangebot für Seniorinnen und Senioren \nGymnastik im Sitzen und Stehen mit Übungen aus dem Ganzheitlichen Gehirntraining (GGT)\, Wahrnehmungs-\, Gleichgewichts-\, Konzentrations- und Koordinationsübungen\, Training von Alltagskompetenzen. \nBuchung des gesamten Kurses (8 Termine\, 16.01.-13.03.): € 45\,- \nInfos unter: 0228-227 424 41\, andreea.bretan@awo-badgodesberg.de
URL:https://wohnen-im-pennenfeld.de/termine/fitness-fuer-koerper-und-geist-24/2025-01-16/
LOCATION:Nachbarschaftstreff Pennenfeld\, Maidenheadstraße 20\, Bonn\, NRW\, 53177\, Deutschland
ORGANIZER;CN="Quartiersmanagement Pennenfeld":MAILTO:wilbertz@vebowag.de
END:VEVENT
BEGIN:VEVENT
DTSTART;TZID=Europe/Berlin:20250116T100000
DTEND;TZID=Europe/Berlin:20250116T110000
DTSTAMP:20260420T162839
CREATED:20250102T090949Z
LAST-MODIFIED:20250124T133420Z
UID:6065-1737021600-1737025200@wohnen-im-pennenfeld.de
SUMMARY:Fitness für Körper und Geist
DESCRIPTION:Bewegungsangebot für Seniorinnen und Senioren \nGymnastik im Sitzen und Stehen mit Übungen aus dem Ganzheitlichen Gehirntraining (GGT)\, Wahrnehmungs-\, Gleichgewichts-\, Konzentrations- und Koordinationsübungen\, Training von Alltagskompetenzen. \nBuchung des gesamten Kurses (8 Termine\, 16.01.-13.03.): € 45\,- \nInfos unter: 0228-227 424 41\, andreea.bretan@awo-badgodesberg.de
URL:https://wohnen-im-pennenfeld.de/termine/fitness-fuer-koerper-und-geist-23/2025-01-16/
LOCATION:Nachbarschaftstreff Pennenfeld\, Maidenheadstraße 20\, Bonn\, NRW\, 53177\, Deutschland
ORGANIZER;CN="Quartiersmanagement Pennenfeld":MAILTO:wilbertz@vebowag.de
END:VEVENT
BEGIN:VEVENT
DTSTART;TZID=Europe/Berlin:20250115T180000
DTEND;TZID=Europe/Berlin:20250115T190000
DTSTAMP:20260420T162839
CREATED:20250102T090620Z
LAST-MODIFIED:20250102T090620Z
UID:6138-1736964000-1736967600@wohnen-im-pennenfeld.de
SUMMARY:Tai Chi & Qi Gong
DESCRIPTION:Die in den Kursen vermittelten Gesundheitsübungen hat die Kursleiterin Maria di Gennaro (www.zen-shiatsu.it) von Prof. Li Xiaoming\, einem authentischen chinesischen Meister\, von 2006 bis heute gelernt. \nEs sind keine Vorkenntnisse notwendig! \nTeilnehmerbeitrag: € 4\,- pro Termin. \nAnmeldung: 0228-227 424 41\, andreea.bretan@awo-badgodesberg.de
URL:https://wohnen-im-pennenfeld.de/termine/tai-chi-qi-gong-20/2025-01-15/
LOCATION:Nachbarschaftstreff Pennenfeld\, Maidenheadstraße 20\, Bonn\, NRW\, 53177\, Deutschland
ORGANIZER;CN="Quartiersmanagement Pennenfeld":MAILTO:wilbertz@vebowag.de
END:VEVENT
BEGIN:VEVENT
DTSTART;TZID=Europe/Berlin:20250115T093000
DTEND;TZID=Europe/Berlin:20250115T110000
DTSTAMP:20260420T162839
CREATED:20250102T090158Z
LAST-MODIFIED:20250102T090158Z
UID:6056-1736933400-1736938800@wohnen-im-pennenfeld.de
SUMMARY:Deutsch-Konversationskurs für Frauen
DESCRIPTION:Möchten Sie zusammen mit anderen Frauen Ihre Deutschkenntnisse üben und erweitern? Dann sind Sie hier genau richtig! Der Kurs ist für Anfängerinnen und Fortgeschrittene geeignet. \nKursleiterin: Simone Saure \nDer Kurs ist kostenlos\, keine Anmeldung erforderlich. Der Einstieg ist jederzeit möglich. \nInfos bei: andreea.bretan@awo-badgodesberg.de\, 0228-227 424 41
URL:https://wohnen-im-pennenfeld.de/termine/deutsch-konversationskurs-fuer-frauen-8/2025-01-15/
LOCATION:Nachbarschaftstreff Pennenfeld\, Maidenheadstraße 20\, Bonn\, NRW\, 53177\, Deutschland
ORGANIZER;CN="Quartiersmanagement Pennenfeld":MAILTO:wilbertz@vebowag.de
END:VEVENT
BEGIN:VEVENT
DTSTART;TZID=Europe/Berlin:20250114T120000
DTEND;TZID=Europe/Berlin:20250114T143000
DTSTAMP:20260420T162839
CREATED:20250102T151131Z
LAST-MODIFIED:20250102T151131Z
UID:6102-1736856000-1736865000@wohnen-im-pennenfeld.de
SUMMARY:Verbraucher- und Umweltberatung (nach vorheriger Vereinbarung!)
DESCRIPTION:Die Verbraucherzentrale berät Sie kostenlos zu rechtlichen Themen\, z.B. zu Telefon- und Internetverträgen\, Inkassobriefen\, Kaufverträgen\, dubiosen Kreditkartenangeboten\, Abos und Abzocke\, Energiesparen und Umweltschutz. \nFür einen Termin melden Sie sich bitte mindestens einen Tag vorher an: Telefonisch unter 0163-19 14 272 oder 0160-98 17 34 30 oder über die E-Mail-Adresse: bonn.quartier@verbraucherzentrale.nrw
URL:https://wohnen-im-pennenfeld.de/termine/verbraucher-und-umweltberatung-nach-vorheriger-vereinbarung/2025-01-14/
LOCATION:Nachbarschaftstreff Pennenfeld\, Maidenheadstraße 20\, Bonn\, NRW\, 53177\, Deutschland
END:VEVENT
END:VCALENDAR