﻿BEGIN:VCALENDAR
VERSION:2.0
PRODID:-//Pennenfeld - ECPv6.10.0//NONSGML v1.0//EN
CALSCALE:GREGORIAN
METHOD:PUBLISH
X-WR-CALNAME:Pennenfeld
X-ORIGINAL-URL:https://wohnen-im-pennenfeld.de
X-WR-CALDESC:Veranstaltungen für Pennenfeld
REFRESH-INTERVAL;VALUE=DURATION:PT1H
X-Robots-Tag:noindex
X-PUBLISHED-TTL:PT1H
BEGIN:VTIMEZONE
TZID:Europe/Berlin
BEGIN:DAYLIGHT
TZOFFSETFROM:+0100
TZOFFSETTO:+0200
TZNAME:CEST
DTSTART:20240331T010000
END:DAYLIGHT
BEGIN:STANDARD
TZOFFSETFROM:+0200
TZOFFSETTO:+0100
TZNAME:CET
DTSTART:20241027T010000
END:STANDARD
END:VTIMEZONE
BEGIN:VEVENT
DTSTART;TZID=Europe/Berlin:20241202T150000
DTEND;TZID=Europe/Berlin:20241202T170000
DTSTAMP:20260421T032113
CREATED:20241130T165552Z
LAST-MODIFIED:20241205T165818Z
UID:6036-1733151600-1733158800@wohnen-im-pennenfeld.de
SUMMARY:Hinter dem 2. Türchen des lebendigen Pennenfelder Adventskalender verbirgt sich die Weihnachtsbäckerei im Nachbarschaftstreff Pennenfeld
DESCRIPTION:
URL:https://wohnen-im-pennenfeld.de/termine/hinter-dem-2-tuerchen-des-lebendigen-pennenfelder-adventskalender-verbirgt-sich-die-weihnachtsbaeckerei-im-nachbarschaftstreff-pennenfeld/
LOCATION:Nachbarschaftstreff Pennenfeld\, Maidenheadstraße 20\, Bonn\, NRW\, 53177\, Deutschland
ORGANIZER;CN="Quartiersmanagement Pennenfeld":MAILTO:wilbertz@vebowag.de
END:VEVENT
BEGIN:VEVENT
DTSTART;TZID=Europe/Berlin:20241201T143000
DTEND;TZID=Europe/Berlin:20241201T163000
DTSTAMP:20260421T032113
CREATED:20241113T164308Z
LAST-MODIFIED:20241114T204516Z
UID:6010-1733063400-1733070600@wohnen-im-pennenfeld.de
SUMMARY:Pennenfelder Adventsmärktchen 2024
DESCRIPTION:
URL:https://wohnen-im-pennenfeld.de/termine/pennenfelder-adventsmaerktchen-2024/
LOCATION:Vor dem Netto-Einkaufsmarkt\, Zentrum Pennenfeld - Max-Planck-Str/Albertus-Magnus-Str.\, Bonn\, NRW\, 53177
END:VEVENT
BEGIN:VEVENT
DTSTART;TZID=Europe/Berlin:20241128T150000
DTEND;TZID=Europe/Berlin:20241128T170000
DTSTAMP:20260421T032113
CREATED:20241106T123023Z
LAST-MODIFIED:20241108T123134Z
UID:5970-1732806000-1732813200@wohnen-im-pennenfeld.de
SUMMARY:Spielenachmittag
DESCRIPTION:Doppelkopf und Rummy-Cup \nKostenloses Angebot\, Spenden willkommen.\nKeine Anmeldung erforderlich. \nWir suchen noch Mitspieler*innen für Rummy-Cup. Einfach vorbeikommen!
URL:https://wohnen-im-pennenfeld.de/termine/spielenachmittag-9/
LOCATION:Nachbarschaftstreff Pennenfeld\, Maidenheadstraße 20\, Bonn\, NRW\, 53177\, Deutschland
ORGANIZER;CN="Quartiersmanagement Pennenfeld":MAILTO:wilbertz@vebowag.de
END:VEVENT
BEGIN:VEVENT
DTSTART;TZID=Europe/Berlin:20241128T110000
DTEND;TZID=Europe/Berlin:20241128T120000
DTSTAMP:20260421T032113
CREATED:20241106T113309Z
LAST-MODIFIED:20241106T113309Z
UID:5951-1732791600-1732795200@wohnen-im-pennenfeld.de
SUMMARY:Fitness für Körper und Geist
DESCRIPTION:Bewegungsangebot für Seniorinnen und Senioren \nGymnastik im Sitzen und Stehen mit Übungen aus dem Ganzheitlichen Gehirntraining (GGT)\, Wahrnehmungs-\, Gleichgewichts-\, Konzentrations- und Koordinationsübungen\, Training von Alltagskompetenzen; bei gutem Wetter nutzen wir den Outdoor-Fitnesspark \nBuchung des gesamten Kurses (8 Termine\, 12.9.-14.11.): € 45\,- \nInfos unter: 0228-227 424 41\, andreea.bretan@awo-badgodesberg.de
URL:https://wohnen-im-pennenfeld.de/termine/fitness-fuer-koerper-und-geist-22/2024-11-28/
LOCATION:Nachbarschaftstreff Pennenfeld\, Maidenheadstraße 20\, Bonn\, NRW\, 53177\, Deutschland
ORGANIZER;CN="Quartiersmanagement Pennenfeld":MAILTO:wilbertz@vebowag.de
END:VEVENT
BEGIN:VEVENT
DTSTART;TZID=Europe/Berlin:20241128T100000
DTEND;TZID=Europe/Berlin:20241128T110000
DTSTAMP:20260421T032113
CREATED:20241106T112444Z
LAST-MODIFIED:20241106T112444Z
UID:5946-1732788000-1732791600@wohnen-im-pennenfeld.de
SUMMARY:Fitness für Körper und Geist
DESCRIPTION:Bewegungsangebot für Seniorinnen und Senioren \nGymnastik im Sitzen und Stehen mit Übungen aus dem Ganzheitlichen Gehirntraining (GGT)\, Wahrnehmungs-\, Gleichgewichts-\, Konzentrations- und Koordinationsübungen\, Training von Alltagskompetenzen; bei gutem Wetter nutzen wir den Outdoor-Fitnesspark \nBuchung des gesamten Kurses (8 Termine\, 12.9.-14.11.): € 45\,- \nInfos unter: 0228-227 424 41\, andreea.bretan@awo-badgodesberg.de
URL:https://wohnen-im-pennenfeld.de/termine/fitness-fuer-koerper-und-geist-21/2024-11-28/
LOCATION:Nachbarschaftstreff Pennenfeld\, Maidenheadstraße 20\, Bonn\, NRW\, 53177\, Deutschland
ORGANIZER;CN="Quartiersmanagement Pennenfeld":MAILTO:wilbertz@vebowag.de
END:VEVENT
BEGIN:VEVENT
DTSTART;TZID=Europe/Berlin:20241127T180000
DTEND;TZID=Europe/Berlin:20241127T190000
DTSTAMP:20260421T032113
CREATED:20241106T095817Z
LAST-MODIFIED:20241108T112347Z
UID:5938-1732730400-1732734000@wohnen-im-pennenfeld.de
SUMMARY:Tai Chi & Qi Gong
DESCRIPTION:Die in den Kursen vermittelten Gesundheitsübungen hat die Kursleiterin Maria di Gennaro (www.zen-shiatsu.it) von Prof. Li Xiaoming\, einem authentischen chinesischen Meister\, von 2006 bis heute gelernt. Sie unterrichtet in English (bei Bedarf auch in Spanisch und Italienisch).\n\n\n\nTeilnehmerbeitrag: € 4\,- pro Termin.\nAnmeldung: 0228-227 424 41\, andreea.bretan@awo-badgodesberg.de
URL:https://wohnen-im-pennenfeld.de/termine/tai-chi-qi-gong-19/2024-11-27/
LOCATION:Nachbarschaftstreff Pennenfeld\, Maidenheadstraße 20\, Bonn\, NRW\, 53177\, Deutschland
ORGANIZER;CN="Quartiersmanagement Pennenfeld":MAILTO:wilbertz@vebowag.de
END:VEVENT
BEGIN:VEVENT
DTSTART;TZID=Europe/Berlin:20241127T120000
DTEND;TZID=Europe/Berlin:20241127T130000
DTSTAMP:20260421T032113
CREATED:20241106T122708Z
LAST-MODIFIED:20241108T122813Z
UID:5968-1732708800-1732712400@wohnen-im-pennenfeld.de
SUMMARY:Mittagstisch
DESCRIPTION:Kostenbeitrag inkl. Nachtisch und Kaffee: € 4\,-\nBitte melden Sie sich bis zum 16.10. verbindlich an:\n0228-227 424 41 oder andreea.bretan@awo-badgodesberg.de
URL:https://wohnen-im-pennenfeld.de/termine/mittagstisch-17/
LOCATION:Nachbarschaftstreff Pennenfeld\, Maidenheadstraße 20\, Bonn\, NRW\, 53177\, Deutschland
ORGANIZER;CN="Quartiersmanagement Pennenfeld":MAILTO:wilbertz@vebowag.de
END:VEVENT
BEGIN:VEVENT
DTSTART;TZID=Europe/Berlin:20241127T093000
DTEND;TZID=Europe/Berlin:20241127T110000
DTSTAMP:20260421T032113
CREATED:20241105T095551Z
LAST-MODIFIED:20241105T095551Z
UID:5933-1732699800-1732705200@wohnen-im-pennenfeld.de
SUMMARY:Deutsch-Konversationskurs für Frauen
DESCRIPTION:Möchten Sie zusammen mit anderen Frauen Ihre Deutschkenntnisse üben und erweitern? Dann sind Sie hier genau richtig! Der Kurs ist für Anfängerinnen und Fortgeschrittene geeignet. \nKursleiterin: Simone Saure \nDer Kurs ist kostenlos\, keine Anmeldung erforderlich. Der Einstieg ist jederzeit möglich. \nInfos bei: andreea.bretan@awo-badgodesberg.de\, 0228-227 424 41
URL:https://wohnen-im-pennenfeld.de/termine/deutsch-konversationskurs-fuer-frauen-7/2024-11-27/
LOCATION:Nachbarschaftstreff Pennenfeld\, Maidenheadstraße 20\, Bonn\, NRW\, 53177\, Deutschland
ORGANIZER;CN="Quartiersmanagement Pennenfeld":MAILTO:wilbertz@vebowag.de
END:VEVENT
BEGIN:VEVENT
DTSTART;TZID=Europe/Berlin:20241126T173000
DTEND;TZID=Europe/Berlin:20241126T203000
DTSTAMP:20260421T032113
CREATED:20241106T121341Z
LAST-MODIFIED:20241126T092334Z
UID:5960-1732642200-1732653000@wohnen-im-pennenfeld.de
SUMMARY:Kochen im Nachbarschaftstreff - fällt leider aus!
DESCRIPTION:Lernen Sie nette Menschen kennen und haben Sie Spaß beim\ngemeinsamen Kochen! Wir kochen regionale Gerichte aus regionalen\nZutaten und probieren auch die internationale Küche mit exotischen\nZutaten.\nTeilnehmerbeitrag: € 1\,50\nAnmeldung erforderlich bei Herrn Lee: 0151-121 84 230 oder bei Frank Wilbertz: 0228-9158-444\, info@wohnen-im-pennenfeld.de\nIn Kooperation mit der Gemeindepsychatrie Bonn-Rhein-Sieg
URL:https://wohnen-im-pennenfeld.de/termine/kochen-im-nachbarschaftstreff-13-2024-11-26/
LOCATION:Nachbarschaftstreff Pennenfeld\, Maidenheadstraße 20\, Bonn\, NRW\, 53177\, Deutschland
END:VEVENT
BEGIN:VEVENT
DTSTART;TZID=Europe/Berlin:20241125T153000
DTEND;TZID=Europe/Berlin:20241125T170000
DTSTAMP:20260421T032113
CREATED:20241108T125039Z
LAST-MODIFIED:20241113T191620Z
UID:5974-1732548600-1732554000@wohnen-im-pennenfeld.de
SUMMARY:Vortrag „Handy-Sicherheit“
DESCRIPTION:Bei diesem Vortrag der Verbraucherzentrale NRW erfahren Sie alles rund um das Thema Handy-Sicherheit: welche Einstellungen sind wichtig\, wie erkennen Sie Betrugsversuche\, wie können Sie digitale Dienste auf dem Handy nutzen u.v.m. \nInformationen und Anmeldung: Frank Wilbertz\, 0228-91 58 444 oder info@wohnen-im-pennenfeld.de
URL:https://wohnen-im-pennenfeld.de/termine/vortrag-handy-sicherheit/
LOCATION:Nachbarschaftstreff Pennenfeld\, Maidenheadstraße 20\, Bonn\, NRW\, 53177\, Deutschland
END:VEVENT
BEGIN:VEVENT
DTSTART;TZID=Europe/Berlin:20241122T140000
DTEND;TZID=Europe/Berlin:20241122T170000
DTSTAMP:20260421T032113
CREATED:20241108T124828Z
LAST-MODIFIED:20241114T202901Z
UID:5972-1732284000-1732294800@wohnen-im-pennenfeld.de
SUMMARY:Pflegeaktion im PikoPark
DESCRIPTION:Unter fachkundiger Anleitung der Dipl. Biologin Dr. Anke Wallraff-Beck\nbereiten wir unseren Naturgarten diesmal gemeinsam auf den Winter vor. \nInformationen und Anmeldung: Frank Wilbertz\, 0228-91 58 444 oder\ninfo@wohnen-im-pennenfeld.de
URL:https://wohnen-im-pennenfeld.de/termine/pflegeaktion-im-pikopark-4/
LOCATION:PikoPark Pennenfeld\, Nähe Max-Planck-Straße 17-19\, Bonn\, NRW\, 53177\, Deutschland
ORGANIZER;CN="Quartiersmanagement Pennenfeld":MAILTO:wilbertz@vebowag.de
END:VEVENT
BEGIN:VEVENT
DTSTART;TZID=Europe/Berlin:20241121T150000
DTEND;TZID=Europe/Berlin:20241121T163000
DTSTAMP:20260421T032113
CREATED:20241106T120931Z
LAST-MODIFIED:20241209T132403Z
UID:5965-1732201200-1732206600@wohnen-im-pennenfeld.de
SUMMARY:English-Reading-and-Conversation-Club
DESCRIPTION:Wir lesen gemeinsam eine sprachlich einfache\, aber thematisch anspruchsvolle Lektüre und besprechen sie.\nTeilnehmerbeitrag: € 3\,-\nAnmeldung: 0228-227 424 41\, andreea.bretan@awo-badgodesberg.de
URL:https://wohnen-im-pennenfeld.de/termine/english-reading-and-conversation-club-12-2024-11-21/2024-11-21/
LOCATION:Nachbarschaftstreff Pennenfeld\, Maidenheadstraße 20\, Bonn\, NRW\, 53177\, Deutschland
ORGANIZER;CN="Quartiersmanagement Pennenfeld":MAILTO:wilbertz@vebowag.de
END:VEVENT
BEGIN:VEVENT
DTSTART;TZID=Europe/Berlin:20241121T110000
DTEND;TZID=Europe/Berlin:20241121T120000
DTSTAMP:20260421T032113
CREATED:20241106T113309Z
LAST-MODIFIED:20241106T113309Z
UID:5950-1732186800-1732190400@wohnen-im-pennenfeld.de
SUMMARY:Fitness für Körper und Geist
DESCRIPTION:Bewegungsangebot für Seniorinnen und Senioren \nGymnastik im Sitzen und Stehen mit Übungen aus dem Ganzheitlichen Gehirntraining (GGT)\, Wahrnehmungs-\, Gleichgewichts-\, Konzentrations- und Koordinationsübungen\, Training von Alltagskompetenzen; bei gutem Wetter nutzen wir den Outdoor-Fitnesspark \nBuchung des gesamten Kurses (8 Termine\, 12.9.-14.11.): € 45\,- \nInfos unter: 0228-227 424 41\, andreea.bretan@awo-badgodesberg.de
URL:https://wohnen-im-pennenfeld.de/termine/fitness-fuer-koerper-und-geist-22/2024-11-21/
LOCATION:Nachbarschaftstreff Pennenfeld\, Maidenheadstraße 20\, Bonn\, NRW\, 53177\, Deutschland
ORGANIZER;CN="Quartiersmanagement Pennenfeld":MAILTO:wilbertz@vebowag.de
END:VEVENT
BEGIN:VEVENT
DTSTART;TZID=Europe/Berlin:20241121T100000
DTEND;TZID=Europe/Berlin:20241121T110000
DTSTAMP:20260421T032113
CREATED:20241106T112444Z
LAST-MODIFIED:20241106T112444Z
UID:5945-1732183200-1732186800@wohnen-im-pennenfeld.de
SUMMARY:Fitness für Körper und Geist
DESCRIPTION:Bewegungsangebot für Seniorinnen und Senioren \nGymnastik im Sitzen und Stehen mit Übungen aus dem Ganzheitlichen Gehirntraining (GGT)\, Wahrnehmungs-\, Gleichgewichts-\, Konzentrations- und Koordinationsübungen\, Training von Alltagskompetenzen; bei gutem Wetter nutzen wir den Outdoor-Fitnesspark \nBuchung des gesamten Kurses (8 Termine\, 12.9.-14.11.): € 45\,- \nInfos unter: 0228-227 424 41\, andreea.bretan@awo-badgodesberg.de
URL:https://wohnen-im-pennenfeld.de/termine/fitness-fuer-koerper-und-geist-21/2024-11-21/
LOCATION:Nachbarschaftstreff Pennenfeld\, Maidenheadstraße 20\, Bonn\, NRW\, 53177\, Deutschland
ORGANIZER;CN="Quartiersmanagement Pennenfeld":MAILTO:wilbertz@vebowag.de
END:VEVENT
BEGIN:VEVENT
DTSTART;TZID=Europe/Berlin:20241120T180000
DTEND;TZID=Europe/Berlin:20241120T190000
DTSTAMP:20260421T032113
CREATED:20241106T095817Z
LAST-MODIFIED:20241108T112347Z
UID:5937-1732125600-1732129200@wohnen-im-pennenfeld.de
SUMMARY:Tai Chi & Qi Gong
DESCRIPTION:Die in den Kursen vermittelten Gesundheitsübungen hat die Kursleiterin Maria di Gennaro (www.zen-shiatsu.it) von Prof. Li Xiaoming\, einem authentischen chinesischen Meister\, von 2006 bis heute gelernt. Sie unterrichtet in English (bei Bedarf auch in Spanisch und Italienisch).\n\n\n\nTeilnehmerbeitrag: € 4\,- pro Termin.\nAnmeldung: 0228-227 424 41\, andreea.bretan@awo-badgodesberg.de
URL:https://wohnen-im-pennenfeld.de/termine/tai-chi-qi-gong-19/2024-11-20/
LOCATION:Nachbarschaftstreff Pennenfeld\, Maidenheadstraße 20\, Bonn\, NRW\, 53177\, Deutschland
ORGANIZER;CN="Quartiersmanagement Pennenfeld":MAILTO:wilbertz@vebowag.de
END:VEVENT
BEGIN:VEVENT
DTSTART;TZID=Europe/Berlin:20241120T093000
DTEND;TZID=Europe/Berlin:20241120T110000
DTSTAMP:20260421T032113
CREATED:20241105T095551Z
LAST-MODIFIED:20241105T095551Z
UID:5932-1732095000-1732100400@wohnen-im-pennenfeld.de
SUMMARY:Deutsch-Konversationskurs für Frauen
DESCRIPTION:Möchten Sie zusammen mit anderen Frauen Ihre Deutschkenntnisse üben und erweitern? Dann sind Sie hier genau richtig! Der Kurs ist für Anfängerinnen und Fortgeschrittene geeignet. \nKursleiterin: Simone Saure \nDer Kurs ist kostenlos\, keine Anmeldung erforderlich. Der Einstieg ist jederzeit möglich. \nInfos bei: andreea.bretan@awo-badgodesberg.de\, 0228-227 424 41
URL:https://wohnen-im-pennenfeld.de/termine/deutsch-konversationskurs-fuer-frauen-7/2024-11-20/
LOCATION:Nachbarschaftstreff Pennenfeld\, Maidenheadstraße 20\, Bonn\, NRW\, 53177\, Deutschland
ORGANIZER;CN="Quartiersmanagement Pennenfeld":MAILTO:wilbertz@vebowag.de
END:VEVENT
BEGIN:VEVENT
DTSTART;TZID=Europe/Berlin:20241119T150000
DTEND;TZID=Europe/Berlin:20241119T160000
DTSTAMP:20260421T032113
CREATED:20241106T122448Z
LAST-MODIFIED:20241108T122629Z
UID:5966-1732028400-1732032000@wohnen-im-pennenfeld.de
SUMMARY:Pennenfeld Clean Up!
DESCRIPTION:Gemeinsam sammeln wir Müll auf und belohnen uns anschließend dafür\nmit Kaffee und Kuchen.\nGreifzangen\, Handschuhe und Müllsäcke sind vorhanden und warten auf\nihren Einsatz.\nTreffen vor dem Nachbarschafstreff Pennenfeld\, Maidenheadstr. 20\nInfos unter: 0228-9158 444 oder petra.martischewski@t-online.de\nIn Kooperation mit dem Bürgerverein Buntes Pennenfeld e.V.
URL:https://wohnen-im-pennenfeld.de/termine/pennenfeld-clean-up-21/
LOCATION:Treffpunkt: Nachbarschaftstreff Pennenfeld\, Maidenheadstraße 20\, Bonn\, NRW\, 53177\, Deutschland
END:VEVENT
BEGIN:VEVENT
DTSTART;TZID=Europe/Berlin:20241115T150000
DTEND;TZID=Europe/Berlin:20241115T170000
DTSTAMP:20260421T032113
CREATED:20241106T121937Z
LAST-MODIFIED:20241108T122023Z
UID:5963-1731682800-1731690000@wohnen-im-pennenfeld.de
SUMMARY:Repair Café – Reparieren statt wegwerfen!
DESCRIPTION:In gemütlicher Atmosphäre unter fachkundiger Anleitung Elektrogeräte\,\nMöbelstücke etc. reparieren.\nKostenloses Angebot\, Spenden willkommen.\nAnmeldung/ Terminvergabe: Frank Wilbertz 0228-9158 444 oder\ninfo@wohnen-im-pennenfeld.de
URL:https://wohnen-im-pennenfeld.de/termine/repair-cafe-reparieren-statt-wegwerfen-30/
LOCATION:Nachbarschaftstreff Pennenfeld\, Maidenheadstraße 20\, Bonn\, NRW\, 53177\, Deutschland
ORGANIZER;CN="Quartiersmanagement Pennenfeld":MAILTO:wilbertz@vebowag.de
END:VEVENT
BEGIN:VEVENT
DTSTART;TZID=Europe/Berlin:20241114T150000
DTEND;TZID=Europe/Berlin:20241114T170000
DTSTAMP:20260421T032113
CREATED:20241106T121741Z
LAST-MODIFIED:20241108T121844Z
UID:5961-1731596400-1731603600@wohnen-im-pennenfeld.de
SUMMARY:Gesangsnachmittag mit Kaffee und Kuchen
DESCRIPTION:Gemeinsam singen wir Lieder quer durch das deutsche Liederbuch und\nwerden dabei von Akkordeon\, Mandoline und Mundharmonika\nbegleitet.\nTeilnehmerbeitrag: € 2\,50\nKeine Anmeldung erforderlich
URL:https://wohnen-im-pennenfeld.de/termine/gesangsnachmittag-mit-kaffee-und-kuchen-15/
LOCATION:Nachbarschaftstreff Pennenfeld\, Maidenheadstraße 20\, Bonn\, NRW\, 53177\, Deutschland
ORGANIZER;CN="Quartiersmanagement Pennenfeld":MAILTO:wilbertz@vebowag.de
END:VEVENT
BEGIN:VEVENT
DTSTART;TZID=Europe/Berlin:20241114T110000
DTEND;TZID=Europe/Berlin:20241114T120000
DTSTAMP:20260421T032113
CREATED:20241106T113309Z
LAST-MODIFIED:20241106T113309Z
UID:5949-1731582000-1731585600@wohnen-im-pennenfeld.de
SUMMARY:Fitness für Körper und Geist
DESCRIPTION:Bewegungsangebot für Seniorinnen und Senioren \nGymnastik im Sitzen und Stehen mit Übungen aus dem Ganzheitlichen Gehirntraining (GGT)\, Wahrnehmungs-\, Gleichgewichts-\, Konzentrations- und Koordinationsübungen\, Training von Alltagskompetenzen; bei gutem Wetter nutzen wir den Outdoor-Fitnesspark \nBuchung des gesamten Kurses (8 Termine\, 12.9.-14.11.): € 45\,- \nInfos unter: 0228-227 424 41\, andreea.bretan@awo-badgodesberg.de
URL:https://wohnen-im-pennenfeld.de/termine/fitness-fuer-koerper-und-geist-22/2024-11-14/
LOCATION:Nachbarschaftstreff Pennenfeld\, Maidenheadstraße 20\, Bonn\, NRW\, 53177\, Deutschland
ORGANIZER;CN="Quartiersmanagement Pennenfeld":MAILTO:wilbertz@vebowag.de
END:VEVENT
BEGIN:VEVENT
DTSTART;TZID=Europe/Berlin:20241114T100000
DTEND;TZID=Europe/Berlin:20241114T110000
DTSTAMP:20260421T032113
CREATED:20241106T112444Z
LAST-MODIFIED:20241106T112444Z
UID:5944-1731578400-1731582000@wohnen-im-pennenfeld.de
SUMMARY:Fitness für Körper und Geist
DESCRIPTION:Bewegungsangebot für Seniorinnen und Senioren \nGymnastik im Sitzen und Stehen mit Übungen aus dem Ganzheitlichen Gehirntraining (GGT)\, Wahrnehmungs-\, Gleichgewichts-\, Konzentrations- und Koordinationsübungen\, Training von Alltagskompetenzen; bei gutem Wetter nutzen wir den Outdoor-Fitnesspark \nBuchung des gesamten Kurses (8 Termine\, 12.9.-14.11.): € 45\,- \nInfos unter: 0228-227 424 41\, andreea.bretan@awo-badgodesberg.de
URL:https://wohnen-im-pennenfeld.de/termine/fitness-fuer-koerper-und-geist-21/2024-11-14/
LOCATION:Nachbarschaftstreff Pennenfeld\, Maidenheadstraße 20\, Bonn\, NRW\, 53177\, Deutschland
ORGANIZER;CN="Quartiersmanagement Pennenfeld":MAILTO:wilbertz@vebowag.de
END:VEVENT
BEGIN:VEVENT
DTSTART;TZID=Europe/Berlin:20241113T180000
DTEND;TZID=Europe/Berlin:20241113T190000
DTSTAMP:20260421T032113
CREATED:20241106T095817Z
LAST-MODIFIED:20241108T112347Z
UID:5936-1731520800-1731524400@wohnen-im-pennenfeld.de
SUMMARY:Tai Chi & Qi Gong
DESCRIPTION:Die in den Kursen vermittelten Gesundheitsübungen hat die Kursleiterin Maria di Gennaro (www.zen-shiatsu.it) von Prof. Li Xiaoming\, einem authentischen chinesischen Meister\, von 2006 bis heute gelernt. Sie unterrichtet in English (bei Bedarf auch in Spanisch und Italienisch).\n\n\n\nTeilnehmerbeitrag: € 4\,- pro Termin.\nAnmeldung: 0228-227 424 41\, andreea.bretan@awo-badgodesberg.de
URL:https://wohnen-im-pennenfeld.de/termine/tai-chi-qi-gong-19/2024-11-13/
LOCATION:Nachbarschaftstreff Pennenfeld\, Maidenheadstraße 20\, Bonn\, NRW\, 53177\, Deutschland
ORGANIZER;CN="Quartiersmanagement Pennenfeld":MAILTO:wilbertz@vebowag.de
END:VEVENT
BEGIN:VEVENT
DTSTART;TZID=Europe/Berlin:20241113T093000
DTEND;TZID=Europe/Berlin:20241113T110000
DTSTAMP:20260421T032113
CREATED:20241105T095551Z
LAST-MODIFIED:20241105T095551Z
UID:5931-1731490200-1731495600@wohnen-im-pennenfeld.de
SUMMARY:Deutsch-Konversationskurs für Frauen
DESCRIPTION:Möchten Sie zusammen mit anderen Frauen Ihre Deutschkenntnisse üben und erweitern? Dann sind Sie hier genau richtig! Der Kurs ist für Anfängerinnen und Fortgeschrittene geeignet. \nKursleiterin: Simone Saure \nDer Kurs ist kostenlos\, keine Anmeldung erforderlich. Der Einstieg ist jederzeit möglich. \nInfos bei: andreea.bretan@awo-badgodesberg.de\, 0228-227 424 41
URL:https://wohnen-im-pennenfeld.de/termine/deutsch-konversationskurs-fuer-frauen-7/2024-11-13/
LOCATION:Nachbarschaftstreff Pennenfeld\, Maidenheadstraße 20\, Bonn\, NRW\, 53177\, Deutschland
ORGANIZER;CN="Quartiersmanagement Pennenfeld":MAILTO:wilbertz@vebowag.de
END:VEVENT
BEGIN:VEVENT
DTSTART;TZID=Europe/Berlin:20241112T173000
DTEND;TZID=Europe/Berlin:20241112T203000
DTSTAMP:20260421T032113
CREATED:20241106T121341Z
LAST-MODIFIED:20241108T121605Z
UID:5958-1731432600-1731443400@wohnen-im-pennenfeld.de
SUMMARY:Kochen im Nachbarschaftstreff
DESCRIPTION:Lernen Sie nette Menschen kennen und haben Sie Spaß beim\ngemeinsamen Kochen! Wir kochen regionale Gerichte aus regionalen\nZutaten und probieren auch die internationale Küche mit exotischen\nZutaten.\nTeilnehmerbeitrag: € 1\,50\nAnmeldung erforderlich bei Herrn Lee: 0151-121 84 230 oder bei Frank Wilbertz: 0228-9158-444\, info@wohnen-im-pennenfeld.de\nIn Kooperation mit der Gemeindepsychatrie Bonn-Rhein-Sieg
URL:https://wohnen-im-pennenfeld.de/termine/kochen-im-nachbarschaftstreff-13/2024-11-12/
LOCATION:Nachbarschaftstreff Pennenfeld\, Maidenheadstraße 20\, Bonn\, NRW\, 53177\, Deutschland
END:VEVENT
BEGIN:VEVENT
DTSTART;TZID=Europe/Berlin:20241108T100000
DTEND;TZID=Europe/Berlin:20241108T113000
DTSTAMP:20260421T032113
CREATED:20241106T121149Z
LAST-MODIFIED:20241108T121304Z
UID:5956-1731060000-1731065400@wohnen-im-pennenfeld.de
SUMMARY:Interkulturelles Frauenfrühstück
DESCRIPTION:Herzliche Einladung zu unserem interkulturellen Frauenfrühstück!\nBitte bringen Sie einen kleinen Beitrag zum gemeinsamen bunten Buffet mit.\nAnmeldung: 0228-227 424 41\, andreea.bretan@awo-badgodesberg.de
URL:https://wohnen-im-pennenfeld.de/termine/interkulturelles-frauenfruehstueck-17/
LOCATION:Nachbarschaftstreff Pennenfeld\, Maidenheadstraße 20\, Bonn\, NRW\, 53177\, Deutschland
ORGANIZER;CN="Quartiersmanagement Pennenfeld":MAILTO:wilbertz@vebowag.de
END:VEVENT
BEGIN:VEVENT
DTSTART;TZID=Europe/Berlin:20241107T153000
DTEND;TZID=Europe/Berlin:20241107T163000
DTSTAMP:20260421T032113
CREATED:20241106T120931Z
LAST-MODIFIED:20241209T132416Z
UID:5954-1730993400-1730997000@wohnen-im-pennenfeld.de
SUMMARY:English-Reading-and-Conversation-Club
DESCRIPTION:Wir lesen gemeinsam eine sprachlich einfache\, aber thematisch anspruchsvolle Lektüre und besprechen sie.\nTeilnehmerbeitrag: € 3\,-\nAnmeldung: 0228-227 424 41\, andreea.bretan@awo-badgodesberg.de
URL:https://wohnen-im-pennenfeld.de/termine/english-reading-and-conversation-club-12/
LOCATION:Nachbarschaftstreff Pennenfeld\, Maidenheadstraße 20\, Bonn\, NRW\, 53177\, Deutschland
ORGANIZER;CN="Quartiersmanagement Pennenfeld":MAILTO:wilbertz@vebowag.de
END:VEVENT
BEGIN:VEVENT
DTSTART;TZID=Europe/Berlin:20241107T110000
DTEND;TZID=Europe/Berlin:20241107T120000
DTSTAMP:20260421T032113
CREATED:20241106T113309Z
LAST-MODIFIED:20241108T113456Z
UID:5947-1730977200-1730980800@wohnen-im-pennenfeld.de
SUMMARY:Fitness für Körper und Geist
DESCRIPTION:Bewegungsangebot für Seniorinnen und Senioren \nGymnastik im Sitzen und Stehen mit Übungen aus dem Ganzheitlichen Gehirntraining (GGT)\, Wahrnehmungs-\, Gleichgewichts-\, Konzentrations- und Koordinationsübungen\, Training von Alltagskompetenzen; bei gutem Wetter nutzen wir den Outdoor-Fitnesspark \nBuchung des gesamten Kurses (8 Termine\, 12.9.-14.11.): € 45\,- \nInfos unter: 0228-227 424 41\, andreea.bretan@awo-badgodesberg.de
URL:https://wohnen-im-pennenfeld.de/termine/fitness-fuer-koerper-und-geist-22/2024-11-07/
LOCATION:Nachbarschaftstreff Pennenfeld\, Maidenheadstraße 20\, Bonn\, NRW\, 53177\, Deutschland
ORGANIZER;CN="Quartiersmanagement Pennenfeld":MAILTO:wilbertz@vebowag.de
END:VEVENT
BEGIN:VEVENT
DTSTART;TZID=Europe/Berlin:20241107T100000
DTEND;TZID=Europe/Berlin:20241107T110000
DTSTAMP:20260421T032113
CREATED:20241106T112444Z
LAST-MODIFIED:20241108T113304Z
UID:5942-1730973600-1730977200@wohnen-im-pennenfeld.de
SUMMARY:Fitness für Körper und Geist
DESCRIPTION:Bewegungsangebot für Seniorinnen und Senioren \nGymnastik im Sitzen und Stehen mit Übungen aus dem Ganzheitlichen Gehirntraining (GGT)\, Wahrnehmungs-\, Gleichgewichts-\, Konzentrations- und Koordinationsübungen\, Training von Alltagskompetenzen; bei gutem Wetter nutzen wir den Outdoor-Fitnesspark \nBuchung des gesamten Kurses (8 Termine\, 12.9.-14.11.): € 45\,- \nInfos unter: 0228-227 424 41\, andreea.bretan@awo-badgodesberg.de
URL:https://wohnen-im-pennenfeld.de/termine/fitness-fuer-koerper-und-geist-21/2024-11-07/
LOCATION:Nachbarschaftstreff Pennenfeld\, Maidenheadstraße 20\, Bonn\, NRW\, 53177\, Deutschland
ORGANIZER;CN="Quartiersmanagement Pennenfeld":MAILTO:wilbertz@vebowag.de
END:VEVENT
BEGIN:VEVENT
DTSTART;TZID=Europe/Berlin:20241106T180000
DTEND;TZID=Europe/Berlin:20241106T190000
DTSTAMP:20260421T032113
CREATED:20241106T095817Z
LAST-MODIFIED:20241108T112346Z
UID:5934-1730916000-1730919600@wohnen-im-pennenfeld.de
SUMMARY:Tai Chi & Qi Gong
DESCRIPTION:Die in den Kursen vermittelten Gesundheitsübungen hat die Kursleiterin Maria di Gennaro (www.zen-shiatsu.it) von Prof. Li Xiaoming\, einem authentischen chinesischen Meister\, von 2006 bis heute gelernt. Sie unterrichtet in English (bei Bedarf auch in Spanisch und Italienisch).\n\n\n\nTeilnehmerbeitrag: € 4\,- pro Termin.\nAnmeldung: 0228-227 424 41\, andreea.bretan@awo-badgodesberg.de
URL:https://wohnen-im-pennenfeld.de/termine/tai-chi-qi-gong-19/2024-11-06/
LOCATION:Nachbarschaftstreff Pennenfeld\, Maidenheadstraße 20\, Bonn\, NRW\, 53177\, Deutschland
ORGANIZER;CN="Quartiersmanagement Pennenfeld":MAILTO:wilbertz@vebowag.de
END:VEVENT
BEGIN:VEVENT
DTSTART;TZID=Europe/Berlin:20241106T093000
DTEND;TZID=Europe/Berlin:20241106T110000
DTSTAMP:20260421T032113
CREATED:20241105T095551Z
LAST-MODIFIED:20241108T095751Z
UID:5929-1730885400-1730890800@wohnen-im-pennenfeld.de
SUMMARY:Deutsch-Konversationskurs für Frauen
DESCRIPTION:Möchten Sie zusammen mit anderen Frauen Ihre Deutschkenntnisse üben und erweitern? Dann sind Sie hier genau richtig! Der Kurs ist für Anfängerinnen und Fortgeschrittene geeignet. \nKursleiterin: Simone Saure \nDer Kurs ist kostenlos\, keine Anmeldung erforderlich. Der Einstieg ist jederzeit möglich. \nInfos bei: andreea.bretan@awo-badgodesberg.de\, 0228-227 424 41
URL:https://wohnen-im-pennenfeld.de/termine/deutsch-konversationskurs-fuer-frauen-7/2024-11-06/
LOCATION:Nachbarschaftstreff Pennenfeld\, Maidenheadstraße 20\, Bonn\, NRW\, 53177\, Deutschland
ORGANIZER;CN="Quartiersmanagement Pennenfeld":MAILTO:wilbertz@vebowag.de
END:VEVENT
END:VCALENDAR