﻿BEGIN:VCALENDAR
VERSION:2.0
PRODID:-//Pennenfeld - ECPv6.10.0//NONSGML v1.0//EN
CALSCALE:GREGORIAN
METHOD:PUBLISH
X-ORIGINAL-URL:https://wohnen-im-pennenfeld.de
X-WR-CALDESC:Veranstaltungen für Pennenfeld
REFRESH-INTERVAL;VALUE=DURATION:PT1H
X-Robots-Tag:noindex
X-PUBLISHED-TTL:PT1H
BEGIN:VTIMEZONE
TZID:Europe/Berlin
BEGIN:DAYLIGHT
TZOFFSETFROM:+0100
TZOFFSETTO:+0200
TZNAME:CEST
DTSTART:20240331T010000
END:DAYLIGHT
BEGIN:STANDARD
TZOFFSETFROM:+0200
TZOFFSETTO:+0100
TZNAME:CET
DTSTART:20241027T010000
END:STANDARD
END:VTIMEZONE
BEGIN:VEVENT
DTSTART;TZID=Europe/Berlin:20240903T110000
DTEND;TZID=Europe/Berlin:20240903T110000
DTSTAMP:20260421T235848
CREATED:20240902T153252Z
LAST-MODIFIED:20240903T153415Z
UID:5684-1725361200-1725361200@wohnen-im-pennenfeld.de
SUMMARY:Lebensmittelausgabe im Nachbarschaftstreff Pennenfeld
DESCRIPTION:
URL:https://wohnen-im-pennenfeld.de/termine/lebensmittelausgabe-im-nachbarschaftstreff-pennenfeld-58/2024-09-03/
LOCATION:Nachbarschaftstreff Pennenfeld\, Maidenheadstraße 20\, Bonn\, NRW\, 53177\, Deutschland
ORGANIZER;CN="Quartiersmanagement Pennenfeld":MAILTO:wilbertz@vebowag.de
END:VEVENT
BEGIN:VEVENT
DTSTART;TZID=Europe/Berlin:20240830T173000
DTEND;TZID=Europe/Berlin:20240830T190000
DTSTAMP:20260421T235848
CREATED:20240730T171448Z
LAST-MODIFIED:20240730T171448Z
UID:5646-1725039000-1725044400@wohnen-im-pennenfeld.de
SUMMARY:Deutsch-Konversationskurs für Männer
DESCRIPTION:Möchten Sie gemeinsam mit anderen Männern Ihren Wortschatz bereichern und Ihre Sprachfähigkeiten im Deutschen vertiefen? Wollen Sie sich in alltäglichen Gesprächsthemen auf Deutsch sicherer fühlen? Dann sind Sie hier genau richtig! \nDieser Kurs ist speziell für Männer konzipiert\, die als Anfänger oder mit mittlerem Sprachniveau (A2-B1) ihre Sprachfähigkeiten erweitern und im Alltag anwenden möchten. \nKursleiter: Yaser Darkashly \nDer Kurs ist kostenlos\, keine Anmeldung erforderlich. Ein Einstieg ist jederzeit möglich. \nInfos bei: hasan.barbar@caritas-bonn.de\, 0228-227 424 42
URL:https://wohnen-im-pennenfeld.de/termine/deutsch-konversationskurs-fuer-maenner-4/2024-08-30/
LOCATION:Nachbarschaftstreff Pennenfeld\, Maidenheadstraße 20\, Bonn\, NRW\, 53177\, Deutschland
ORGANIZER;CN="Quartiersmanagement Pennenfeld":MAILTO:wilbertz@vebowag.de
END:VEVENT
BEGIN:VEVENT
DTSTART;TZID=Europe/Berlin:20240829T123000
DTEND;TZID=Europe/Berlin:20240829T140000
DTSTAMP:20260421T235848
CREATED:20240730T171322Z
LAST-MODIFIED:20240730T171322Z
UID:5640-1724934600-1724940000@wohnen-im-pennenfeld.de
SUMMARY:Deutsch-Konversationskurs für Männer
DESCRIPTION:Möchten Sie gemeinsam mit anderen Männern Ihren Wortschatz bereichern und Ihre Sprachfähigkeiten im Deutschen vertiefen? Wollen Sie sich in alltäglichen Gesprächsthemen auf Deutsch sicherer fühlen? Dann sind Sie hier genau richtig! \nDieser Kurs ist speziell für Männer konzipiert\, die als Anfänger oder mit mittlerem Sprachniveau (A2-B1) ihre Sprachfähigkeiten erweitern und im Alltag anwenden möchten. \nKursleiter: Yaser Darkashly \nDer Kurs ist kostenlos\, keine Anmeldung erforderlich. Ein Einstieg ist jederzeit möglich. \nInfos bei: hasan.barbar@caritas-bonn.de\, 0228-227 424 42
URL:https://wohnen-im-pennenfeld.de/termine/deutsch-konversationskurs-fuer-maenner-3/2024-08-29/
LOCATION:Nachbarschaftstreff Pennenfeld\, Maidenheadstraße 20\, Bonn\, NRW\, 53177\, Deutschland
ORGANIZER;CN="Quartiersmanagement Pennenfeld":MAILTO:wilbertz@vebowag.de
END:VEVENT
BEGIN:VEVENT
DTSTART;TZID=Europe/Berlin:20240829T120000
DTEND;TZID=Europe/Berlin:20240829T130000
DTSTAMP:20260421T235848
CREATED:20240730T171013Z
LAST-MODIFIED:20240730T171013Z
UID:5633-1724932800-1724936400@wohnen-im-pennenfeld.de
SUMMARY:Fitness für Körper und Geist
DESCRIPTION:Bewegungsangebot für Seniorinnen und SeniorenGymnastik im Sitzen und Stehen mit Übungen aus dem Ganzheitlichen Gehirntraining (GGT)\, Wahrnehmungs-\, Gleichgewichts-\, Konzentrations- und Koordinationsübungen\, Training von Alltagskompetenzen; bei gutem Wetter nutzen wir den Outdoor-Fitnesspark \nBuchung des gesamten Kurses (8 Termine\, 4.7.-29.8.): € 45\,- \nInfos unter: 0228-227 424 41\, andreea.bretan@awo-badgodesberg.de
URL:https://wohnen-im-pennenfeld.de/termine/fitness-fuer-koerper-und-geist-18/2024-08-29/
LOCATION:Nachbarschaftstreff Pennenfeld\, Maidenheadstraße 20\, Bonn\, NRW\, 53177\, Deutschland
ORGANIZER;CN="Quartiersmanagement Pennenfeld":MAILTO:wilbertz@vebowag.de
END:VEVENT
BEGIN:VEVENT
DTSTART;TZID=Europe/Berlin:20240829T100000
DTEND;TZID=Europe/Berlin:20240829T110000
DTSTAMP:20260421T235848
CREATED:20240730T170533Z
LAST-MODIFIED:20240730T170838Z
UID:5623-1724925600-1724929200@wohnen-im-pennenfeld.de
SUMMARY:Fitness für Körper und Geist
DESCRIPTION:Bewegungsangebot für Seniorinnen und SeniorenGymnastik im Sitzen und Stehen mit Übungen aus dem Ganzheitlichen Gehirntraining (GGT)\, Wahrnehmungs-\, Gleichgewichts-\, Konzentrations- und Koordinationsübungen\, Training von Alltagskompetenzen; bei gutem Wetter nutzen wir den Outdoor-Fitnesspark \nBuchung des gesamten Kurses (8 Termine\, 4.7.-29.8.): € 45\,- \nInfos unter: 0228-227 424 41\, andreea.bretan@awo-badgodesberg.de
URL:https://wohnen-im-pennenfeld.de/termine/fitness-fuer-koerper-und-geist-17/2024-08-29/
LOCATION:Nachbarschaftstreff Pennenfeld\, Maidenheadstraße 20\, Bonn\, NRW\, 53177\, Deutschland
ORGANIZER;CN="Quartiersmanagement Pennenfeld":MAILTO:wilbertz@vebowag.de
END:VEVENT
BEGIN:VEVENT
DTSTART;TZID=Europe/Berlin:20240828T180000
DTEND;TZID=Europe/Berlin:20240828T190000
DTSTAMP:20260421T235848
CREATED:20240730T170113Z
LAST-MODIFIED:20240730T170113Z
UID:5615-1724868000-1724871600@wohnen-im-pennenfeld.de
SUMMARY:Tai Chi & Qi Gong
DESCRIPTION:Die in den Kursen vermittelten Gesundheitsübungen hat die Kursleiterin Maria di Gennaro (www.zen-shiatsu.it) von Prof. Li Xiaoming\, einem authentischen chinesischen Meister\, von 2006 bis heute gelernt. Sie unterrichtet in English (bei Bedarf auch in Spanisch und Italienisch).\n\n\n\nTeilnehmerbeitrag: € 4\,- pro Termin.\nAnmeldung: 0228-227 424 41\, andreea.bretan@awo-badgodesberg.de
URL:https://wohnen-im-pennenfeld.de/termine/tai-chi-qi-gong-16/2024-08-28/
LOCATION:Nachbarschaftstreff Pennenfeld\, Maidenheadstraße 20\, Bonn\, NRW\, 53177\, Deutschland
ORGANIZER;CN="Quartiersmanagement Pennenfeld":MAILTO:wilbertz@vebowag.de
END:VEVENT
BEGIN:VEVENT
DTSTART;TZID=Europe/Berlin:20240828T120000
DTEND;TZID=Europe/Berlin:20240828T120000
DTSTAMP:20260421T235848
CREATED:20240730T175432Z
LAST-MODIFIED:20240730T175432Z
UID:5666-1724846400-1724846400@wohnen-im-pennenfeld.de
SUMMARY:Mittagstisch
DESCRIPTION:Kostenbeitrag inkl. Nachtisch und Kaffee: € 4\,- \nBitte melden Sie sich bis zum 22.7. verbindlich an:\n0228-227 424 41 oder andreea.bretan@awo-badgodesberg.de
URL:https://wohnen-im-pennenfeld.de/termine/mittagstisch-14/
LOCATION:Nachbarschaftstreff Pennenfeld\, Maidenheadstraße 20\, Bonn\, NRW\, 53177\, Deutschland
ORGANIZER;CN="Quartiersmanagement Pennenfeld":MAILTO:wilbertz@vebowag.de
END:VEVENT
BEGIN:VEVENT
DTSTART;TZID=Europe/Berlin:20240828T093000
DTEND;TZID=Europe/Berlin:20240828T110000
DTSTAMP:20260421T235848
CREATED:20240730T165855Z
LAST-MODIFIED:20240730T165855Z
UID:5607-1724837400-1724842800@wohnen-im-pennenfeld.de
SUMMARY:Deutsch-Konversationskurs für Frauen
DESCRIPTION:Möchten Sie zusammen mit anderen Frauen Ihre Deutschkenntnisse üben und erweitern? Dann sind Sie hier genau richtig! Der Kurs ist für Anfängerinnen und Fortgeschrittene geeignet.Kursleiterin: Simone Saure \nDer Kurs ist kostenlos\, keine Anmeldung erforderlich. Der Einstieg ist jederzeit möglich.\n\n\n\nInfos bei: andreea.bretan@awo-badgodesberg.de\, 0228-227 424 41 \nStartet wieder am 21.8.2024
URL:https://wohnen-im-pennenfeld.de/termine/deutsch-konversationskurs-fuer-frauen-4/2024-08-28/
LOCATION:Nachbarschaftstreff Pennenfeld\, Maidenheadstraße 20\, Bonn\, NRW\, 53177\, Deutschland
ORGANIZER;CN="Quartiersmanagement Pennenfeld":MAILTO:wilbertz@vebowag.de
END:VEVENT
BEGIN:VEVENT
DTSTART;TZID=Europe/Berlin:20240827T173000
DTEND;TZID=Europe/Berlin:20240827T203000
DTSTAMP:20260421T235848
CREATED:20240730T172958Z
LAST-MODIFIED:20240730T174509Z
UID:5657-1724779800-1724790600@wohnen-im-pennenfeld.de
SUMMARY:Kochen im Nachbarschaftstreff
DESCRIPTION:Lernen Sie nette Menschen kennen und haben Sie Spaß beim gemeinsamen Kochen! Wir kochen regionale Gerichte aus regionalen Zutaten und probieren auch die internationale Küche mit exotischen Zutaten. Teilnehmerbeitrag: € 1\,50  Anmeldung erforderlich. Bei Herrn Lee: 0151-121 84 230 oder bei Frank Wilbertz: 0228-9158 444\, info@wohnen-im-pennenfeld.de. \nIn Kooperation mit der Gemeindepsychatrie Bonn-Rhein-Sieg
URL:https://wohnen-im-pennenfeld.de/termine/kochen-im-nachbarschaftstreff-10/
LOCATION:Nachbarschaftstreff Pennenfeld\, Maidenheadstraße 20\, Bonn\, NRW\, 53177\, Deutschland
END:VEVENT
BEGIN:VEVENT
DTSTART;TZID=Europe/Berlin:20240827T120000
DTEND;TZID=Europe/Berlin:20240827T143000
DTSTAMP:20260421T235848
CREATED:20240830T165131Z
LAST-MODIFIED:20240913T165500Z
UID:5753-1724760000-1724769000@wohnen-im-pennenfeld.de
SUMMARY:Verbraucher- und Umweltberatung - für einen Termin melden Sie sich bitte mindestens einen Tag vorher an
DESCRIPTION:Die Verbraucherzentrale berät Sie kostenlos zu rechtlichen Themen\, z.B. zu Telefon- und Internetverträgen\, Inkassobriefen\, Kaufverträgen\, dubiosen Kreditkartenangeboten\, Abos und Abzocke\, Energiesparen und Umweltschutz. \nFür einen Termin melden Sie sich bitte mindestens einen Tag vorher an: Telefonisch unter 0163-19 14 272 oder 0160-98 17 34 30 oder über die E-Mail-Adresse: bonn.quartier@verbraucherzentrale.nrw
URL:https://wohnen-im-pennenfeld.de/termine/verbraucher-und-umweltberatung-fuer-einen-termin-melden-sie-sich-bitte-mindestens-einen-tag-vorher-an/2024-08-27/
LOCATION:Nachbarschaftstreff Pennenfeld\, Maidenheadstraße 20\, Bonn\, NRW\, 53177\, Deutschland
END:VEVENT
BEGIN:VEVENT
DTSTART;TZID=Europe/Berlin:20240823T173000
DTEND;TZID=Europe/Berlin:20240823T190000
DTSTAMP:20260421T235848
CREATED:20240730T171448Z
LAST-MODIFIED:20240730T171448Z
UID:5645-1724434200-1724439600@wohnen-im-pennenfeld.de
SUMMARY:Deutsch-Konversationskurs für Männer
DESCRIPTION:Möchten Sie gemeinsam mit anderen Männern Ihren Wortschatz bereichern und Ihre Sprachfähigkeiten im Deutschen vertiefen? Wollen Sie sich in alltäglichen Gesprächsthemen auf Deutsch sicherer fühlen? Dann sind Sie hier genau richtig! \nDieser Kurs ist speziell für Männer konzipiert\, die als Anfänger oder mit mittlerem Sprachniveau (A2-B1) ihre Sprachfähigkeiten erweitern und im Alltag anwenden möchten. \nKursleiter: Yaser Darkashly \nDer Kurs ist kostenlos\, keine Anmeldung erforderlich. Ein Einstieg ist jederzeit möglich. \nInfos bei: hasan.barbar@caritas-bonn.de\, 0228-227 424 42
URL:https://wohnen-im-pennenfeld.de/termine/deutsch-konversationskurs-fuer-maenner-4/2024-08-23/
LOCATION:Nachbarschaftstreff Pennenfeld\, Maidenheadstraße 20\, Bonn\, NRW\, 53177\, Deutschland
ORGANIZER;CN="Quartiersmanagement Pennenfeld":MAILTO:wilbertz@vebowag.de
END:VEVENT
BEGIN:VEVENT
DTSTART;TZID=Europe/Berlin:20240822T150000
DTEND;TZID=Europe/Berlin:20240822T170000
DTSTAMP:20260421T235848
CREATED:20240730T175314Z
LAST-MODIFIED:20240730T175314Z
UID:5664-1724338800-1724346000@wohnen-im-pennenfeld.de
SUMMARY:Spielenachmittag für Erwachsene
DESCRIPTION:Doppelkopf und Rummy-Cup \nKostenloses Angebot\, Spenden willkommen. \nKeine Anmeldung erforderlich. \nWir suchen noch Mitspieler*innen für Rummy-Cup. Einfach vorbeikommen!
URL:https://wohnen-im-pennenfeld.de/termine/spielenachmittag-fuer-erwachsene-7/
LOCATION:Nachbarschaftstreff Pennenfeld\, Maidenheadstraße 20\, Bonn\, NRW\, 53177\, Deutschland
ORGANIZER;CN="Quartiersmanagement Pennenfeld":MAILTO:wilbertz@vebowag.de
END:VEVENT
BEGIN:VEVENT
DTSTART;TZID=Europe/Berlin:20240822T123000
DTEND;TZID=Europe/Berlin:20240822T140000
DTSTAMP:20260421T235848
CREATED:20240730T171322Z
LAST-MODIFIED:20240730T171322Z
UID:5639-1724329800-1724335200@wohnen-im-pennenfeld.de
SUMMARY:Deutsch-Konversationskurs für Männer
DESCRIPTION:Möchten Sie gemeinsam mit anderen Männern Ihren Wortschatz bereichern und Ihre Sprachfähigkeiten im Deutschen vertiefen? Wollen Sie sich in alltäglichen Gesprächsthemen auf Deutsch sicherer fühlen? Dann sind Sie hier genau richtig! \nDieser Kurs ist speziell für Männer konzipiert\, die als Anfänger oder mit mittlerem Sprachniveau (A2-B1) ihre Sprachfähigkeiten erweitern und im Alltag anwenden möchten. \nKursleiter: Yaser Darkashly \nDer Kurs ist kostenlos\, keine Anmeldung erforderlich. Ein Einstieg ist jederzeit möglich. \nInfos bei: hasan.barbar@caritas-bonn.de\, 0228-227 424 42
URL:https://wohnen-im-pennenfeld.de/termine/deutsch-konversationskurs-fuer-maenner-3/2024-08-22/
LOCATION:Nachbarschaftstreff Pennenfeld\, Maidenheadstraße 20\, Bonn\, NRW\, 53177\, Deutschland
ORGANIZER;CN="Quartiersmanagement Pennenfeld":MAILTO:wilbertz@vebowag.de
END:VEVENT
BEGIN:VEVENT
DTSTART;TZID=Europe/Berlin:20240822T120000
DTEND;TZID=Europe/Berlin:20240822T130000
DTSTAMP:20260421T235848
CREATED:20240730T171013Z
LAST-MODIFIED:20240730T171013Z
UID:5632-1724328000-1724331600@wohnen-im-pennenfeld.de
SUMMARY:Fitness für Körper und Geist
DESCRIPTION:Bewegungsangebot für Seniorinnen und SeniorenGymnastik im Sitzen und Stehen mit Übungen aus dem Ganzheitlichen Gehirntraining (GGT)\, Wahrnehmungs-\, Gleichgewichts-\, Konzentrations- und Koordinationsübungen\, Training von Alltagskompetenzen; bei gutem Wetter nutzen wir den Outdoor-Fitnesspark \nBuchung des gesamten Kurses (8 Termine\, 4.7.-29.8.): € 45\,- \nInfos unter: 0228-227 424 41\, andreea.bretan@awo-badgodesberg.de
URL:https://wohnen-im-pennenfeld.de/termine/fitness-fuer-koerper-und-geist-18/2024-08-22/
LOCATION:Nachbarschaftstreff Pennenfeld\, Maidenheadstraße 20\, Bonn\, NRW\, 53177\, Deutschland
ORGANIZER;CN="Quartiersmanagement Pennenfeld":MAILTO:wilbertz@vebowag.de
END:VEVENT
BEGIN:VEVENT
DTSTART;TZID=Europe/Berlin:20240822T100000
DTEND;TZID=Europe/Berlin:20240822T110000
DTSTAMP:20260421T235848
CREATED:20240730T170533Z
LAST-MODIFIED:20240730T170838Z
UID:5622-1724320800-1724324400@wohnen-im-pennenfeld.de
SUMMARY:Fitness für Körper und Geist
DESCRIPTION:Bewegungsangebot für Seniorinnen und SeniorenGymnastik im Sitzen und Stehen mit Übungen aus dem Ganzheitlichen Gehirntraining (GGT)\, Wahrnehmungs-\, Gleichgewichts-\, Konzentrations- und Koordinationsübungen\, Training von Alltagskompetenzen; bei gutem Wetter nutzen wir den Outdoor-Fitnesspark \nBuchung des gesamten Kurses (8 Termine\, 4.7.-29.8.): € 45\,- \nInfos unter: 0228-227 424 41\, andreea.bretan@awo-badgodesberg.de
URL:https://wohnen-im-pennenfeld.de/termine/fitness-fuer-koerper-und-geist-17/2024-08-22/
LOCATION:Nachbarschaftstreff Pennenfeld\, Maidenheadstraße 20\, Bonn\, NRW\, 53177\, Deutschland
ORGANIZER;CN="Quartiersmanagement Pennenfeld":MAILTO:wilbertz@vebowag.de
END:VEVENT
BEGIN:VEVENT
DTSTART;TZID=Europe/Berlin:20240821T180000
DTEND;TZID=Europe/Berlin:20240821T190000
DTSTAMP:20260421T235848
CREATED:20240730T170113Z
LAST-MODIFIED:20240730T170113Z
UID:5614-1724263200-1724266800@wohnen-im-pennenfeld.de
SUMMARY:Tai Chi & Qi Gong
DESCRIPTION:Die in den Kursen vermittelten Gesundheitsübungen hat die Kursleiterin Maria di Gennaro (www.zen-shiatsu.it) von Prof. Li Xiaoming\, einem authentischen chinesischen Meister\, von 2006 bis heute gelernt. Sie unterrichtet in English (bei Bedarf auch in Spanisch und Italienisch).\n\n\n\nTeilnehmerbeitrag: € 4\,- pro Termin.\nAnmeldung: 0228-227 424 41\, andreea.bretan@awo-badgodesberg.de
URL:https://wohnen-im-pennenfeld.de/termine/tai-chi-qi-gong-16/2024-08-21/
LOCATION:Nachbarschaftstreff Pennenfeld\, Maidenheadstraße 20\, Bonn\, NRW\, 53177\, Deutschland
ORGANIZER;CN="Quartiersmanagement Pennenfeld":MAILTO:wilbertz@vebowag.de
END:VEVENT
BEGIN:VEVENT
DTSTART;TZID=Europe/Berlin:20240821T093000
DTEND;TZID=Europe/Berlin:20240821T110000
DTSTAMP:20260421T235848
CREATED:20240730T165855Z
LAST-MODIFIED:20240730T165855Z
UID:5605-1724232600-1724238000@wohnen-im-pennenfeld.de
SUMMARY:Deutsch-Konversationskurs für Frauen
DESCRIPTION:Möchten Sie zusammen mit anderen Frauen Ihre Deutschkenntnisse üben und erweitern? Dann sind Sie hier genau richtig! Der Kurs ist für Anfängerinnen und Fortgeschrittene geeignet.Kursleiterin: Simone Saure \nDer Kurs ist kostenlos\, keine Anmeldung erforderlich. Der Einstieg ist jederzeit möglich.\n\n\n\nInfos bei: andreea.bretan@awo-badgodesberg.de\, 0228-227 424 41 \nStartet wieder am 21.8.2024
URL:https://wohnen-im-pennenfeld.de/termine/deutsch-konversationskurs-fuer-frauen-4/2024-08-21/
LOCATION:Nachbarschaftstreff Pennenfeld\, Maidenheadstraße 20\, Bonn\, NRW\, 53177\, Deutschland
ORGANIZER;CN="Quartiersmanagement Pennenfeld":MAILTO:wilbertz@vebowag.de
END:VEVENT
BEGIN:VEVENT
DTSTART;TZID=Europe/Berlin:20240820T150000
DTEND;TZID=Europe/Berlin:20240820T160000
DTSTAMP:20260421T235848
CREATED:20240730T174958Z
LAST-MODIFIED:20240730T174958Z
UID:5662-1724166000-1724169600@wohnen-im-pennenfeld.de
SUMMARY:Pennenfeld Clean Up!
DESCRIPTION:Gemeinsam sammeln wir Müll auf und belohnen uns anschließend dafür mit Kaffee und Kuchen. \nGreifzangen\, Handschuhe und Müllsäcke sind vorhanden und warten auf ihren Einsatz. \nTreffen vor dem Nachbarschafstreff Pennenfeld\, Maidenheadstr. 20 \nInfos unter: 0228-9158 444 oder petra.martischewski@t-online.de \nIn Kooperation mit dem Bürgerverein Buntes Pennenfeld e.V.
URL:https://wohnen-im-pennenfeld.de/termine/pennenfeld-clean-up-18/
LOCATION:Nachbarschaftstreff Pennenfeld\, Maidenheadstraße 20\, Bonn\, NRW\, 53177\, Deutschland
END:VEVENT
BEGIN:VEVENT
DTSTART;TZID=Europe/Berlin:20240816T173000
DTEND;TZID=Europe/Berlin:20240816T190000
DTSTAMP:20260421T235848
CREATED:20240730T171448Z
LAST-MODIFIED:20240730T171448Z
UID:5644-1723829400-1723834800@wohnen-im-pennenfeld.de
SUMMARY:Deutsch-Konversationskurs für Männer
DESCRIPTION:Möchten Sie gemeinsam mit anderen Männern Ihren Wortschatz bereichern und Ihre Sprachfähigkeiten im Deutschen vertiefen? Wollen Sie sich in alltäglichen Gesprächsthemen auf Deutsch sicherer fühlen? Dann sind Sie hier genau richtig! \nDieser Kurs ist speziell für Männer konzipiert\, die als Anfänger oder mit mittlerem Sprachniveau (A2-B1) ihre Sprachfähigkeiten erweitern und im Alltag anwenden möchten. \nKursleiter: Yaser Darkashly \nDer Kurs ist kostenlos\, keine Anmeldung erforderlich. Ein Einstieg ist jederzeit möglich. \nInfos bei: hasan.barbar@caritas-bonn.de\, 0228-227 424 42
URL:https://wohnen-im-pennenfeld.de/termine/deutsch-konversationskurs-fuer-maenner-4/2024-08-16/
LOCATION:Nachbarschaftstreff Pennenfeld\, Maidenheadstraße 20\, Bonn\, NRW\, 53177\, Deutschland
ORGANIZER;CN="Quartiersmanagement Pennenfeld":MAILTO:wilbertz@vebowag.de
END:VEVENT
BEGIN:VEVENT
DTSTART;TZID=Europe/Berlin:20240816T150000
DTEND;TZID=Europe/Berlin:20240816T170000
DTSTAMP:20260421T235848
CREATED:20240730T173658Z
LAST-MODIFIED:20240730T173658Z
UID:5660-1723820400-1723827600@wohnen-im-pennenfeld.de
SUMMARY:Repair Café – Reparieren statt wegwerfen!
DESCRIPTION:In gemütlicher Atmosphäre und unter fachkundiger Anleitung gemeinsam Elektrogeräte\, Möbelstücke etc. reparieren. \nKostenloses Angebot\, Spenden willkommen. \n\n Anmeldung unter: info@wohnen-im-pennenfeld.de
URL:https://wohnen-im-pennenfeld.de/termine/repair-cafe-reparieren-statt-wegwerfen-27/
LOCATION:Nachbarschaftstreff Pennenfeld\, Maidenheadstraße 20\, Bonn\, NRW\, 53177\, Deutschland
ORGANIZER;CN="Quartiersmanagement Pennenfeld":MAILTO:wilbertz@vebowag.de
END:VEVENT
BEGIN:VEVENT
DTSTART;TZID=Europe/Berlin:20240815T153000
DTEND;TZID=Europe/Berlin:20240815T170000
DTSTAMP:20260421T235848
CREATED:20240730T171800Z
LAST-MODIFIED:20240730T171800Z
UID:5659-1723735800-1723741200@wohnen-im-pennenfeld.de
SUMMARY:English-Reading-and-Conversation-Club
DESCRIPTION:Wir lesen gemeinsam eine sprachlich einfache\, aber thematisch anspruchsvolle Lektüre und besprechen sie.Teilnehmerbeitrag: € 3\,- ; Anmeldung: 0228-227 424 41\, andreea.bretan@awo-badgodesberg.de
URL:https://wohnen-im-pennenfeld.de/termine/english-reading-and-conversation-club-9/2024-08-15/
LOCATION:Nachbarschaftstreff Pennenfeld\, Maidenheadstraße 20\, Bonn\, NRW\, 53177\, Deutschland
ORGANIZER;CN="Quartiersmanagement Pennenfeld":MAILTO:wilbertz@vebowag.de
END:VEVENT
BEGIN:VEVENT
DTSTART;TZID=Europe/Berlin:20240815T123000
DTEND;TZID=Europe/Berlin:20240815T140000
DTSTAMP:20260421T235848
CREATED:20240730T171322Z
LAST-MODIFIED:20240730T171322Z
UID:5638-1723725000-1723730400@wohnen-im-pennenfeld.de
SUMMARY:Deutsch-Konversationskurs für Männer
DESCRIPTION:Möchten Sie gemeinsam mit anderen Männern Ihren Wortschatz bereichern und Ihre Sprachfähigkeiten im Deutschen vertiefen? Wollen Sie sich in alltäglichen Gesprächsthemen auf Deutsch sicherer fühlen? Dann sind Sie hier genau richtig! \nDieser Kurs ist speziell für Männer konzipiert\, die als Anfänger oder mit mittlerem Sprachniveau (A2-B1) ihre Sprachfähigkeiten erweitern und im Alltag anwenden möchten. \nKursleiter: Yaser Darkashly \nDer Kurs ist kostenlos\, keine Anmeldung erforderlich. Ein Einstieg ist jederzeit möglich. \nInfos bei: hasan.barbar@caritas-bonn.de\, 0228-227 424 42
URL:https://wohnen-im-pennenfeld.de/termine/deutsch-konversationskurs-fuer-maenner-3/2024-08-15/
LOCATION:Nachbarschaftstreff Pennenfeld\, Maidenheadstraße 20\, Bonn\, NRW\, 53177\, Deutschland
ORGANIZER;CN="Quartiersmanagement Pennenfeld":MAILTO:wilbertz@vebowag.de
END:VEVENT
BEGIN:VEVENT
DTSTART;TZID=Europe/Berlin:20240815T120000
DTEND;TZID=Europe/Berlin:20240815T130000
DTSTAMP:20260421T235848
CREATED:20240730T171013Z
LAST-MODIFIED:20240730T171013Z
UID:5631-1723723200-1723726800@wohnen-im-pennenfeld.de
SUMMARY:Fitness für Körper und Geist
DESCRIPTION:Bewegungsangebot für Seniorinnen und SeniorenGymnastik im Sitzen und Stehen mit Übungen aus dem Ganzheitlichen Gehirntraining (GGT)\, Wahrnehmungs-\, Gleichgewichts-\, Konzentrations- und Koordinationsübungen\, Training von Alltagskompetenzen; bei gutem Wetter nutzen wir den Outdoor-Fitnesspark \nBuchung des gesamten Kurses (8 Termine\, 4.7.-29.8.): € 45\,- \nInfos unter: 0228-227 424 41\, andreea.bretan@awo-badgodesberg.de
URL:https://wohnen-im-pennenfeld.de/termine/fitness-fuer-koerper-und-geist-18/2024-08-15/
LOCATION:Nachbarschaftstreff Pennenfeld\, Maidenheadstraße 20\, Bonn\, NRW\, 53177\, Deutschland
ORGANIZER;CN="Quartiersmanagement Pennenfeld":MAILTO:wilbertz@vebowag.de
END:VEVENT
BEGIN:VEVENT
DTSTART;TZID=Europe/Berlin:20240815T100000
DTEND;TZID=Europe/Berlin:20240815T110000
DTSTAMP:20260421T235848
CREATED:20240730T170533Z
LAST-MODIFIED:20240730T170838Z
UID:5621-1723716000-1723719600@wohnen-im-pennenfeld.de
SUMMARY:Fitness für Körper und Geist
DESCRIPTION:Bewegungsangebot für Seniorinnen und SeniorenGymnastik im Sitzen und Stehen mit Übungen aus dem Ganzheitlichen Gehirntraining (GGT)\, Wahrnehmungs-\, Gleichgewichts-\, Konzentrations- und Koordinationsübungen\, Training von Alltagskompetenzen; bei gutem Wetter nutzen wir den Outdoor-Fitnesspark \nBuchung des gesamten Kurses (8 Termine\, 4.7.-29.8.): € 45\,- \nInfos unter: 0228-227 424 41\, andreea.bretan@awo-badgodesberg.de
URL:https://wohnen-im-pennenfeld.de/termine/fitness-fuer-koerper-und-geist-17/2024-08-15/
LOCATION:Nachbarschaftstreff Pennenfeld\, Maidenheadstraße 20\, Bonn\, NRW\, 53177\, Deutschland
ORGANIZER;CN="Quartiersmanagement Pennenfeld":MAILTO:wilbertz@vebowag.de
END:VEVENT
BEGIN:VEVENT
DTSTART;TZID=Europe/Berlin:20240814T180000
DTEND;TZID=Europe/Berlin:20240814T190000
DTSTAMP:20260421T235848
CREATED:20240730T170113Z
LAST-MODIFIED:20240730T170113Z
UID:5613-1723658400-1723662000@wohnen-im-pennenfeld.de
SUMMARY:Tai Chi & Qi Gong
DESCRIPTION:Die in den Kursen vermittelten Gesundheitsübungen hat die Kursleiterin Maria di Gennaro (www.zen-shiatsu.it) von Prof. Li Xiaoming\, einem authentischen chinesischen Meister\, von 2006 bis heute gelernt. Sie unterrichtet in English (bei Bedarf auch in Spanisch und Italienisch).\n\n\n\nTeilnehmerbeitrag: € 4\,- pro Termin.\nAnmeldung: 0228-227 424 41\, andreea.bretan@awo-badgodesberg.de
URL:https://wohnen-im-pennenfeld.de/termine/tai-chi-qi-gong-16/2024-08-14/
LOCATION:Nachbarschaftstreff Pennenfeld\, Maidenheadstraße 20\, Bonn\, NRW\, 53177\, Deutschland
ORGANIZER;CN="Quartiersmanagement Pennenfeld":MAILTO:wilbertz@vebowag.de
END:VEVENT
BEGIN:VEVENT
DTSTART;TZID=Europe/Berlin:20240813T173000
DTEND;TZID=Europe/Berlin:20240813T203000
DTSTAMP:20260421T235848
CREATED:20240730T172829Z
LAST-MODIFIED:20240730T174626Z
UID:5655-1723570200-1723581000@wohnen-im-pennenfeld.de
SUMMARY:Kochen im Nachbarschaftstreff
DESCRIPTION:Lernen Sie nette Menschen kennen und haben Sie Spaß beim gemeinsamen Kochen! Wir kochen regionale Gerichte aus regionalen Zutaten und probieren auch die internationale Küche mit exotischen Zutaten. Teilnehmerbeitrag: € 1\,50  Anmeldung erforderlich. Bei Herrn Lee: 0151-121 84 230 oder bei Frank Wilbertz: info@wohnen-im-pennenfeld.de. \nIn Kooperation mit der Gemeindepsychatrie Bonn-Rhein-Sieg
URL:https://wohnen-im-pennenfeld.de/termine/kochen-im-nachbarschaftstreff-9/
LOCATION:Nachbarschaftstreff Pennenfeld\, Maidenheadstraße 20\, Bonn\, NRW\, 53177\, Deutschland
END:VEVENT
BEGIN:VEVENT
DTSTART;TZID=Europe/Berlin:20240809T173000
DTEND;TZID=Europe/Berlin:20240809T190000
DTSTAMP:20260421T235848
CREATED:20240730T171448Z
LAST-MODIFIED:20240730T171448Z
UID:5643-1723224600-1723230000@wohnen-im-pennenfeld.de
SUMMARY:Deutsch-Konversationskurs für Männer
DESCRIPTION:Möchten Sie gemeinsam mit anderen Männern Ihren Wortschatz bereichern und Ihre Sprachfähigkeiten im Deutschen vertiefen? Wollen Sie sich in alltäglichen Gesprächsthemen auf Deutsch sicherer fühlen? Dann sind Sie hier genau richtig! \nDieser Kurs ist speziell für Männer konzipiert\, die als Anfänger oder mit mittlerem Sprachniveau (A2-B1) ihre Sprachfähigkeiten erweitern und im Alltag anwenden möchten. \nKursleiter: Yaser Darkashly \nDer Kurs ist kostenlos\, keine Anmeldung erforderlich. Ein Einstieg ist jederzeit möglich. \nInfos bei: hasan.barbar@caritas-bonn.de\, 0228-227 424 42
URL:https://wohnen-im-pennenfeld.de/termine/deutsch-konversationskurs-fuer-maenner-4/2024-08-09/
LOCATION:Nachbarschaftstreff Pennenfeld\, Maidenheadstraße 20\, Bonn\, NRW\, 53177\, Deutschland
ORGANIZER;CN="Quartiersmanagement Pennenfeld":MAILTO:wilbertz@vebowag.de
END:VEVENT
BEGIN:VEVENT
DTSTART;TZID=Europe/Berlin:20240808T150000
DTEND;TZID=Europe/Berlin:20240808T170000
DTSTAMP:20260421T235848
CREATED:20240730T172537Z
LAST-MODIFIED:20240730T172537Z
UID:5653-1723129200-1723136400@wohnen-im-pennenfeld.de
SUMMARY:Gesangsnachmittag mit Kaffee und Kuchen
DESCRIPTION:Gemeinsam singen wir Lieder quer durch das deutsche Liederbuch und werden dabei von Akkordeon\, Mandoline und Mundharmonika begleitet.Teilnehmerbeitrag: € 2\,50 \nKeine Anmeldung erforderlich
URL:https://wohnen-im-pennenfeld.de/termine/gesangsnachmittag-mit-kaffee-und-kuchen-12/
LOCATION:Nachbarschaftstreff Pennenfeld\, Maidenheadstraße 20\, Bonn\, NRW\, 53177\, Deutschland
ORGANIZER;CN="Quartiersmanagement Pennenfeld":MAILTO:wilbertz@vebowag.de
END:VEVENT
BEGIN:VEVENT
DTSTART;TZID=Europe/Berlin:20240808T123000
DTEND;TZID=Europe/Berlin:20240808T140000
DTSTAMP:20260421T235848
CREATED:20240730T171322Z
LAST-MODIFIED:20240730T171322Z
UID:5637-1723120200-1723125600@wohnen-im-pennenfeld.de
SUMMARY:Deutsch-Konversationskurs für Männer
DESCRIPTION:Möchten Sie gemeinsam mit anderen Männern Ihren Wortschatz bereichern und Ihre Sprachfähigkeiten im Deutschen vertiefen? Wollen Sie sich in alltäglichen Gesprächsthemen auf Deutsch sicherer fühlen? Dann sind Sie hier genau richtig! \nDieser Kurs ist speziell für Männer konzipiert\, die als Anfänger oder mit mittlerem Sprachniveau (A2-B1) ihre Sprachfähigkeiten erweitern und im Alltag anwenden möchten. \nKursleiter: Yaser Darkashly \nDer Kurs ist kostenlos\, keine Anmeldung erforderlich. Ein Einstieg ist jederzeit möglich. \nInfos bei: hasan.barbar@caritas-bonn.de\, 0228-227 424 42
URL:https://wohnen-im-pennenfeld.de/termine/deutsch-konversationskurs-fuer-maenner-3/2024-08-08/
LOCATION:Nachbarschaftstreff Pennenfeld\, Maidenheadstraße 20\, Bonn\, NRW\, 53177\, Deutschland
ORGANIZER;CN="Quartiersmanagement Pennenfeld":MAILTO:wilbertz@vebowag.de
END:VEVENT
BEGIN:VEVENT
DTSTART;TZID=Europe/Berlin:20240808T120000
DTEND;TZID=Europe/Berlin:20240808T130000
DTSTAMP:20260421T235848
CREATED:20240730T171013Z
LAST-MODIFIED:20240730T171013Z
UID:5630-1723118400-1723122000@wohnen-im-pennenfeld.de
SUMMARY:Fitness für Körper und Geist
DESCRIPTION:Bewegungsangebot für Seniorinnen und SeniorenGymnastik im Sitzen und Stehen mit Übungen aus dem Ganzheitlichen Gehirntraining (GGT)\, Wahrnehmungs-\, Gleichgewichts-\, Konzentrations- und Koordinationsübungen\, Training von Alltagskompetenzen; bei gutem Wetter nutzen wir den Outdoor-Fitnesspark \nBuchung des gesamten Kurses (8 Termine\, 4.7.-29.8.): € 45\,- \nInfos unter: 0228-227 424 41\, andreea.bretan@awo-badgodesberg.de
URL:https://wohnen-im-pennenfeld.de/termine/fitness-fuer-koerper-und-geist-18/2024-08-08/
LOCATION:Nachbarschaftstreff Pennenfeld\, Maidenheadstraße 20\, Bonn\, NRW\, 53177\, Deutschland
ORGANIZER;CN="Quartiersmanagement Pennenfeld":MAILTO:wilbertz@vebowag.de
END:VEVENT
END:VCALENDAR