﻿BEGIN:VCALENDAR
VERSION:2.0
PRODID:-//Pennenfeld - ECPv6.10.0//NONSGML v1.0//EN
CALSCALE:GREGORIAN
METHOD:PUBLISH
X-WR-CALNAME:Pennenfeld
X-ORIGINAL-URL:https://wohnen-im-pennenfeld.de
X-WR-CALDESC:Veranstaltungen für Pennenfeld
REFRESH-INTERVAL;VALUE=DURATION:PT1H
X-Robots-Tag:noindex
X-PUBLISHED-TTL:PT1H
BEGIN:VTIMEZONE
TZID:Europe/Berlin
BEGIN:DAYLIGHT
TZOFFSETFROM:+0100
TZOFFSETTO:+0200
TZNAME:CEST
DTSTART:20240331T010000
END:DAYLIGHT
BEGIN:STANDARD
TZOFFSETFROM:+0200
TZOFFSETTO:+0100
TZNAME:CET
DTSTART:20241027T010000
END:STANDARD
END:VTIMEZONE
BEGIN:VEVENT
DTSTART;TZID=Europe/Berlin:20240730T120000
DTEND;TZID=Europe/Berlin:20240730T143000
DTSTAMP:20260422T061531
CREATED:20240628T145454Z
LAST-MODIFIED:20240730T165323Z
UID:5599-1722340800-1722349800@wohnen-im-pennenfeld.de
SUMMARY:Verbraucher- und Umweltberatung
DESCRIPTION:Die Verbraucherzentrale berät Sie ohne Termin und kostenlos zu rechtlichen Themen\, z.B. zu Telefon- und Internetverträgen\, Inkassobriefen\, Kaufverträgen\, dubiosen Kreditkartenangeboten\, Abos und Abzocke\, Energiesparen und Umweltschutz.\n\n\n\n 
URL:https://wohnen-im-pennenfeld.de/termine/verbraucher-und-umweltberatung-3/2024-07-30/
LOCATION:Nachbarschaftstreff Pennenfeld\, Maidenheadstraße 20\, Bonn\, NRW\, 53177\, Deutschland
END:VEVENT
BEGIN:VEVENT
DTSTART;TZID=Europe/Berlin:20240730T110000
DTEND;TZID=Europe/Berlin:20240730T110000
DTSTAMP:20260422T061531
CREATED:20240628T151804Z
LAST-MODIFIED:20240628T151804Z
UID:5544-1722337200-1722337200@wohnen-im-pennenfeld.de
SUMMARY:Lebensmittelausgabe im Nachbarschaftstreff Pennenfeld
DESCRIPTION:
URL:https://wohnen-im-pennenfeld.de/termine/lebensmittelausgabe-im-nachbarschaftstreff-pennenfeld-56/2024-07-30/
LOCATION:Nachbarschaftstreff Pennenfeld\, Maidenheadstraße 20\, Bonn\, NRW\, 53177\, Deutschland
ORGANIZER;CN="Quartiersmanagement Pennenfeld":MAILTO:wilbertz@vebowag.de
END:VEVENT
BEGIN:VEVENT
DTSTART;TZID=Europe/Berlin:20240726T173000
DTEND;TZID=Europe/Berlin:20240726T190000
DTSTAMP:20260422T061531
CREATED:20240603T151104Z
LAST-MODIFIED:20240603T151104Z
UID:5524-1722015000-1722020400@wohnen-im-pennenfeld.de
SUMMARY:Deutsch-Konversationskurs für Männer
DESCRIPTION:Möchten Sie gemeinsam mit anderen Männern Ihren Wortschatz bereichern und Ihre Sprachfähigkeiten im Deutschen vertiefen? Wollen Sie sich in alltäglichen Gesprächsthemen auf Deutsch sicherer fühlen? Dann sind Sie hier genau richtig! \nDieser Kurs ist speziell für Männer konzipiert\, die als Anfänger oder mit mittlerem Sprachniveau (A2-B1) ihre Sprachfähigkeiten erweitern und im Alltag anwenden möchten. \nKursleiter: Yaser Darkashly \nDer Kurs ist kostenlos\, keine Anmeldung erforderlich. Ein Einstieg ist jederzeit möglich.\n\n\n\nInfos bei: hasan.barbar@caritas-bonn.de\, 0228-227 424 42
URL:https://wohnen-im-pennenfeld.de/termine/deutsch-konversationskurs-fuer-maenner-2/2024-07-26/
LOCATION:Nachbarschaftstreff Pennenfeld\, Maidenheadstraße 20\, Bonn\, NRW\, 53177\, Deutschland
ORGANIZER;CN="Quartiersmanagement Pennenfeld":MAILTO:wilbertz@vebowag.de
END:VEVENT
BEGIN:VEVENT
DTSTART;TZID=Europe/Berlin:20240725T150000
DTEND;TZID=Europe/Berlin:20240725T170000
DTSTAMP:20260422T061531
CREATED:20240628T140616Z
LAST-MODIFIED:20240704T140729Z
UID:5574-1721919600-1721926800@wohnen-im-pennenfeld.de
SUMMARY:Spielenachmittag für Erwachsene
DESCRIPTION:Doppelkopf und Rummy-Cup \n Kostenloses Angebot\, Spenden willkommen. \nKeine Anmeldung erforderlich.\n\n\n\nWir suchen noch Mitspieler*innen für Rummy-Cup. Einfach vorbeikommen!
URL:https://wohnen-im-pennenfeld.de/termine/spielenachmittag-fuer-erwachsene-6/
LOCATION:Nachbarschaftstreff Pennenfeld\, Maidenheadstraße 20\, Bonn\, NRW\, 53177\, Deutschland
ORGANIZER;CN="Quartiersmanagement Pennenfeld":MAILTO:wilbertz@vebowag.de
END:VEVENT
BEGIN:VEVENT
DTSTART;TZID=Europe/Berlin:20240725T130000
DTEND;TZID=Europe/Berlin:20240725T143000
DTSTAMP:20260422T061531
CREATED:20240603T170939Z
LAST-MODIFIED:20240603T170939Z
UID:5519-1721912400-1721917800@wohnen-im-pennenfeld.de
SUMMARY:Deutsch-Konversationskurs für Männer
DESCRIPTION:Möchten Sie gemeinsam mit anderen Männern Ihren Wortschatz bereichern und Ihre Sprachfähigkeiten im Deutschen vertiefen? Wollen Sie sich in alltäglichen Gesprächsthemen auf Deutsch sicherer fühlen? Dann sind Sie hier genau richtig! \nDieser Kurs ist speziell für Männer konzipiert\, die als Anfänger oder mit mittlerem Sprachniveau (A2-B1) ihre Sprachfähigkeiten erweitern und im Alltag anwenden möchten. \nKursleiter: Yaser Darkashly \nDer Kurs ist kostenlos\, keine Anmeldung erforderlich. Ein Einstieg ist jederzeit möglich.\n\n\n\nInfos bei: hasan.barbar@caritas-bonn.de\, 0228-227 424 42
URL:https://wohnen-im-pennenfeld.de/termine/deutsch-konversationskurs-fuer-maenner/2024-07-25/
LOCATION:Nachbarschaftstreff Pennenfeld\, Maidenheadstraße 20\, Bonn\, NRW\, 53177\, Deutschland
ORGANIZER;CN="Quartiersmanagement Pennenfeld":MAILTO:wilbertz@vebowag.de
END:VEVENT
BEGIN:VEVENT
DTSTART;TZID=Europe/Berlin:20240725T110000
DTEND;TZID=Europe/Berlin:20240725T120000
DTSTAMP:20260422T061531
CREATED:20240628T151523Z
LAST-MODIFIED:20240628T151523Z
UID:5537-1721905200-1721908800@wohnen-im-pennenfeld.de
SUMMARY:Fitness für Körper und Geist
DESCRIPTION:Bewegungsangebot für Seniorinnen und Senioren \nGymnastik im Sitzen und Stehen mit Übungen aus dem Ganzheitlichen Gehirntraining (GGT)\, Wahrnehmungs-\, Gleichgewichts-\, Konzentrations- und Koordinationsübungen\, Training von Alltagskompetenzen; bei gutem Wetter nutzen wir den Outdoor-Fitnesspark Buchung des gesamten Kurses (8 Termine\, 4.7.-29.8.): € 45\,- Infos unter: 0228-227 424 41\, andreea.bretan@awo-badgodesberg.de
URL:https://wohnen-im-pennenfeld.de/termine/fitness-fuer-koerper-und-geist-16/2024-07-25/
LOCATION:Nachbarschaftstreff Pennenfeld\, Maidenheadstraße 20\, Bonn\, NRW\, 53177\, Deutschland
ORGANIZER;CN="Quartiersmanagement Pennenfeld":MAILTO:wilbertz@vebowag.de
END:VEVENT
BEGIN:VEVENT
DTSTART;TZID=Europe/Berlin:20240725T100000
DTEND;TZID=Europe/Berlin:20240725T110000
DTSTAMP:20260422T061531
CREATED:20240703T172421Z
LAST-MODIFIED:20240703T172421Z
UID:5555-1721901600-1721905200@wohnen-im-pennenfeld.de
SUMMARY:Fitness für Körper und Geist
DESCRIPTION:Bewegungsangebot für Seniorinnen und Senioren \n Gymnastik im Sitzen und Stehen mit Übungen aus dem Ganzheitlichen Gehirntraining (GGT)\, Wahrnehmungs-\, Gleichgewichts-\, Konzentrations- und Koordinationsübungen\, Training von Alltagskompetenzen; bei gutem Wetter nutzen wir den Outdoor-Fitnesspark \nBuchung des gesamten Kurses (8 Termine\, 4.7.-29.8.): € 45\,- \nInfos unter: 0228-227 424 41\, andreea.bretan@awo-badgodesberg.de
URL:https://wohnen-im-pennenfeld.de/termine/fitness-fuer-koerper-und-geist-15/2024-07-25/
LOCATION:Nachbarschaftstreff Pennenfeld\, Maidenheadstraße 20\, Bonn\, NRW\, 53177\, Deutschland
ORGANIZER;CN="Quartiersmanagement Pennenfeld":MAILTO:wilbertz@vebowag.de
END:VEVENT
BEGIN:VEVENT
DTSTART;TZID=Europe/Berlin:20240724T180000
DTEND;TZID=Europe/Berlin:20240724T190000
DTSTAMP:20260422T061531
CREATED:20240629T145057Z
LAST-MODIFIED:20240703T165236Z
UID:5467-1721844000-1721847600@wohnen-im-pennenfeld.de
SUMMARY:Tai Chi & Qi Gong
DESCRIPTION:Die in den Kursen vermittelten Gesundheitsübungen hat die Kursleiterin Maria di Gennaro (www.zen-shiatsu.it) von Prof. Li Xiaoming\, einem authentischen chinesischen Meister\, von 2006 bis heute gelernt. Sie unterrichtet in English (bei Bedarf auch in Spanisch und Italienisch).\n\n\n\nTeilnehmerbeitrag: € 4\,- pro Termin.\nAnmeldung: 0228-227 424 41\, andreea.bretan@awo-badgodesberg.de
URL:https://wohnen-im-pennenfeld.de/termine/tai-chi-qi-gong-15/2024-07-24/
LOCATION:Nachbarschaftstreff Pennenfeld\, Maidenheadstraße 20\, Bonn\, NRW\, 53177\, Deutschland
ORGANIZER;CN="Quartiersmanagement Pennenfeld":MAILTO:wilbertz@vebowag.de
END:VEVENT
BEGIN:VEVENT
DTSTART;TZID=Europe/Berlin:20240724T120000
DTEND;TZID=Europe/Berlin:20240724T120000
DTSTAMP:20260422T061531
CREATED:20240628T140504Z
LAST-MODIFIED:20240704T140610Z
UID:5572-1721822400-1721822400@wohnen-im-pennenfeld.de
SUMMARY:Mittagstisch
DESCRIPTION:Kostenbeitrag inkl. Nachtisch und Kaffee:  € 4\,-\n\n\n\nBitte melden Sie sich bis zum 22.7. verbindlich an:\n0228-227 424 41 oder andreea.bretan@awo-badgodesberg.de
URL:https://wohnen-im-pennenfeld.de/termine/mittagstisch-13/
LOCATION:Nachbarschaftstreff Pennenfeld\, Maidenheadstraße 20\, Bonn\, NRW\, 53177\, Deutschland
ORGANIZER;CN="Quartiersmanagement Pennenfeld":MAILTO:wilbertz@vebowag.de
END:VEVENT
BEGIN:VEVENT
DTSTART;TZID=Europe/Berlin:20240723T120000
DTEND;TZID=Europe/Berlin:20240723T143000
DTSTAMP:20260422T061531
CREATED:20240628T145937Z
LAST-MODIFIED:20240628T145937Z
UID:5595-1721736000-1721745000@wohnen-im-pennenfeld.de
SUMMARY:Die Rote Tonne öffnet Ihre Klappe für Elektrokleingeräte
DESCRIPTION:
URL:https://wohnen-im-pennenfeld.de/termine/die-rote-tonne-oeffnet-ihre-klappe-fuer-elektrokleingeraete-50/2024-07-23/
LOCATION:Nachbarschaftstreff Pennenfeld\, Maidenheadstraße 20\, Bonn\, NRW\, 53177\, Deutschland
END:VEVENT
BEGIN:VEVENT
DTSTART;TZID=Europe/Berlin:20240723T120000
DTEND;TZID=Europe/Berlin:20240723T143000
DTSTAMP:20260422T061531
CREATED:20240628T145454Z
LAST-MODIFIED:20240730T165323Z
UID:5598-1721736000-1721745000@wohnen-im-pennenfeld.de
SUMMARY:Verbraucher- und Umweltberatung
DESCRIPTION:Die Verbraucherzentrale berät Sie ohne Termin und kostenlos zu rechtlichen Themen\, z.B. zu Telefon- und Internetverträgen\, Inkassobriefen\, Kaufverträgen\, dubiosen Kreditkartenangeboten\, Abos und Abzocke\, Energiesparen und Umweltschutz.\n\n\n\n 
URL:https://wohnen-im-pennenfeld.de/termine/verbraucher-und-umweltberatung-3/2024-07-23/
LOCATION:Nachbarschaftstreff Pennenfeld\, Maidenheadstraße 20\, Bonn\, NRW\, 53177\, Deutschland
END:VEVENT
BEGIN:VEVENT
DTSTART;TZID=Europe/Berlin:20240723T110000
DTEND;TZID=Europe/Berlin:20240723T110000
DTSTAMP:20260422T061531
CREATED:20240628T151804Z
LAST-MODIFIED:20240628T151804Z
UID:5543-1721732400-1721732400@wohnen-im-pennenfeld.de
SUMMARY:Lebensmittelausgabe im Nachbarschaftstreff Pennenfeld
DESCRIPTION:
URL:https://wohnen-im-pennenfeld.de/termine/lebensmittelausgabe-im-nachbarschaftstreff-pennenfeld-56/2024-07-23/
LOCATION:Nachbarschaftstreff Pennenfeld\, Maidenheadstraße 20\, Bonn\, NRW\, 53177\, Deutschland
ORGANIZER;CN="Quartiersmanagement Pennenfeld":MAILTO:wilbertz@vebowag.de
END:VEVENT
BEGIN:VEVENT
DTSTART;TZID=Europe/Berlin:20240719T173000
DTEND;TZID=Europe/Berlin:20240719T190000
DTSTAMP:20260422T061531
CREATED:20240603T151104Z
LAST-MODIFIED:20240603T151104Z
UID:5523-1721410200-1721415600@wohnen-im-pennenfeld.de
SUMMARY:Deutsch-Konversationskurs für Männer
DESCRIPTION:Möchten Sie gemeinsam mit anderen Männern Ihren Wortschatz bereichern und Ihre Sprachfähigkeiten im Deutschen vertiefen? Wollen Sie sich in alltäglichen Gesprächsthemen auf Deutsch sicherer fühlen? Dann sind Sie hier genau richtig! \nDieser Kurs ist speziell für Männer konzipiert\, die als Anfänger oder mit mittlerem Sprachniveau (A2-B1) ihre Sprachfähigkeiten erweitern und im Alltag anwenden möchten. \nKursleiter: Yaser Darkashly \nDer Kurs ist kostenlos\, keine Anmeldung erforderlich. Ein Einstieg ist jederzeit möglich.\n\n\n\nInfos bei: hasan.barbar@caritas-bonn.de\, 0228-227 424 42
URL:https://wohnen-im-pennenfeld.de/termine/deutsch-konversationskurs-fuer-maenner-2/2024-07-19/
LOCATION:Nachbarschaftstreff Pennenfeld\, Maidenheadstraße 20\, Bonn\, NRW\, 53177\, Deutschland
ORGANIZER;CN="Quartiersmanagement Pennenfeld":MAILTO:wilbertz@vebowag.de
END:VEVENT
BEGIN:VEVENT
DTSTART;TZID=Europe/Berlin:20240719T150000
DTEND;TZID=Europe/Berlin:20240719T170000
DTSTAMP:20260422T061531
CREATED:20240628T140334Z
LAST-MODIFIED:20240704T140455Z
UID:5569-1721401200-1721408400@wohnen-im-pennenfeld.de
SUMMARY:Repair Café - Reparieren statt wegwerfen!
DESCRIPTION:In gemütlicher Atmosphäre und unter fachkundiger Anleitung gemeinsam Elektrogeräte\, Möbelstücke etc. reparieren. \nKostenloses Angebot\, Spenden willkommen.\n\n\n\nAnmeldung/ Terminvergabe: Frank Wilbertz 0228-9158 444
URL:https://wohnen-im-pennenfeld.de/termine/repair-cafe-reparieren-statt-wegwerfen-26/
LOCATION:Nachbarschaftstreff Pennenfeld\, Maidenheadstraße 20\, Bonn\, NRW\, 53177\, Deutschland
ORGANIZER;CN="Quartiersmanagement Pennenfeld":MAILTO:wilbertz@vebowag.de
END:VEVENT
BEGIN:VEVENT
DTSTART;TZID=Europe/Berlin:20240718T153000
DTEND;TZID=Europe/Berlin:20240718T170000
DTSTAMP:20260422T061531
CREATED:20240629T144906Z
LAST-MODIFIED:20240629T144906Z
UID:5461-1721316600-1721322000@wohnen-im-pennenfeld.de
SUMMARY:English-Reading-and-Conversation-Club
DESCRIPTION:Wir lesen gemeinsam eine sprachlich einfache\, aber thematisch anspruchsvolle Lektüre und besprechen sie. \nTeilnehmerbeitrag: € 3\,- ; Anmeldung: 0228-227 424 41\, andreea.bretan@awo-badgodesberg.de
URL:https://wohnen-im-pennenfeld.de/termine/english-reading-and-conversation-club-8/2024-07-18/
LOCATION:Nachbarschaftstreff Pennenfeld\, Maidenheadstraße 20\, Bonn\, NRW\, 53177\, Deutschland
ORGANIZER;CN="Quartiersmanagement Pennenfeld":MAILTO:wilbertz@vebowag.de
END:VEVENT
BEGIN:VEVENT
DTSTART;TZID=Europe/Berlin:20240718T130000
DTEND;TZID=Europe/Berlin:20240718T143000
DTSTAMP:20260422T061531
CREATED:20240603T170939Z
LAST-MODIFIED:20240603T170939Z
UID:5518-1721307600-1721313000@wohnen-im-pennenfeld.de
SUMMARY:Deutsch-Konversationskurs für Männer
DESCRIPTION:Möchten Sie gemeinsam mit anderen Männern Ihren Wortschatz bereichern und Ihre Sprachfähigkeiten im Deutschen vertiefen? Wollen Sie sich in alltäglichen Gesprächsthemen auf Deutsch sicherer fühlen? Dann sind Sie hier genau richtig! \nDieser Kurs ist speziell für Männer konzipiert\, die als Anfänger oder mit mittlerem Sprachniveau (A2-B1) ihre Sprachfähigkeiten erweitern und im Alltag anwenden möchten. \nKursleiter: Yaser Darkashly \nDer Kurs ist kostenlos\, keine Anmeldung erforderlich. Ein Einstieg ist jederzeit möglich.\n\n\n\nInfos bei: hasan.barbar@caritas-bonn.de\, 0228-227 424 42
URL:https://wohnen-im-pennenfeld.de/termine/deutsch-konversationskurs-fuer-maenner/2024-07-18/
LOCATION:Nachbarschaftstreff Pennenfeld\, Maidenheadstraße 20\, Bonn\, NRW\, 53177\, Deutschland
ORGANIZER;CN="Quartiersmanagement Pennenfeld":MAILTO:wilbertz@vebowag.de
END:VEVENT
BEGIN:VEVENT
DTSTART;TZID=Europe/Berlin:20240718T110000
DTEND;TZID=Europe/Berlin:20240718T120000
DTSTAMP:20260422T061531
CREATED:20240628T151523Z
LAST-MODIFIED:20240628T151523Z
UID:5536-1721300400-1721304000@wohnen-im-pennenfeld.de
SUMMARY:Fitness für Körper und Geist
DESCRIPTION:Bewegungsangebot für Seniorinnen und Senioren \nGymnastik im Sitzen und Stehen mit Übungen aus dem Ganzheitlichen Gehirntraining (GGT)\, Wahrnehmungs-\, Gleichgewichts-\, Konzentrations- und Koordinationsübungen\, Training von Alltagskompetenzen; bei gutem Wetter nutzen wir den Outdoor-Fitnesspark Buchung des gesamten Kurses (8 Termine\, 4.7.-29.8.): € 45\,- Infos unter: 0228-227 424 41\, andreea.bretan@awo-badgodesberg.de
URL:https://wohnen-im-pennenfeld.de/termine/fitness-fuer-koerper-und-geist-16/2024-07-18/
LOCATION:Nachbarschaftstreff Pennenfeld\, Maidenheadstraße 20\, Bonn\, NRW\, 53177\, Deutschland
ORGANIZER;CN="Quartiersmanagement Pennenfeld":MAILTO:wilbertz@vebowag.de
END:VEVENT
BEGIN:VEVENT
DTSTART;TZID=Europe/Berlin:20240718T100000
DTEND;TZID=Europe/Berlin:20240718T110000
DTSTAMP:20260422T061531
CREATED:20240703T172421Z
LAST-MODIFIED:20240703T172421Z
UID:5554-1721296800-1721300400@wohnen-im-pennenfeld.de
SUMMARY:Fitness für Körper und Geist
DESCRIPTION:Bewegungsangebot für Seniorinnen und Senioren \n Gymnastik im Sitzen und Stehen mit Übungen aus dem Ganzheitlichen Gehirntraining (GGT)\, Wahrnehmungs-\, Gleichgewichts-\, Konzentrations- und Koordinationsübungen\, Training von Alltagskompetenzen; bei gutem Wetter nutzen wir den Outdoor-Fitnesspark \nBuchung des gesamten Kurses (8 Termine\, 4.7.-29.8.): € 45\,- \nInfos unter: 0228-227 424 41\, andreea.bretan@awo-badgodesberg.de
URL:https://wohnen-im-pennenfeld.de/termine/fitness-fuer-koerper-und-geist-15/2024-07-18/
LOCATION:Nachbarschaftstreff Pennenfeld\, Maidenheadstraße 20\, Bonn\, NRW\, 53177\, Deutschland
ORGANIZER;CN="Quartiersmanagement Pennenfeld":MAILTO:wilbertz@vebowag.de
END:VEVENT
BEGIN:VEVENT
DTSTART;TZID=Europe/Berlin:20240717T180000
DTEND;TZID=Europe/Berlin:20240717T190000
DTSTAMP:20260422T061532
CREATED:20240629T145057Z
LAST-MODIFIED:20240703T165236Z
UID:5466-1721239200-1721242800@wohnen-im-pennenfeld.de
SUMMARY:Tai Chi & Qi Gong
DESCRIPTION:Die in den Kursen vermittelten Gesundheitsübungen hat die Kursleiterin Maria di Gennaro (www.zen-shiatsu.it) von Prof. Li Xiaoming\, einem authentischen chinesischen Meister\, von 2006 bis heute gelernt. Sie unterrichtet in English (bei Bedarf auch in Spanisch und Italienisch).\n\n\n\nTeilnehmerbeitrag: € 4\,- pro Termin.\nAnmeldung: 0228-227 424 41\, andreea.bretan@awo-badgodesberg.de
URL:https://wohnen-im-pennenfeld.de/termine/tai-chi-qi-gong-15/2024-07-17/
LOCATION:Nachbarschaftstreff Pennenfeld\, Maidenheadstraße 20\, Bonn\, NRW\, 53177\, Deutschland
ORGANIZER;CN="Quartiersmanagement Pennenfeld":MAILTO:wilbertz@vebowag.de
END:VEVENT
BEGIN:VEVENT
DTSTART;TZID=Europe/Berlin:20240716T150000
DTEND;TZID=Europe/Berlin:20240716T160000
DTSTAMP:20260422T061532
CREATED:20240628T135617Z
LAST-MODIFIED:20240704T140327Z
UID:5567-1721142000-1721145600@wohnen-im-pennenfeld.de
SUMMARY:Pennenfeld Clean Up!
DESCRIPTION:Gemeinsam sammeln wir Müll auf und belohnen uns anschließend dafür mit Kaffee und Kuchen. \nGreifzangen\, Handschuhe und Müllsäcke sind vorhanden und warten auf ihren Einsatz. \nTreffen vor dem Nachbarschafstreff Pennenfeld\, Maidenheadstr. 20 \nInfos unter: 0228-9158 444 oder petra.martischewski@t-online.de\n\n\n\nIn Kooperation mit dem Bürgerverein Buntes Pennenfeld e.V.
URL:https://wohnen-im-pennenfeld.de/termine/pennenfeld-clean-up-17/
LOCATION:Nachbarschaftstreff Pennenfeld\, Maidenheadstraße 20\, Bonn\, NRW\, 53177\, Deutschland
END:VEVENT
BEGIN:VEVENT
DTSTART;TZID=Europe/Berlin:20240716T120000
DTEND;TZID=Europe/Berlin:20240716T143000
DTSTAMP:20260422T061532
CREATED:20240628T145937Z
LAST-MODIFIED:20240628T145937Z
UID:5594-1721131200-1721140200@wohnen-im-pennenfeld.de
SUMMARY:Die Rote Tonne öffnet Ihre Klappe für Elektrokleingeräte
DESCRIPTION:
URL:https://wohnen-im-pennenfeld.de/termine/die-rote-tonne-oeffnet-ihre-klappe-fuer-elektrokleingeraete-50/2024-07-16/
LOCATION:Nachbarschaftstreff Pennenfeld\, Maidenheadstraße 20\, Bonn\, NRW\, 53177\, Deutschland
END:VEVENT
BEGIN:VEVENT
DTSTART;TZID=Europe/Berlin:20240716T120000
DTEND;TZID=Europe/Berlin:20240716T143000
DTSTAMP:20260422T061532
CREATED:20240628T145454Z
LAST-MODIFIED:20240730T165323Z
UID:5597-1721131200-1721140200@wohnen-im-pennenfeld.de
SUMMARY:Verbraucher- und Umweltberatung
DESCRIPTION:Die Verbraucherzentrale berät Sie ohne Termin und kostenlos zu rechtlichen Themen\, z.B. zu Telefon- und Internetverträgen\, Inkassobriefen\, Kaufverträgen\, dubiosen Kreditkartenangeboten\, Abos und Abzocke\, Energiesparen und Umweltschutz.\n\n\n\n 
URL:https://wohnen-im-pennenfeld.de/termine/verbraucher-und-umweltberatung-3/2024-07-16/
LOCATION:Nachbarschaftstreff Pennenfeld\, Maidenheadstraße 20\, Bonn\, NRW\, 53177\, Deutschland
END:VEVENT
BEGIN:VEVENT
DTSTART;TZID=Europe/Berlin:20240716T110000
DTEND;TZID=Europe/Berlin:20240716T110000
DTSTAMP:20260422T061532
CREATED:20240628T151804Z
LAST-MODIFIED:20240628T151804Z
UID:5542-1721127600-1721127600@wohnen-im-pennenfeld.de
SUMMARY:Lebensmittelausgabe im Nachbarschaftstreff Pennenfeld
DESCRIPTION:
URL:https://wohnen-im-pennenfeld.de/termine/lebensmittelausgabe-im-nachbarschaftstreff-pennenfeld-56/2024-07-16/
LOCATION:Nachbarschaftstreff Pennenfeld\, Maidenheadstraße 20\, Bonn\, NRW\, 53177\, Deutschland
ORGANIZER;CN="Quartiersmanagement Pennenfeld":MAILTO:wilbertz@vebowag.de
END:VEVENT
BEGIN:VEVENT
DTSTART;TZID=Europe/Berlin:20240712T173000
DTEND;TZID=Europe/Berlin:20240712T190000
DTSTAMP:20260422T061532
CREATED:20240603T151104Z
LAST-MODIFIED:20240603T151104Z
UID:5522-1720805400-1720810800@wohnen-im-pennenfeld.de
SUMMARY:Deutsch-Konversationskurs für Männer
DESCRIPTION:Möchten Sie gemeinsam mit anderen Männern Ihren Wortschatz bereichern und Ihre Sprachfähigkeiten im Deutschen vertiefen? Wollen Sie sich in alltäglichen Gesprächsthemen auf Deutsch sicherer fühlen? Dann sind Sie hier genau richtig! \nDieser Kurs ist speziell für Männer konzipiert\, die als Anfänger oder mit mittlerem Sprachniveau (A2-B1) ihre Sprachfähigkeiten erweitern und im Alltag anwenden möchten. \nKursleiter: Yaser Darkashly \nDer Kurs ist kostenlos\, keine Anmeldung erforderlich. Ein Einstieg ist jederzeit möglich.\n\n\n\nInfos bei: hasan.barbar@caritas-bonn.de\, 0228-227 424 42
URL:https://wohnen-im-pennenfeld.de/termine/deutsch-konversationskurs-fuer-maenner-2/2024-07-12/
LOCATION:Nachbarschaftstreff Pennenfeld\, Maidenheadstraße 20\, Bonn\, NRW\, 53177\, Deutschland
ORGANIZER;CN="Quartiersmanagement Pennenfeld":MAILTO:wilbertz@vebowag.de
END:VEVENT
BEGIN:VEVENT
DTSTART;TZID=Europe/Berlin:20240712T100000
DTEND;TZID=Europe/Berlin:20240712T113000
DTSTAMP:20260422T061532
CREATED:20240628T135411Z
LAST-MODIFIED:20240704T135528Z
UID:5565-1720778400-1720783800@wohnen-im-pennenfeld.de
SUMMARY:Interkulturelles Frauenfrühstück
DESCRIPTION:Herzliche Einladung zu unserem interkulturellen Frauenfrühstück! \nBitte bringen Sie einen kleinen Beitrag zum gemeinsamen bunten Buffet mit.\n\n\n\nAnmeldung: 0228-227 424 41\, andreea.bretan@awo-badgodesberg.de
URL:https://wohnen-im-pennenfeld.de/termine/interkulturelles-frauenfruehstueck-15/
LOCATION:Nachbarschaftstreff Pennenfeld\, Maidenheadstraße 20\, Bonn\, NRW\, 53177\, Deutschland
ORGANIZER;CN="Quartiersmanagement Pennenfeld":MAILTO:wilbertz@vebowag.de
END:VEVENT
BEGIN:VEVENT
DTSTART;TZID=Europe/Berlin:20240711T150000
DTEND;TZID=Europe/Berlin:20240711T170000
DTSTAMP:20260422T061532
CREATED:20240628T135252Z
LAST-MODIFIED:20240704T135359Z
UID:5563-1720710000-1720717200@wohnen-im-pennenfeld.de
SUMMARY:Gesangsnachmittag mit Kaffee und Kuchen
DESCRIPTION:Gemeinsam singen wir Lieder quer durch das deutsche Liederbuch und \nwerden dabei von Akkordeon\, Mandoline und Mundharmonika begleitet. \nTeilnehmerbeitrag: € 2\,50\n\n\n\nKeine Anmeldung erforderlich
URL:https://wohnen-im-pennenfeld.de/termine/gesangsnachmittag-mit-kaffee-und-kuchen-11/
LOCATION:Nachbarschaftstreff Pennenfeld\, Maidenheadstraße 20\, Bonn\, NRW\, 53177\, Deutschland
ORGANIZER;CN="Quartiersmanagement Pennenfeld":MAILTO:wilbertz@vebowag.de
END:VEVENT
BEGIN:VEVENT
DTSTART;TZID=Europe/Berlin:20240711T130000
DTEND;TZID=Europe/Berlin:20240711T143000
DTSTAMP:20260422T061532
CREATED:20240603T170939Z
LAST-MODIFIED:20240603T170939Z
UID:5517-1720702800-1720708200@wohnen-im-pennenfeld.de
SUMMARY:Deutsch-Konversationskurs für Männer
DESCRIPTION:Möchten Sie gemeinsam mit anderen Männern Ihren Wortschatz bereichern und Ihre Sprachfähigkeiten im Deutschen vertiefen? Wollen Sie sich in alltäglichen Gesprächsthemen auf Deutsch sicherer fühlen? Dann sind Sie hier genau richtig! \nDieser Kurs ist speziell für Männer konzipiert\, die als Anfänger oder mit mittlerem Sprachniveau (A2-B1) ihre Sprachfähigkeiten erweitern und im Alltag anwenden möchten. \nKursleiter: Yaser Darkashly \nDer Kurs ist kostenlos\, keine Anmeldung erforderlich. Ein Einstieg ist jederzeit möglich.\n\n\n\nInfos bei: hasan.barbar@caritas-bonn.de\, 0228-227 424 42
URL:https://wohnen-im-pennenfeld.de/termine/deutsch-konversationskurs-fuer-maenner/2024-07-11/
LOCATION:Nachbarschaftstreff Pennenfeld\, Maidenheadstraße 20\, Bonn\, NRW\, 53177\, Deutschland
ORGANIZER;CN="Quartiersmanagement Pennenfeld":MAILTO:wilbertz@vebowag.de
END:VEVENT
BEGIN:VEVENT
DTSTART;TZID=Europe/Berlin:20240711T110000
DTEND;TZID=Europe/Berlin:20240711T120000
DTSTAMP:20260422T061532
CREATED:20240628T151523Z
LAST-MODIFIED:20240628T151523Z
UID:5535-1720695600-1720699200@wohnen-im-pennenfeld.de
SUMMARY:Fitness für Körper und Geist
DESCRIPTION:Bewegungsangebot für Seniorinnen und Senioren \nGymnastik im Sitzen und Stehen mit Übungen aus dem Ganzheitlichen Gehirntraining (GGT)\, Wahrnehmungs-\, Gleichgewichts-\, Konzentrations- und Koordinationsübungen\, Training von Alltagskompetenzen; bei gutem Wetter nutzen wir den Outdoor-Fitnesspark Buchung des gesamten Kurses (8 Termine\, 4.7.-29.8.): € 45\,- Infos unter: 0228-227 424 41\, andreea.bretan@awo-badgodesberg.de
URL:https://wohnen-im-pennenfeld.de/termine/fitness-fuer-koerper-und-geist-16/2024-07-11/
LOCATION:Nachbarschaftstreff Pennenfeld\, Maidenheadstraße 20\, Bonn\, NRW\, 53177\, Deutschland
ORGANIZER;CN="Quartiersmanagement Pennenfeld":MAILTO:wilbertz@vebowag.de
END:VEVENT
BEGIN:VEVENT
DTSTART;TZID=Europe/Berlin:20240711T100000
DTEND;TZID=Europe/Berlin:20240711T110000
DTSTAMP:20260422T061532
CREATED:20240703T172421Z
LAST-MODIFIED:20240703T172421Z
UID:5553-1720692000-1720695600@wohnen-im-pennenfeld.de
SUMMARY:Fitness für Körper und Geist
DESCRIPTION:Bewegungsangebot für Seniorinnen und Senioren \n Gymnastik im Sitzen und Stehen mit Übungen aus dem Ganzheitlichen Gehirntraining (GGT)\, Wahrnehmungs-\, Gleichgewichts-\, Konzentrations- und Koordinationsübungen\, Training von Alltagskompetenzen; bei gutem Wetter nutzen wir den Outdoor-Fitnesspark \nBuchung des gesamten Kurses (8 Termine\, 4.7.-29.8.): € 45\,- \nInfos unter: 0228-227 424 41\, andreea.bretan@awo-badgodesberg.de
URL:https://wohnen-im-pennenfeld.de/termine/fitness-fuer-koerper-und-geist-15/2024-07-11/
LOCATION:Nachbarschaftstreff Pennenfeld\, Maidenheadstraße 20\, Bonn\, NRW\, 53177\, Deutschland
ORGANIZER;CN="Quartiersmanagement Pennenfeld":MAILTO:wilbertz@vebowag.de
END:VEVENT
BEGIN:VEVENT
DTSTART;TZID=Europe/Berlin:20240710T180000
DTEND;TZID=Europe/Berlin:20240710T190000
DTSTAMP:20260422T061532
CREATED:20240629T145057Z
LAST-MODIFIED:20240703T165236Z
UID:5465-1720634400-1720638000@wohnen-im-pennenfeld.de
SUMMARY:Tai Chi & Qi Gong
DESCRIPTION:Die in den Kursen vermittelten Gesundheitsübungen hat die Kursleiterin Maria di Gennaro (www.zen-shiatsu.it) von Prof. Li Xiaoming\, einem authentischen chinesischen Meister\, von 2006 bis heute gelernt. Sie unterrichtet in English (bei Bedarf auch in Spanisch und Italienisch).\n\n\n\nTeilnehmerbeitrag: € 4\,- pro Termin.\nAnmeldung: 0228-227 424 41\, andreea.bretan@awo-badgodesberg.de
URL:https://wohnen-im-pennenfeld.de/termine/tai-chi-qi-gong-15/2024-07-10/
LOCATION:Nachbarschaftstreff Pennenfeld\, Maidenheadstraße 20\, Bonn\, NRW\, 53177\, Deutschland
ORGANIZER;CN="Quartiersmanagement Pennenfeld":MAILTO:wilbertz@vebowag.de
END:VEVENT
END:VCALENDAR