﻿BEGIN:VCALENDAR
VERSION:2.0
PRODID:-//Pennenfeld - ECPv6.10.0//NONSGML v1.0//EN
CALSCALE:GREGORIAN
METHOD:PUBLISH
X-ORIGINAL-URL:https://wohnen-im-pennenfeld.de
X-WR-CALDESC:Veranstaltungen für Pennenfeld
REFRESH-INTERVAL;VALUE=DURATION:PT1H
X-Robots-Tag:noindex
X-PUBLISHED-TTL:PT1H
BEGIN:VTIMEZONE
TZID:Europe/Berlin
BEGIN:DAYLIGHT
TZOFFSETFROM:+0100
TZOFFSETTO:+0200
TZNAME:CEST
DTSTART:20230326T010000
END:DAYLIGHT
BEGIN:STANDARD
TZOFFSETFROM:+0200
TZOFFSETTO:+0100
TZNAME:CET
DTSTART:20231029T010000
END:STANDARD
BEGIN:DAYLIGHT
TZOFFSETFROM:+0100
TZOFFSETTO:+0200
TZNAME:CEST
DTSTART:20240331T010000
END:DAYLIGHT
BEGIN:STANDARD
TZOFFSETFROM:+0200
TZOFFSETTO:+0100
TZNAME:CET
DTSTART:20241027T010000
END:STANDARD
END:VTIMEZONE
BEGIN:VEVENT
DTSTART;TZID=Europe/Berlin:20240206T120000
DTEND;TZID=Europe/Berlin:20240206T143000
DTSTAMP:20260423T085733
CREATED:20240129T135246Z
LAST-MODIFIED:20240213T080210Z
UID:4914-1707220800-1707229800@wohnen-im-pennenfeld.de
SUMMARY:Muss heute leider ausfallen: Verbraucher- und Umweltberatung der Verbraucherzentrale
DESCRIPTION:
URL:https://wohnen-im-pennenfeld.de/termine/verbraucher-und-umweltberatung-der-verbraucherzentrale-35/2024-02-06/
LOCATION:Nachbarschaftstreff Pennenfeld\, Maidenheadstraße 20\, Bonn\, NRW\, 53177\, Deutschland
END:VEVENT
BEGIN:VEVENT
DTSTART;TZID=Europe/Berlin:20240206T110000
DTEND;TZID=Europe/Berlin:20240206T110000
DTSTAMP:20260423T085733
CREATED:20240129T183649Z
LAST-MODIFIED:20240129T183714Z
UID:4899-1707217200-1707217200@wohnen-im-pennenfeld.de
SUMMARY:Lebensmittelausgabe im Nachbarschaftstreff Pennenfeld
DESCRIPTION:
URL:https://wohnen-im-pennenfeld.de/termine/lebensmittelausgabe-im-nachbarschaftstreff-pennenfeld-52/2024-02-06/
LOCATION:Nachbarschaftstreff Pennenfeld\, Maidenheadstraße 20\, Bonn\, NRW\, 53177\, Deutschland
ORGANIZER;CN="Quartiersmanagement Pennenfeld":MAILTO:wilbertz@vebowag.de
END:VEVENT
BEGIN:VEVENT
DTSTART;TZID=Europe/Berlin:20240205T150000
DTEND;TZID=Europe/Berlin:20240205T170000
DTSTAMP:20260423T085733
CREATED:20240129T183405Z
LAST-MODIFIED:20240129T183520Z
UID:4885-1707145200-1707152400@wohnen-im-pennenfeld.de
SUMMARY:Meine Zukunft gestalte ich selbst
DESCRIPTION:Für Kinder zwischen 6 und 12 Jahren\nWir wollen Kinder stark machen für die Zukunft.\nBasteln\, Experimente\, Kochen\, Natur\, Umwelt\, Nachhaltigkeit und\nnatürlich Spaß haben\, chillen und spielen. \nDie Veranstaltung ist kostenlos\nOffener Treff\, keine Anmeldung erforderlich\, einfach vorbeikommen! \n\nEin Projekt von Kultur verbindet e.V. (www.kulturverbindet-bonn.de)
URL:https://wohnen-im-pennenfeld.de/termine/meine-zukunft-gestalte-ich-selbst-4/2024-02-05/
LOCATION:Nachbarschaftstreff Pennenfeld\, Maidenheadstraße 20\, Bonn\, NRW\, 53177\, Deutschland
END:VEVENT
BEGIN:VEVENT
DTSTART;TZID=Europe/Berlin:20240201T153000
DTEND;TZID=Europe/Berlin:20240201T170000
DTSTAMP:20260423T085733
CREATED:20240129T182947Z
LAST-MODIFIED:20240129T182947Z
UID:4883-1706801400-1706806800@wohnen-im-pennenfeld.de
SUMMARY:English-Reading-and-Conversation-Club
DESCRIPTION:Wir lesen gemeinsam eine sprachlich einfache aber thematisch anspruchsvolle Lektüre und besprechen sie einmal im Monat.\nTeilnehmerbeitrag: € 3\,-. Anmeldung: 0228 22 74 24 41\, andreea.bretan@awo-badgodesberg.de. Kosten: € 3\,-. \nVORANKÜNDIGUNG: Der Englischkurs wird von März bis voraussichtlich Mai 2024 pausieren!
URL:https://wohnen-im-pennenfeld.de/termine/english-reading-and-conversation-club-6/
LOCATION:Nachbarschaftstreff Pennenfeld\, Maidenheadstraße 20\, Bonn\, NRW\, 53177\, Deutschland
ORGANIZER;CN="Quartiersmanagement Pennenfeld":MAILTO:wilbertz@vebowag.de
END:VEVENT
BEGIN:VEVENT
DTSTART;TZID=Europe/Berlin:20240201T113000
DTEND;TZID=Europe/Berlin:20240201T123000
DTSTAMP:20260423T085733
CREATED:20240213T184612Z
LAST-MODIFIED:20240213T184612Z
UID:4980-1706787000-1706790600@wohnen-im-pennenfeld.de
SUMMARY:Fitness für Körper und Geist
DESCRIPTION:Bewegungsangebot für Seniorinnen und Senioren\nGymnastik im Sitzen und Stehen mit Übungen aus dem Ganzheitlichen Gehirntraining (GGT)\, Wahrnehmungs-\, Gleichgewichts-\, Konzentrations- und Koordinationsübungen\, Training von Alltagskompetenzen; bei gutem Wetter nutzen wir den Outdoor-Fitnesspark\nBuchung des gesamten Kurses (8 Termine\, 25.1.-14.3.): € 45\,-\nInfos unter: 0228-22 74 24 41\, andreea.bretan@awo-badgodesberg.de
URL:https://wohnen-im-pennenfeld.de/termine/fitness-fuer-koerper-und-geist-8/2024-02-01/
LOCATION:Nachbarschaftstreff Pennenfeld\, Maidenheadstraße 20\, Bonn\, NRW\, 53177\, Deutschland
ORGANIZER;CN="Quartiersmanagement Pennenfeld":MAILTO:wilbertz@vebowag.de
END:VEVENT
BEGIN:VEVENT
DTSTART;TZID=Europe/Berlin:20240201T103000
DTEND;TZID=Europe/Berlin:20240201T113000
DTSTAMP:20260423T085733
CREATED:20240129T143908Z
LAST-MODIFIED:20240213T184410Z
UID:4974-1706783400-1706787000@wohnen-im-pennenfeld.de
SUMMARY:Fitness für Körper und Geist
DESCRIPTION:Bewegungsangebot für Seniorinnen und Senioren\nGymnastik im Sitzen und Stehen mit Übungen aus dem Ganzheitlichen Gehirntraining (GGT)\, Wahrnehmungs-\, Gleichgewichts-\, Konzentrations- und Koordinationsübungen\, Training von Alltagskompetenzen; bei gutem Wetter nutzen wir den Outdoor-Fitnesspark\nBuchung des gesamten Kurses (8 Termine\, 25.1.-14.3.): € 45\,-\nInfos unter: 0228-22 74 24 41\, andreea.bretan@awo-badgodesberg.de
URL:https://wohnen-im-pennenfeld.de/termine/fitness-fuer-koerper-und-geist-7/2024-02-01/
LOCATION:Nachbarschaftstreff Pennenfeld\, Maidenheadstraße 20\, Bonn\, NRW\, 53177\, Deutschland
ORGANIZER;CN="Quartiersmanagement Pennenfeld":MAILTO:wilbertz@vebowag.de
END:VEVENT
BEGIN:VEVENT
DTSTART;TZID=Europe/Berlin:20240125T150000
DTEND;TZID=Europe/Berlin:20240125T170000
DTSTAMP:20260423T085733
CREATED:20240102T172840Z
LAST-MODIFIED:20240102T172840Z
UID:4802-1706194800-1706202000@wohnen-im-pennenfeld.de
SUMMARY:Spielenachmittag für Erwachsene
DESCRIPTION:Doppelkopf und Rummi-Cup!\nKostenloses Angebot\, Spenden willkommen. Keine Anmeldung erforderlich.
URL:https://wohnen-im-pennenfeld.de/termine/spielenachmittag-fuer-erwachsene-3/
LOCATION:Nachbarschaftstreff Pennenfeld\, Maidenheadstraße 20\, Bonn\, NRW\, 53177\, Deutschland
ORGANIZER;CN="Quartiersmanagement Pennenfeld":MAILTO:wilbertz@vebowag.de
END:VEVENT
BEGIN:VEVENT
DTSTART;TZID=Europe/Berlin:20240124T120000
DTEND;TZID=Europe/Berlin:20240124T120000
DTSTAMP:20260423T085733
CREATED:20240102T172542Z
LAST-MODIFIED:20240102T172542Z
UID:4798-1706097600-1706097600@wohnen-im-pennenfeld.de
SUMMARY:Mittagstisch
DESCRIPTION:Kostenbeitrag inkl. Nachtisch und Kaffee: € 4\,-\nBitte melden Sie sich bis zum 17.1.24 verbindlich an:\n0228 22 74 24 41 oder andreea.bretan@awo-badgodesbergg.de
URL:https://wohnen-im-pennenfeld.de/termine/mittagstisch-8/
LOCATION:Nachbarschaftstreff Pennenfeld\, Maidenheadstraße 20\, Bonn\, NRW\, 53177\, Deutschland
ORGANIZER;CN="Quartiersmanagement Pennenfeld":MAILTO:wilbertz@vebowag.de
END:VEVENT
BEGIN:VEVENT
DTSTART;TZID=Europe/Berlin:20240123T140000
DTEND;TZID=Europe/Berlin:20240123T140000
DTSTAMP:20260423T085733
CREATED:20240102T175349Z
LAST-MODIFIED:20240102T175349Z
UID:4823-1706018400-1706018400@wohnen-im-pennenfeld.de
SUMMARY:Verbrauchercafé: Verträge abschließen und beenden – Reklamation\, Widerruf\, Umtausch
DESCRIPTION:Kaffeetrinken mit Inforunde\nEinmal im Monat informiert die Verbraucherzentrale in gemütlicher Runde über wichtige Themen des Verbraucherschutzes.\nDie Veranstaltung ist kostenlos\, keine Anmeldung erforderlich
URL:https://wohnen-im-pennenfeld.de/termine/verbrauchercafe-vertraege-abschliessen-und-beenden-reklamation-widerruf-umtausch/
LOCATION:Nachbarschaftstreff Pennenfeld\, Maidenheadstraße 20\, Bonn\, NRW\, 53177\, Deutschland
END:VEVENT
BEGIN:VEVENT
DTSTART;TZID=Europe/Berlin:20240123T120000
DTEND;TZID=Europe/Berlin:20240123T140000
DTSTAMP:20260423T085733
CREATED:20240102T174930Z
LAST-MODIFIED:20240102T175645Z
UID:4819-1706011200-1706018400@wohnen-im-pennenfeld.de
SUMMARY:Verbraucher- und Umweltberatung der Verbraucherzentrale
DESCRIPTION:
URL:https://wohnen-im-pennenfeld.de/termine/verbraucher-und-umweltberatung-der-verbraucherzentrale-34-2024-01-23/
LOCATION:Nachbarschaftstreff Pennenfeld\, Maidenheadstraße 20\, Bonn\, NRW\, 53177\, Deutschland
END:VEVENT
BEGIN:VEVENT
DTSTART;TZID=Europe/Berlin:20240123T120000
DTEND;TZID=Europe/Berlin:20240123T140000
DTSTAMP:20260423T085733
CREATED:20240102T174637Z
LAST-MODIFIED:20240102T175609Z
UID:4813-1706011200-1706018400@wohnen-im-pennenfeld.de
SUMMARY:Die Rote Tonne öffnet Ihre Klappe für Elektrokleingeräte
DESCRIPTION:
URL:https://wohnen-im-pennenfeld.de/termine/die-rote-tonne-oeffnet-ihre-klappe-fuer-elektrokleingeraete-43-2024-01-23/
LOCATION:Nachbarschaftstreff Pennenfeld\, Maidenheadstraße 20\, Bonn\, NRW\, 53177\, Deutschland
END:VEVENT
BEGIN:VEVENT
DTSTART;TZID=Europe/Berlin:20240119T150000
DTEND;TZID=Europe/Berlin:20240119T170000
DTSTAMP:20260423T085733
CREATED:20240102T172327Z
LAST-MODIFIED:20240102T172327Z
UID:4796-1705676400-1705683600@wohnen-im-pennenfeld.de
SUMMARY:Repair Café – Reparieren statt wegwerfen!
DESCRIPTION:In gemütlicher Atmosphäre unter fachkundiger Anleitung Elektrogeräte\, Möbelstücke etc. reparieren.\nKostenloses Angebot\, Spenden willkommen.\nAnmeldung/Terminvergabe: Frank Wilbertz 0228 91 58 44 4
URL:https://wohnen-im-pennenfeld.de/termine/repair-cafe-reparieren-statt-wegwerfen-22/
LOCATION:Nachbarschaftstreff Pennenfeld\, Maidenheadstraße 20\, Bonn\, NRW\, 53177\, Deutschland
ORGANIZER;CN="Quartiersmanagement Pennenfeld":MAILTO:wilbertz@vebowag.de
END:VEVENT
BEGIN:VEVENT
DTSTART;TZID=Europe/Berlin:20240118T113000
DTEND;TZID=Europe/Berlin:20240118T123000
DTSTAMP:20260423T085733
CREATED:20240102T162130Z
LAST-MODIFIED:20240102T171533Z
UID:4783-1705577400-1705581000@wohnen-im-pennenfeld.de
SUMMARY:Fitness für Körper und Geist
DESCRIPTION:Bewegungsangebot für Seniorinnen und Senioren\nGymnastik im Sitzen und Stehen mit Übungen aus dem Ganzheitlichen Gehirntraining (GGT)\, Wahrnehmungs-\, Gleichgewichts-\, Konzentrations- und Koordinationsübungen\, Training von Alltagskompetenzen; bei gutem Wetter nutzen wir den Outdoor-Fitnesspark\nBuchung des gesamten Kurses (8 Termine\, 18.1.-14.3.): € 45\,- \nInfos unter: 0228-22 74 24 41\, andreea.bretan@awo-badgodesberg.de
URL:https://wohnen-im-pennenfeld.de/termine/fitness-fuer-koerper-und-geist-6/2024-01-18/
LOCATION:Nachbarschaftstreff Pennenfeld\, Maidenheadstraße 20\, Bonn\, NRW\, 53177\, Deutschland
ORGANIZER;CN="Quartiersmanagement Pennenfeld":MAILTO:wilbertz@vebowag.de
END:VEVENT
BEGIN:VEVENT
DTSTART;TZID=Europe/Berlin:20240118T103000
DTEND;TZID=Europe/Berlin:20240118T113000
DTSTAMP:20260423T085733
CREATED:20240102T162028Z
LAST-MODIFIED:20240102T172055Z
UID:4780-1705573800-1705577400@wohnen-im-pennenfeld.de
SUMMARY:Fitness für Körper und Geist
DESCRIPTION:Bewegungsangebot für Seniorinnen und Senioren\nGymnastik im Sitzen und Stehen mit Übungen aus dem Ganzheitlichen Gehirntraining (GGT)\, Wahrnehmungs-\, Gleichgewichts-\, Konzentrations- und Koordinationsübungen\, Training von Alltagskompetenzen; bei gutem Wetter nutzen wir den Outdoor-Fitnesspark\nBuchung des gesamten Kurses (8 Termine\, 18.1.-14.3.): € 45\,- \nInfos unter: 0228-22 74 24 41\, andreea.bretan@awo-badgodesberg.de
URL:https://wohnen-im-pennenfeld.de/termine/fitness-fuer-koerper-und-geist-5/2024-01-18/
LOCATION:Nachbarschaftstreff Pennenfeld\, Maidenheadstraße 20\, Bonn\, NRW\, 53177\, Deutschland
ORGANIZER;CN="Quartiersmanagement Pennenfeld":MAILTO:wilbertz@vebowag.de
END:VEVENT
BEGIN:VEVENT
DTSTART;TZID=Europe/Berlin:20240116T150000
DTEND;TZID=Europe/Berlin:20240116T160000
DTSTAMP:20260423T085733
CREATED:20240102T161339Z
LAST-MODIFIED:20240102T161426Z
UID:4778-1705417200-1705420800@wohnen-im-pennenfeld.de
SUMMARY:Pennenfeld Clean Up!
DESCRIPTION:Gemeinsam sammeln wir Müll auf und belohnen uns anschließend dafür mit einem Kaffeeklatsch im Freien.\nGreifzangen\, Handschuhe und Müllsäcke sind vorhanden und warten auf ihren Einsatz.\nTreffen vor dem Nachbarschafstreff Pennenfeld\, Maidenheadstr. 20. \nInfos unter: 0228 22 74 24 41 oder petra.martischewski@t-online.de\nIn Kooperation mit dem Bürgerverein Buntes Pennenfeld e.V.
URL:https://wohnen-im-pennenfeld.de/termine/pennenfeld-clean-up-12/
LOCATION:Nachbarschaftstreff Pennenfeld\, Maidenheadstraße 20\, Bonn\, NRW\, 53177\, Deutschland
ORGANIZER;CN="Quartiersmanagement Pennenfeld":MAILTO:wilbertz@vebowag.de
END:VEVENT
BEGIN:VEVENT
DTSTART;TZID=Europe/Berlin:20240114T160000
DTEND;TZID=Europe/Berlin:20240114T171500
DTSTAMP:20260423T085733
CREATED:20240102T160558Z
LAST-MODIFIED:20240102T161110Z
UID:4773-1705248000-1705252500@wohnen-im-pennenfeld.de
SUMMARY:Die Heilkraft der 12 Energiemeridiane
DESCRIPTION:In diesem Kurs erhalten Sie Einblick in die Grundlagen der traditionellen chinesischen Medizin (TCM). Inhalt sind die 12 Energiemeridiane und die fünf Phasen der Transformation. Auch werden Sie hilfreiche Atemübungen und Akkupressurpunkte kennenlernen.\nMaria di Gennaro (www.zen-shiatsu.it) unterrichtet in English (bei Bedarf auch in Spanisch und Italienisch). Der Kurs findet an insgesamt 12 Terminen statt.\nTeilnehmerbeitrag: € 10\,- pro Termin. \nAnmeldung: 0228-22 74 24 41\, andreea.bretan@awo-badgodesberg.de
URL:https://wohnen-im-pennenfeld.de/termine/die-heilkraft-der-12-energiemeridiane-3/2024-01-14/
LOCATION:Nachbarschaftstreff Pennenfeld\, Maidenheadstraße 20\, Bonn\, NRW\, 53177\, Deutschland
ORGANIZER;CN="Quartiersmanagement Pennenfeld":MAILTO:wilbertz@vebowag.de
END:VEVENT
BEGIN:VEVENT
DTSTART;TZID=Europe/Berlin:20240111T150000
DTEND;TZID=Europe/Berlin:20240111T170000
DTSTAMP:20260423T085733
CREATED:20240102T160239Z
LAST-MODIFIED:20240102T160313Z
UID:4770-1704985200-1704992400@wohnen-im-pennenfeld.de
SUMMARY:Gesangsnachmittag mit Kaffee und Kuchen
DESCRIPTION:Gemeinsam singen wir Lieder quer durch das deutsche Liederbuch und werden dabei instrumental begleitet. \nTeilnehmerbeitrag: € 2\,50. \nKeine Anmeldung erforderlich.
URL:https://wohnen-im-pennenfeld.de/termine/gesangsnachmittag-mit-kaffee-und-kuchen-6/
LOCATION:Nachbarschaftstreff Pennenfeld\, Maidenheadstraße 20\, Bonn\, NRW\, 53177\, Deutschland
ORGANIZER;CN="Quartiersmanagement Pennenfeld":MAILTO:wilbertz@vebowag.de
END:VEVENT
BEGIN:VEVENT
DTSTART;TZID=Europe/Berlin:20240109T173000
DTEND;TZID=Europe/Berlin:20240109T203000
DTSTAMP:20260423T085733
CREATED:20240102T155154Z
LAST-MODIFIED:20240108T172826Z
UID:4763-1704821400-1704832200@wohnen-im-pennenfeld.de
SUMMARY:Kochen im Nachbarschaftstreff
DESCRIPTION:Lernen Sie nette Menschen kennen und haben Sie Spaß beim gemeinsamen Kochen! Wir kochen regionale Gerichte aus regionalen Zutaten und probieren auch die internationale Küche mit exotischen Zutaten.\nIn Kooperation mit der Gemeindepsychatrie Bonn-Rhein-Sieg\nTeilnehmerbeitrag: € 1\,50 pro Termin\nAnmeldung erforderlich. Bei Herrn Lee: 0151-121 84 230 oder bei Frank Wilbertz: 0228- 91 58 444\, info@wohnen-im-pennenfeld.de
URL:https://wohnen-im-pennenfeld.de/termine/kochen-im-nachbarschaftstreff-3/2024-01-09/
LOCATION:Nachbarschaftstreff Pennenfeld\, Maidenheadstraße 20\, Bonn\, NRW\, 53177\, Deutschland
END:VEVENT
BEGIN:VEVENT
DTSTART;TZID=Europe/Berlin:20240109T120000
DTEND;TZID=Europe/Berlin:20240109T143000
DTSTAMP:20260423T085733
CREATED:20240102T174930Z
LAST-MODIFIED:20240102T174930Z
UID:4816-1704801600-1704810600@wohnen-im-pennenfeld.de
SUMMARY:Verbraucher- und Umweltberatung der Verbraucherzentrale
DESCRIPTION:
URL:https://wohnen-im-pennenfeld.de/termine/verbraucher-und-umweltberatung-der-verbraucherzentrale-34/2024-01-09/
LOCATION:Nachbarschaftstreff Pennenfeld\, Maidenheadstraße 20\, Bonn\, NRW\, 53177\, Deutschland
END:VEVENT
BEGIN:VEVENT
DTSTART;TZID=Europe/Berlin:20240109T120000
DTEND;TZID=Europe/Berlin:20240109T143000
DTSTAMP:20260423T085733
CREATED:20240102T174637Z
LAST-MODIFIED:20240102T174637Z
UID:4809-1704801600-1704810600@wohnen-im-pennenfeld.de
SUMMARY:Die Rote Tonne öffnet Ihre Klappe für Elektrokleingeräte
DESCRIPTION:
URL:https://wohnen-im-pennenfeld.de/termine/die-rote-tonne-oeffnet-ihre-klappe-fuer-elektrokleingeraete-43/2024-01-09/
LOCATION:Nachbarschaftstreff Pennenfeld\, Maidenheadstraße 20\, Bonn\, NRW\, 53177\, Deutschland
END:VEVENT
BEGIN:VEVENT
DTSTART;TZID=Europe/Berlin:20240108T150000
DTEND;TZID=Europe/Berlin:20240108T170000
DTSTAMP:20260423T085733
CREATED:20240102T154510Z
LAST-MODIFIED:20240102T154510Z
UID:4746-1704726000-1704733200@wohnen-im-pennenfeld.de
SUMMARY:Meine Zukunft gestalte ich selbst
DESCRIPTION:Für Kinder zwischen 6 und 12 Jahren\nWir wollen Kinder stark machen für die Zukunft.\nBasteln\, Experimente\, Kochen\, Natur\, Umwelt\, Nachhaltigkeit und\nnatürlich Spaß haben\, chillen und spielen. \nDie Veranstaltung ist kostenlos\nOffener Treff\, keine Anmeldung erforderlich\, einfach vorbeikommen!
URL:https://wohnen-im-pennenfeld.de/termine/meine-zukunft-gestalte-ich-selbst-3/2024-01-08/
LOCATION:Nachbarschaftstreff Pennenfeld\, Maidenheadstraße 20\, Bonn\, NRW\, 53177\, Deutschland
END:VEVENT
BEGIN:VEVENT
DTSTART;TZID=Europe/Berlin:20240104T153000
DTEND;TZID=Europe/Berlin:20240104T170000
DTSTAMP:20260423T085733
CREATED:20240102T155834Z
LAST-MODIFIED:20240102T155849Z
UID:4767-1704382200-1704387600@wohnen-im-pennenfeld.de
SUMMARY:English-Reading-and-Conversation-Club
DESCRIPTION:Wir lesen gemeinsam eine sprachlich einfache aber thematisch anspruchsvolle Lektüre und besprechen sie einmal im Monat.\nTeilnehmerbeitrag: € 3\,-. Anmeldung: 0228 22 74 24 41\, andreea.bretan@awo-badgodesberg.de. Kosten: € 3\,-.
URL:https://wohnen-im-pennenfeld.de/termine/english-reading-and-conversation-club-5/
LOCATION:Nachbarschaftstreff Pennenfeld\, Maidenheadstraße 20\, Bonn\, NRW\, 53177\, Deutschland
ORGANIZER;CN="Quartiersmanagement Pennenfeld":MAILTO:wilbertz@vebowag.de
END:VEVENT
BEGIN:VEVENT
DTSTART;TZID=Europe/Berlin:20240103T180000
DTEND;TZID=Europe/Berlin:20240103T190000
DTSTAMP:20260423T085733
CREATED:20240102T154756Z
LAST-MODIFIED:20240102T154756Z
UID:4754-1704304800-1704308400@wohnen-im-pennenfeld.de
SUMMARY:Tai Chi & Qi Gong
DESCRIPTION:Maria di Gennaro (www.zen-shiatsu.it) ist in Deutschland\, um ihr Wissen weiterzugeben. Die in den Kursen vermittelten Gesundheitsübungen hat Maria Di Gennaro von Prof. Li Xiaoming\, einem authentischen chinesischen Meister\, von 2006 bis heute gelernt. Sie unterrichtet in English (bei Bedarf auch in Spanisch und Italienisch).\nTeilnehmerbeitrag: € 4\,- pro Termin. Anmeldung: 0228-22 74 24 41\, andreea.bretan@awo-badgodesberg.de
URL:https://wohnen-im-pennenfeld.de/termine/tai-chi-qi-gong-10/2024-01-03/
LOCATION:Nachbarschaftstreff Pennenfeld\, Maidenheadstraße 20\, Bonn\, NRW\, 53177\, Deutschland
ORGANIZER;CN="Quartiersmanagement Pennenfeld":MAILTO:wilbertz@vebowag.de
END:VEVENT
BEGIN:VEVENT
DTSTART;TZID=Europe/Berlin:20231219T173000
DTEND;TZID=Europe/Berlin:20231219T203000
DTSTAMP:20260423T085733
CREATED:20231204T122409Z
LAST-MODIFIED:20231212T151436Z
UID:4708-1703007000-1703017800@wohnen-im-pennenfeld.de
SUMMARY:Kochen im Nachbarschaftstreff
DESCRIPTION:Lernen Sie nette Menschen kennen und haben Sie Spaß beim gemeinsamen Kochen! Wir kochen regionale Gerichte aus regionalen Zutaten und probieren auch die internationale Küche mit exotischen Zutaten.\nIn Kooperation mit der Gemeindepsychatrie Bonn-Rhein-Sieg\nTeilnehmerbeitrag: € 1\,50 pro Termin\nAnmeldung erforderlich. Bei Herrn Lee: 0151-121 84 230 oder bei Frank Wilbertz: 0228- 91 58 444\, info@wohnen-im-pennenfeld.de
URL:https://wohnen-im-pennenfeld.de/termine/kochen-im-nachbarschaftstreff-2/
LOCATION:Nachbarschaftstreff Pennenfeld\, Maidenheadstraße 20\, Bonn\, NRW\, 53177\, Deutschland
END:VEVENT
BEGIN:VEVENT
DTSTART;TZID=Europe/Berlin:20231219T150000
DTEND;TZID=Europe/Berlin:20231219T160000
DTSTAMP:20260423T085733
CREATED:20231204T152528Z
LAST-MODIFIED:20231212T152638Z
UID:4724-1702998000-1703001600@wohnen-im-pennenfeld.de
SUMMARY:Pennenfeld Clean Up!
DESCRIPTION:Gemeinsam sammeln wir Müll auf und belohnen uns anschließend dafür mit einem Kaffeeklatsch im Freien.\nGreifzangen\, Handschuhe und Müllsäcke sind vorhanden und warten auf ihren Einsatz.\nTreffen vor dem Nachbarschafstreff Pennenfeld\, Maidenheadstr. 20.\nInfos unter: 0228 22 74 24 41 oder petra.martischewski@t-online.de\nIn Kooperation mit dem Bürgerverein Buntes Pennenfeld e.V.
URL:https://wohnen-im-pennenfeld.de/termine/pennenfeld-clean-up-11/
LOCATION:Treffpunkt: Nachbarschaftstreff Pennenfeld\, Maidenheadstraße 20\, Bonn\, NRW\, 53177\, Deutschland
END:VEVENT
BEGIN:VEVENT
DTSTART;TZID=Europe/Berlin:20231215T150000
DTEND;TZID=Europe/Berlin:20231215T170000
DTSTAMP:20260423T085733
CREATED:20231204T151558Z
LAST-MODIFIED:20231212T151723Z
UID:4715-1702652400-1702659600@wohnen-im-pennenfeld.de
SUMMARY:Repair Café – Reparieren statt wegwerfen!
DESCRIPTION:In gemütlicher Atmosphäre unter fachkundiger Anleitung Elektrogeräte\, Möbelstücke etc. reparieren.\nKostenloses Angebot\, Spenden willkommen.\nAnmeldung/Terminvergabe: Frank Wilbertz: 0228 91 58 44 4
URL:https://wohnen-im-pennenfeld.de/termine/repair-cafe-reparieren-statt-wegwerfen-21/
LOCATION:Nachbarschaftstreff Pennenfeld\, Maidenheadstraße 20\, Bonn\, NRW\, 53177\, Deutschland
ORGANIZER;CN="Quartiersmanagement Pennenfeld":MAILTO:wilbertz@vebowag.de
END:VEVENT
BEGIN:VEVENT
DTSTART;TZID=Europe/Berlin:20231214T150000
DTEND;TZID=Europe/Berlin:20231214T150000
DTSTAMP:20260423T085733
CREATED:20231204T150901Z
LAST-MODIFIED:20231212T151320Z
UID:4713-1702566000-1702566000@wohnen-im-pennenfeld.de
SUMMARY:Adventssingen mit Kaffee und Kuchen
DESCRIPTION:Gemeinsam singen wir Advents- und Weihnachtslieder mit instrumentaler Begleitung. Bitte bringen Sie ein kleines Wichtelgeschenk im Wert von ca. 3-5 Euro für das gemeinsame Wichteln mit! \nTeilnehmerbeitrag: € 2\,50.\nInformation: Andreea Bretan 0228 22 74 24 41\, andreea.bretan@awo-badgodesberg.de
URL:https://wohnen-im-pennenfeld.de/termine/adventssingen-mit-kaffee-und-kuchen/
LOCATION:Nachbarschaftstreff Pennenfeld\, Maidenheadstraße 20\, Bonn\, NRW\, 53177\, Deutschland
ORGANIZER;CN="Quartiersmanagement Pennenfeld":MAILTO:wilbertz@vebowag.de
END:VEVENT
BEGIN:VEVENT
DTSTART;TZID=Europe/Berlin:20231210T100000
DTEND;TZID=Europe/Berlin:20231210T113000
DTSTAMP:20260423T085733
CREATED:20231204T153933Z
LAST-MODIFIED:20231212T154042Z
UID:4737-1702202400-1702207800@wohnen-im-pennenfeld.de
SUMMARY:Die Heilkraft der 12 Energiemeridiane
DESCRIPTION:In diesem Kurs erhalten Sie Einblick in die Grundlagen der traditionellen chinesischen Medizin (TCM). Inhalt sind die 12 Energiemeridiane und die fünf Phasen der Transformation. Auch werden Sie hilfreiche Atemübungen und Akkupressurpunkte kennenlernen.\nMaria di Gennaro (www.zen-shiatsu.it) unterrichtet in English (bei Bedarf auch in Spanisch und Italienisch). Der Kurs findet an 12 Terminen statt.\nTeilnehmerbeitrag: € 10\,- pro Termin Anmeldung: Andreea Bretan 0228-22 74 24 41\, andreea.bretan@awo-badgodesberg.de
URL:https://wohnen-im-pennenfeld.de/termine/die-heilkraft-der-12-energiemeridiane-2/
LOCATION:Nachbarschaftstreff Pennenfeld\, Maidenheadstraße 20\, Bonn\, NRW\, 53177\, Deutschland
ORGANIZER;CN="Quartiersmanagement Pennenfeld":MAILTO:wilbertz@vebowag.de
END:VEVENT
BEGIN:VEVENT
DTSTART;TZID=Europe/Berlin:20231208T100000
DTEND;TZID=Europe/Berlin:20231208T113000
DTSTAMP:20260423T085733
CREATED:20231204T153649Z
LAST-MODIFIED:20231212T153743Z
UID:4735-1702029600-1702035000@wohnen-im-pennenfeld.de
SUMMARY:Interkulturelles Frauenfrühstück
DESCRIPTION:Herzliche Einladung zu unserem interkulturellen Frauenfrühstück!\nBitte bringen Sie einen kleinen Beitrag zum gemeinsamen bunten Buffet mit. Die Veranstaltung ist kostenlos\, keine Anmeldung erforderlich.
URL:https://wohnen-im-pennenfeld.de/termine/interkulturelles-frauenfruehstueck-10/
LOCATION:Nachbarschaftstreff Pennenfeld\, Maidenheadstraße 20\, Bonn\, NRW\, 53177\, Deutschland
ORGANIZER;CN="Quartiersmanagement Pennenfeld":MAILTO:wilbertz@vebowag.de
END:VEVENT
BEGIN:VEVENT
DTSTART;TZID=Europe/Berlin:20231207T173000
DTEND;TZID=Europe/Berlin:20231207T203000
DTSTAMP:20260423T085733
CREATED:20231129T122015Z
LAST-MODIFIED:20231212T151522Z
UID:4705-1701970200-1701981000@wohnen-im-pennenfeld.de
SUMMARY:Kochen im Nachbarschaftstreff (Ausnahmnsweise am 7.12. und nicht am 5.12.2023)
DESCRIPTION:Lernen Sie nette Menschen kennen und haben Sie Spaß beim gemeinsamen Kochen! Wir kochen regionale Gerichte aus regionalen Zutaten und probieren auch die internationale Küche mit exotischen Zutaten.\nIn Kooperation mit der Gemeindepsychatrie Bonn-Rhein-Sieg\nTeilnehmerbeitrag: € 1\,50 pro Termin\nAnmeldung erforderlich. Bei Herrn Lee: 0151-121 84 230 oder bei Frank Wilbertz: 0228- 91 58 444\, info@wohnen-im-pennenfeld.de
URL:https://wohnen-im-pennenfeld.de/termine/kochen-im-nachbarschaftstreff-ausnahmnsweise-am-7-12-und-nicht-am-5-12-2023/
LOCATION:Nachbarschaftstreff Pennenfeld\, Maidenheadstraße 20\, Bonn\, NRW\, 53177\, Deutschland
END:VEVENT
END:VCALENDAR