﻿BEGIN:VCALENDAR
VERSION:2.0
PRODID:-//Pennenfeld - ECPv6.10.0//NONSGML v1.0//EN
CALSCALE:GREGORIAN
METHOD:PUBLISH
X-WR-CALNAME:Pennenfeld
X-ORIGINAL-URL:https://wohnen-im-pennenfeld.de
X-WR-CALDESC:Veranstaltungen für Pennenfeld
REFRESH-INTERVAL;VALUE=DURATION:PT1H
X-Robots-Tag:noindex
X-PUBLISHED-TTL:PT1H
BEGIN:VTIMEZONE
TZID:Europe/Berlin
BEGIN:DAYLIGHT
TZOFFSETFROM:+0100
TZOFFSETTO:+0200
TZNAME:CEST
DTSTART:20230326T010000
END:DAYLIGHT
BEGIN:STANDARD
TZOFFSETFROM:+0200
TZOFFSETTO:+0100
TZNAME:CET
DTSTART:20231029T010000
END:STANDARD
END:VTIMEZONE
BEGIN:VEVENT
DTSTART;TZID=Europe/Berlin:20230825T120000
DTEND;TZID=Europe/Berlin:20230825T120000
DTSTAMP:20260423T205809
CREATED:20230731T153321Z
LAST-MODIFIED:20230816T153431Z
UID:4423-1692964800-1692964800@wohnen-im-pennenfeld.de
SUMMARY:Mittagstisch
DESCRIPTION:Kostenbeitrag inkl. Nachtisch und Kaffee:  € 4\,- \nBitte melden Sie sich bis zum 22.8. verbindlich an: \nWilbertz: 0228  91 58 44 4
URL:https://wohnen-im-pennenfeld.de/termine/mittagstisch-4/
ORGANIZER;CN="Quartiersmanagement Pennenfeld":MAILTO:wilbertz@vebowag.de
END:VEVENT
BEGIN:VEVENT
DTSTART;TZID=Europe/Berlin:20230824T150000
DTEND;TZID=Europe/Berlin:20230824T170000
DTSTAMP:20260423T205809
CREATED:20230731T153019Z
LAST-MODIFIED:20230816T153243Z
UID:4421-1692889200-1692896400@wohnen-im-pennenfeld.de
SUMMARY:Spielenachmittag für Erwachsene - Doppelkopf und Rummi-Cup!
DESCRIPTION:Kostenloses Angebot\, Spenden willkommen.\n\n\n\n  \n 
URL:https://wohnen-im-pennenfeld.de/termine/spielenachmittag-fuer-erwachsene-doppelkopf-und-rummi-cup/2023-08-24/
LOCATION:Nachbarschaftstreff Pennenfeld\, Maidenheadstraße 20\, Bonn\, NRW\, 53177\, Deutschland
ORGANIZER;CN="Quartiersmanagement Pennenfeld":MAILTO:wilbertz@vebowag.de
END:VEVENT
BEGIN:VEVENT
DTSTART;TZID=Europe/Berlin:20230822T120000
DTEND;TZID=Europe/Berlin:20230822T143000
DTSTAMP:20260423T205809
CREATED:20230731T154033Z
LAST-MODIFIED:20230815T174207Z
UID:4357-1692705600-1692714600@wohnen-im-pennenfeld.de
SUMMARY:Verbraucher- und Umweltberatung der Verbraucherzentrale
DESCRIPTION:
URL:https://wohnen-im-pennenfeld.de/termine/verbraucher-und-umweltberatung-der-verbraucherzentrale-32/2023-08-22/
LOCATION:Nachbarschaftstreff Pennenfeld\, Maidenheadstraße 20\, Bonn\, NRW\, 53177\, Deutschland
END:VEVENT
BEGIN:VEVENT
DTSTART;TZID=Europe/Berlin:20230822T120000
DTEND;TZID=Europe/Berlin:20230822T143000
DTSTAMP:20260423T205809
CREATED:20230731T153451Z
LAST-MODIFIED:20230815T173611Z
UID:4347-1692705600-1692714600@wohnen-im-pennenfeld.de
SUMMARY:Die Rote Tonne öffnet Ihre Klappe für Elektrokleingeräte
DESCRIPTION:
URL:https://wohnen-im-pennenfeld.de/termine/die-rote-tonne-oeffnet-ihre-klappe-fuer-elektrokleingeraete-41/2023-08-22/
LOCATION:Nachbarschaftstreff Pennenfeld\, Maidenheadstraße 20\, Bonn\, NRW\, 53177\, Deutschland
END:VEVENT
BEGIN:VEVENT
DTSTART;TZID=Europe/Berlin:20230816T080000
DTEND;TZID=Europe/Berlin:20230816T170000
DTSTAMP:20260423T205809
CREATED:20230731T143418Z
LAST-MODIFIED:20230816T144102Z
UID:4417-1692172800-1692205200@wohnen-im-pennenfeld.de
SUMMARY:Repair Café - Reparieren statt wegwerfen!
DESCRIPTION:In gemütlicher Atmosphäre und unter fachkundiger Anleitung gemeinsam Elektrogeräte\, Möbelstücke etc. reparieren. \nKostenloses Angebot\, Spenden willkommen. \nbite mit Anmeldung/Terminvergabe: Frank Wilbertz: 0228 91 58 44 4 \n \n\n\n\n 
URL:https://wohnen-im-pennenfeld.de/termine/repair-cafe-reparieren-statt-wegwerfen-18/2023-08-16/
LOCATION:Nachbarschaftstreff Pennenfeld\, Maidenheadstraße 20\, Bonn\, NRW\, 53177\, Deutschland
ORGANIZER;CN="Quartiersmanagement Pennenfeld":MAILTO:wilbertz@vebowag.de
END:VEVENT
BEGIN:VEVENT
DTSTART;TZID=Europe/Berlin:20230815T160000
DTEND;TZID=Europe/Berlin:20230815T170000
DTSTAMP:20260423T205809
CREATED:20230731T170011Z
LAST-MODIFIED:20230815T180202Z
UID:4408-1692115200-1692118800@wohnen-im-pennenfeld.de
SUMMARY:Pennenfeld Clean Up!  
DESCRIPTION:Gemeinsam sammeln wir Müll auf und belohnen uns anschließend dafür mit einem Kaffeeklatsch im Freien.  \nGreifzangen\, Handschuhe und Müllsäcke sind vorhanden und warten auf ihren Einsatz. \nTreffen vor dem Nachbarschafstreff Pennenfeld\, \nMaidenheadstr. 20. \nInfos unter: 0228 22 74 24 41 oder petra.martischewski@t-online.de \nIn Kooperation mit dem Bürgerverein Buntes Pennenfeld e.V. 
URL:https://wohnen-im-pennenfeld.de/termine/pennenfeld-clean-up-8/2023-08-15/
LOCATION:Nachbarschaftstreff Pennenfeld\, Maidenheadstraße 20\, Bonn\, NRW\, 53177\, Deutschland
END:VEVENT
BEGIN:VEVENT
DTSTART;TZID=Europe/Berlin:20230810T150000
DTEND;TZID=Europe/Berlin:20230810T170000
DTSTAMP:20260423T205809
CREATED:20230731T175437Z
LAST-MODIFIED:20230815T175717Z
UID:4392-1691679600-1691686800@wohnen-im-pennenfeld.de
SUMMARY:Gesangsnachmittag mit Kaffee und Kuchen 
DESCRIPTION:Gemeinsam singen wir Lieder quer durch das deutsche Liederbuch Teilnehmerbeitrag: € 2\,50.\n\n\n\nInformation: Nadine Schwarz-Kühle 0228 22 74 24 41\, nadine.kuehle@awo-badgodesberg.de
URL:https://wohnen-im-pennenfeld.de/termine/gesangsnachmittag-mit-kaffee-und-kuchen-3/2023-08-10/
LOCATION:Nachbarschaftstreff Pennenfeld\, Maidenheadstraße 20\, Bonn\, NRW\, 53177\, Deutschland
ORGANIZER;CN="Quartiersmanagement Pennenfeld":MAILTO:wilbertz@vebowag.de
END:VEVENT
BEGIN:VEVENT
DTSTART;TZID=Europe/Berlin:20230810T103000
DTEND;TZID=Europe/Berlin:20230810T113000
DTSTAMP:20260423T205809
CREATED:20230731T174937Z
LAST-MODIFIED:20230815T175157Z
UID:4370-1691663400-1691667000@wohnen-im-pennenfeld.de
SUMMARY:Fitness für Körper und Geist - Bewegungsangebot für Seniorinnen und Senioren
DESCRIPTION:Wir bieten an: Gymnastik im Sitzen und Stehen mit Übungen aus dem Ganzheitlichen Gehirntraining (GGT)\, Wahrnehmungs-\, Konzentrations-\, Koordinationsübungen\, Gleichgewichts- und Training von Alltagskompetenzen\, bei gutem Wetter nutzen wir den Outdoor-Fitnesspark. Leitung: Martina Weiß-Bischoff\, AlterAktiv \nKosten: 40\,- Euro für acht Termine\, Kurs 3.8. – 21.9. 2023\n\n\n\nBitte melden Sie sich an unter: 0228 22 74 24 41 oder nadine.kuehle@awo-badgodesberg.de 
URL:https://wohnen-im-pennenfeld.de/termine/fitness-fuer-koerper-und-geist-bewegungsangebot-fuer-seniorinnen-und-senioren-20/2023-08-10/
LOCATION:Nachbarschaftstreff Pennenfeld\, Maidenheadstraße 20\, Bonn\, NRW\, 53177\, Deutschland
ORGANIZER;CN="Quartiersmanagement Pennenfeld":MAILTO:wilbertz@vebowag.de
END:VEVENT
BEGIN:VEVENT
DTSTART;TZID=Europe/Berlin:20230809T180000
DTEND;TZID=Europe/Berlin:20230809T190000
DTSTAMP:20260423T205809
CREATED:20230731T170619Z
LAST-MODIFIED:20230815T180839Z
UID:4413-1691604000-1691607600@wohnen-im-pennenfeld.de
SUMMARY:Tai Chi & Qi Gong 
DESCRIPTION:Maria di Gennaro (www.zen-shiatsu.it)\, eine Perle der Qi Gong-Kunst\, ist in Deutschland\, um ihr Wissen weiterzugeben. Sie unterrichtet auf Italienisch und Spanisch mit Übersetzung ins Deutsche. Teilnehmerbeitrag: € 4\,- pro Termin.\n\n\n\nAnmeldung: nadine.kuehle@awo-badgodesberg.de oder Nadine Schwarz-Kühle: 0228 22 74 24 41 
URL:https://wohnen-im-pennenfeld.de/termine/tai-chi-qi-gong-5/2023-08-09/
LOCATION:Nachbarschaftstreff Pennenfeld\, Maidenheadstraße 20\, Bonn\, NRW\, 53177\, Deutschland
ORGANIZER;CN="Quartiersmanagement Pennenfeld":MAILTO:wilbertz@vebowag.de
END:VEVENT
BEGIN:VEVENT
DTSTART;TZID=Europe/Berlin:20230805T083000
DTEND;TZID=Europe/Berlin:20230805T093000
DTSTAMP:20260423T205809
CREATED:20230731T170244Z
LAST-MODIFIED:20230815T180543Z
UID:4410-1691224200-1691227800@wohnen-im-pennenfeld.de
SUMMARY:Tai Chi & Qi Gong 
DESCRIPTION:Maria di Gennaro (www.zen-shiatsu.it)\, eine Perle der Qi Gong-Kunst\, ist in Deutschland\, um ihr Wissen weiterzugeben. Sie unterrichtet auf Italienisch und Spanisch mit Übersetzung ins Deutsche. Teilnehmerbeitrag: € 4\,- pro Termin.\n\n\n\nAnmeldung: nadine.kuehle@awo-badgodesberg.de oder Nadine Schwarz-Kühle: 0228 22 74 24 41 
URL:https://wohnen-im-pennenfeld.de/termine/tai-chi-qi-gong-4/2023-08-05/
LOCATION:Nachbarschaftstreff Pennenfeld\, Maidenheadstraße 20\, Bonn\, NRW\, 53177\, Deutschland
ORGANIZER;CN="Quartiersmanagement Pennenfeld":MAILTO:wilbertz@vebowag.de
END:VEVENT
BEGIN:VEVENT
DTSTART;TZID=Europe/Berlin:20230803T180000
DTEND;TZID=Europe/Berlin:20230803T200000
DTSTAMP:20260423T205809
CREATED:20230731T164307Z
LAST-MODIFIED:20230815T174538Z
UID:4364-1691085600-1691092800@wohnen-im-pennenfeld.de
SUMMARY:LU JONG-Tibetisches Heilyoga 
DESCRIPTION:Kennenlernabend  \nWoher kommt LU JONG? – Kurze Einführung in die Bön-Tradition\,\nHintergründe zur Wirkung und Entstehungsgeschichte. Was ist die Besonderheit dieser tibetischen Yogaform?\nPraktische Anleitung der 5 Grundübungen.\nDie Lu Jong Praxis ist für alle Altersgruppen geeignet\, unabhängig von den eigenen körperlichen Möglichkeiten. Die Übungen sind einfach und sehr wirkungsvoll. Teilnehmerbeitrag: € 10\,- \nBitte melden Sie sich bis zum 3.8.\, 10 Uhr an bei:  \nNadine Schwarz-Kühle: 0228 22 74 24 41 oder \nnadine.kuehle@awo-badgodesberg.de \nKursleitung: Andrea Tüttelmann – Dharma Tara\, Buddhistisch-tibetische Lehrerin\, Buddhistisch psychologische Coachin \nKontakt: 0173 3236051\, www.dharmatara.de \n 
URL:https://wohnen-im-pennenfeld.de/termine/lu-jong-tibetisches-heilyoga/
LOCATION:Nachbarschaftstreff Pennenfeld\, Maidenheadstraße 20\, Bonn\, NRW\, 53177\, Deutschland
ORGANIZER;CN="Quartiersmanagement Pennenfeld":MAILTO:wilbertz@vebowag.de
END:VEVENT
BEGIN:VEVENT
DTSTART;TZID=Europe/Berlin:20230803T160000
DTEND;TZID=Europe/Berlin:20230803T173000
DTSTAMP:20260423T205809
CREATED:20230731T151649Z
LAST-MODIFIED:20230815T172102Z
UID:4295-1691078400-1691083800@wohnen-im-pennenfeld.de
SUMMARY:Boule-Turnier auf dem Boule-Platz an der Frascatistraße 15 
DESCRIPTION:Das Turnier geht über drei Monate hinweg\, weitere Termine sind: \nFür die ersten drei Plätze gibt es tolle Preise zu gewinnen! \nBitte melden Sie sich an unter: \nWilbertz: 0228 91 58 44 4 oder wohnen-im-pennenfeld.de.\n\n\n\nIn Kooperation mit dem Bürgerverein Buntes Pennenfeld e.V. 
URL:https://wohnen-im-pennenfeld.de/termine/boule-turnier-auf-dem-boule-platz-an-der-frascatistrasse-15/2023-08-03/
END:VEVENT
BEGIN:VEVENT
DTSTART;TZID=Europe/Berlin:20230803T113000
DTEND;TZID=Europe/Berlin:20230803T123000
DTSTAMP:20260423T205809
CREATED:20230731T164754Z
LAST-MODIFIED:20230815T174916Z
UID:4368-1691062200-1691065800@wohnen-im-pennenfeld.de
SUMMARY:Neuer Kursstart:   Fitness für Körper und Geist - Bewegungsangebot für Seniorinnen und Senioren 
DESCRIPTION:Wir bieten an: Gymnastik im Sitzen und Stehen mit Übungen aus dem Ganzheitlichen Gehirntraining (GGT)\, Wahrnehmungs-\, Konzentrations-\, Koordinationsübungen\, Gleichgewichts- und Training von Alltagskompetenzen\, bei gutem Wetter nutzen wir den Outdoor-Fitnesspark. Leitung: Martina Weiß-Bischoff\, AlterAktiv \nKosten: 40\,- Euro für acht Termine\, der Kurs beginnt am 3.8. und endet am 21.9.\n\n\n\nBitte melden Sie sich an unter: 0228 22 74 24 41 oder nadine.kuehle@awo-badgodesberg.de 
URL:https://wohnen-im-pennenfeld.de/termine/neuer-kursstart-fitness-fuer-koerper-und-geist-bewegungsangebot-fuer-seniorinnen-und-senioren-2/
LOCATION:Nachbarschaftstreff Pennenfeld\, Maidenheadstraße 20\, Bonn\, NRW\, 53177\, Deutschland
ORGANIZER;CN="Quartiersmanagement Pennenfeld":MAILTO:wilbertz@vebowag.de
END:VEVENT
BEGIN:VEVENT
DTSTART;TZID=Europe/Berlin:20230803T103000
DTEND;TZID=Europe/Berlin:20230803T113000
DTSTAMP:20260423T205809
CREATED:20230731T174629Z
LAST-MODIFIED:20230815T174745Z
UID:4366-1691058600-1691062200@wohnen-im-pennenfeld.de
SUMMARY:Neuer Kursstart:   Fitness für Körper und Geist - Bewegungsangebot für Seniorinnen und Senioren 
DESCRIPTION:Wir bieten an: Gymnastik im Sitzen und Stehen mit Übungen aus dem Ganzheitlichen Gehirntraining (GGT)\, Wahrnehmungs-\, Konzentrations-\, Koordinationsübungen\, Gleichgewichts- und Training von Alltagskompetenzen\, bei gutem Wetter nutzen wir den Outdoor-Fitnesspark. Leitung: Martina Weiß-Bischoff\, AlterAktiv \nKosten: 40\,- Euro für acht Termine\, der Kurs beginnt am 3.8. und endet am 21.9.\n\n\n\nBitte melden Sie sich an unter: 0228 22 74 24 41 oder nadine.kuehle@awo-badgodesberg.de 
URL:https://wohnen-im-pennenfeld.de/termine/neuer-kursstart-fitness-fuer-koerper-und-geist-bewegungsangebot-fuer-seniorinnen-und-senioren/
LOCATION:Nachbarschaftstreff Pennenfeld\, Maidenheadstraße 20\, Bonn\, NRW\, 53177\, Deutschland
ORGANIZER;CN="Quartiersmanagement Pennenfeld":MAILTO:wilbertz@vebowag.de
END:VEVENT
BEGIN:VEVENT
DTSTART;TZID=Europe/Berlin:20230801T120000
DTEND;TZID=Europe/Berlin:20230801T143000
DTSTAMP:20260423T205809
CREATED:20230731T153909Z
LAST-MODIFIED:20230815T174023Z
UID:4354-1690891200-1690900200@wohnen-im-pennenfeld.de
SUMMARY:Verbraucher- und Umweltberatung der Verbraucherzentrale
DESCRIPTION:
URL:https://wohnen-im-pennenfeld.de/termine/verbraucher-und-umweltberatung-der-verbraucherzentrale-31/
LOCATION:Nachbarschaftstreff Pennenfeld\, Maidenheadstraße 20\, Bonn\, NRW\, 53177\, Deutschland
END:VEVENT
BEGIN:VEVENT
DTSTART;TZID=Europe/Berlin:20230801T120000
DTEND;TZID=Europe/Berlin:20230801T143000
DTSTAMP:20260423T205809
CREATED:20230731T152842Z
LAST-MODIFIED:20230815T173820Z
UID:4345-1690891200-1690900200@wohnen-im-pennenfeld.de
SUMMARY:Die Rote Tonne öffnet Ihre Klappe für Elektrokleingeräte
DESCRIPTION:
URL:https://wohnen-im-pennenfeld.de/termine/die-rote-tonne-oeffnet-ihre-klappe-fuer-elektrokleingeraete-40/2023-08-01/
LOCATION:Nachbarschaftstreff Pennenfeld\, Maidenheadstraße 20\, Bonn\, NRW\, 53177\, Deutschland
END:VEVENT
BEGIN:VEVENT
DTSTART;TZID=Europe/Berlin:20230718T150000
DTEND;TZID=Europe/Berlin:20230718T160000
DTSTAMP:20260423T205809
CREATED:20230630T141523Z
LAST-MODIFIED:20230630T141832Z
UID:4244-1689692400-1689696000@wohnen-im-pennenfeld.de
SUMMARY:Pennenfeld Clean Up!
DESCRIPTION:Gemeinsam sammeln wir Müll auf und belohnen uns anschließend dafür mit einem Kaffeeklatsch.\nGreifzangen\, Handschuhe und Müllsäcke sind vorhanden und warten auf ihren Einsatz.
URL:https://wohnen-im-pennenfeld.de/termine/pennenfeld-clean-up-achtung-geaenderte-zeiten-jetzt-von-15-16-uhr-20-juni-1500-1600-wiederkehrende-veranstaltung/
LOCATION:Treffpunkt: Nachbarschaftstreff Pennenfeld\, Maidenheadstraße 20\, Bonn\, NRW\, 53177\, Deutschland
ORGANIZER;CN="Quartiersmanagement Pennenfeld":MAILTO:wilbertz@vebowag.de
END:VEVENT
BEGIN:VEVENT
DTSTART;TZID=Europe/Berlin:20230713T180000
DTEND;TZID=Europe/Berlin:20230713T200000
DTSTAMP:20260423T205809
CREATED:20230630T134846Z
LAST-MODIFIED:20230630T134846Z
UID:4202-1689271200-1689278400@wohnen-im-pennenfeld.de
SUMMARY:Einführung in den Buddhismus
DESCRIPTION:In unserem schnelllebigen westlichen Leben sind wir ständig von Sorgen\, Problemen und Ängsten umgeben. Aber warum ist es so? Obwohl sich jeder von uns sich nach Glück\, Harmonie\nund Frieden sehnt\, finden wir dies nur selten. Wir denken immer\, dass die Probleme von außen auf uns prasseln\, die buddhistische Lehren zeigen uns andere Denkweisen.\nDie alten Weisheiten\, beruhend auf Buddhas Lehren\, zeigen uns Wege und Methoden\, wie wir mit unserem Geist umgehen können\, so dass wir ein glückliches\, friedvolles Leben führen.\n„Wir sind\, was wir denken. Mit unseren Gedanken schaffen wir die Welt“.\nAndrea Tüttelmann – Dharma Tara\, Buddhistisch-tibetische Lehrerin\,\nBuddhistisch psychologische Coachin\nKontakt: 0173 3236051\, www.darmatara.de
URL:https://wohnen-im-pennenfeld.de/termine/einfuehrung-in-den-buddhismus/
LOCATION:Nachbarschaftstreff Pennenfeld\, Maidenheadstraße 20\, Bonn\, NRW\, 53177\, Deutschland
ORGANIZER;CN="Quartiersmanagement Pennenfeld":MAILTO:wilbertz@vebowag.de
END:VEVENT
BEGIN:VEVENT
DTSTART;TZID=Europe/Berlin:20230713T150000
DTEND;TZID=Europe/Berlin:20230713T170000
DTSTAMP:20260423T205809
CREATED:20230630T142539Z
LAST-MODIFIED:20230630T142615Z
UID:4252-1689260400-1689267600@wohnen-im-pennenfeld.de
SUMMARY:Gesangsnachmittag mit Kaffee und Kuchen
DESCRIPTION:Gemeinsam singen wir Lieder quer durch das Deutsche Liederbuch und werden von Akkordeon-\, Mandoline und Mundharmonika begleitet.\nLeitung: Frau Dr. M. KnüplingInformation: Nadine Schwarz-Kühle 0228 22 74 24 41\,\nnadine.kuehle@awo-badgodesberg.de
URL:https://wohnen-im-pennenfeld.de/termine/gesangsnachmittag-mit-kaffee-und-kuchen-2/
LOCATION:Nachbarschaftstreff Pennenfeld\, Maidenheadstraße 20\, Bonn\, NRW\, 53177\, Deutschland
ORGANIZER;CN="Quartiersmanagement Pennenfeld":MAILTO:wilbertz@vebowag.de
END:VEVENT
BEGIN:VEVENT
DTSTART;TZID=Europe/Berlin:20230712T180000
DTEND;TZID=Europe/Berlin:20230712T180000
DTSTAMP:20260423T205809
CREATED:20230630T134344Z
LAST-MODIFIED:20230630T134344Z
UID:4196-1689184800-1689184800@wohnen-im-pennenfeld.de
SUMMARY:Tai Chi\, Qi Gong
DESCRIPTION:Übungen im Stehen und Sitzen zur Verbesserung und Erhaltung der Gesundheit. Hier lernen Sie\, Ihre Lebensenergie zu steigern\, den Körper zu verjüngen\, den Geist zu zentrieren und die Emotionen fließen zu lassen.\nMaria di Gennaro (www.zen-shiatsu.it)\, eine Perle der Qi Gong-Kunst\, ist in Deutschland\, um ihr Wissen weiterzugeben. Sie unterrichtet auf Italienisch und Spanisch mit Übersetzung ins Deutsche.\nDer Kurs findet jeden 2. und 4. Mittwoch eines Monats statt. Teilnehmerbeitrag: € 4\,- pro Termin.\nAnmeldung: nadine.kuehle@awo-badgodesberg.de oder Nadine Schwarz-Kühle: 0228 22 74 24 41
URL:https://wohnen-im-pennenfeld.de/termine/tai-chi-qi-gong-3/2023-07-12/
LOCATION:Nachbarschaftstreff Pennenfeld\, Maidenheadstraße 20\, Bonn\, NRW\, 53177\, Deutschland
ORGANIZER;CN="Quartiersmanagement Pennenfeld":MAILTO:wilbertz@vebowag.de
END:VEVENT
BEGIN:VEVENT
DTSTART;TZID=Europe/Berlin:20230708T083000
DTEND;TZID=Europe/Berlin:20230708T093000
DTSTAMP:20260423T205809
CREATED:20230630T134004Z
LAST-MODIFIED:20230630T134623Z
UID:4192-1688805000-1688808600@wohnen-im-pennenfeld.de
SUMMARY:Tai Chi\, Qi Gong
DESCRIPTION:Übungen im Stehen und Sitzen zur Verbesserung und Erhaltung der Gesundheit. Hier lernen Sie\, Ihre Lebensenergie zu steigern\, den Körper zu verjüngen\, den Geist zu zentrieren und die Emotionen fließen zu lassen.\nMaria di Gennaro (www.zen-shiatsu.it)\, eine Perle der Qi Gong-Kunst\, ist in Deutschland\, um ihr Wissen weiterzugeben. Sie unterrichtet auf Italienisch und Spanisch mit Übersetzung ins Deutsche.\nDer Kurs findet jeden 2. und 4. Mittwoch eines Monats statt. Teilnehmerbeitrag: € 4\,- pro Termin.\nAnmeldung: nadine.kuehle@awo-badgodesberg.de oder Nadine Schwarz-Kühle: 0228 22 74 24 41
URL:https://wohnen-im-pennenfeld.de/termine/tai-chi-qi-gong-2/2023-07-08/
LOCATION:Nachbarschaftstreff Pennenfeld\, Maidenheadstraße 20\, Bonn\, NRW\, 53177\, Deutschland
ORGANIZER;CN="Quartiersmanagement Pennenfeld":MAILTO:wilbertz@vebowag.de
END:VEVENT
BEGIN:VEVENT
DTSTART;TZID=Europe/Berlin:20230620T150000
DTEND;TZID=Europe/Berlin:20230620T170000
DTSTAMP:20260423T205809
CREATED:20230303T110658Z
LAST-MODIFIED:20230601T192342Z
UID:3946-1687273200-1687280400@wohnen-im-pennenfeld.de
SUMMARY:AUSNAHMSWEISE AM DRITTEN DIENSTAG: Gesangsnachmittag mit Kaffee und Kuchen und Demenzbetreuung
DESCRIPTION:Gemeinsam singen wir Lieder quer durch das Deutsche Liederbuch\nund werden von Akkordeon-\, Mandoline und Mundharmonika\nbegleitet.\nBesonders möchten wir heute Angehörige mit demenziell\nveränderten Menschen einladen. Eine ehrenamtliche Helferin ist an\ndem Tag dafür da\, Ihre/n Angehörige/n zu betreuen und auf\nseine/ihre speziellen Bedürfnisse einzugehen\, um Sie zu entlasten.\nInformation: Nadine Schwarz-Kühle 0228 22 74 24 41\,\nnadine.kuehle@awo-badgodesberg.de\nLeitung: Frau Dr. M. Knüpling. Teilnehmerbeitrag: € 2\,50.
URL:https://wohnen-im-pennenfeld.de/termine/gesangsnachmittag-mit-kaffee-und-kuchen-und-demenzbetreuung-2023-06-08/
LOCATION:Nachbarschaftstreff Pennenfeld\, Maidenheadstraße 20\, Bonn\, NRW\, 53177\, Deutschland
ORGANIZER;CN="Quartiersmanagement Pennenfeld":MAILTO:wilbertz@vebowag.de
END:VEVENT
BEGIN:VEVENT
DTSTART;TZID=Europe/Berlin:20230615T170000
DTEND;TZID=Europe/Berlin:20230615T183000
DTSTAMP:20260423T205809
CREATED:20230526T181709Z
LAST-MODIFIED:20230601T191946Z
UID:4155-1686848400-1686853800@wohnen-im-pennenfeld.de
SUMMARY:Bad Godesberger Bürgerdialog "Herzenssprechstunde"
DESCRIPTION:
URL:https://wohnen-im-pennenfeld.de/termine/bad-godesberger-buergerdialog-herzenssprechstunde/
LOCATION:ev. Johanneskirche\, Zanderstraße 51\, Bonn\, NRW\, 53177
END:VEVENT
BEGIN:VEVENT
DTSTART;TZID=Europe/Berlin:20230615T150000
DTEND;TZID=Europe/Berlin:20230615T150000
DTSTAMP:20260423T205809
CREATED:20230602T122040Z
LAST-MODIFIED:20230614T182301Z
UID:4181-1686841200-1686841200@wohnen-im-pennenfeld.de
SUMMARY:Kreativ Werkstatt für Jung und Alt!
DESCRIPTION:Diesmal:
URL:https://wohnen-im-pennenfeld.de/termine/kreativ-werkstatt-fuer-jung-und-alt-2/
LOCATION:Nachbarschaftstreff Pennenfeld\, Maidenheadstraße 20\, Bonn\, NRW\, 53177\, Deutschland
ORGANIZER;CN="Quartiersmanagement Pennenfeld":MAILTO:wilbertz@vebowag.de
END:VEVENT
BEGIN:VEVENT
DTSTART;TZID=Europe/Berlin:20230604T120000
DTEND;TZID=Europe/Berlin:20230604T170000
DTSTAMP:20260423T205809
CREATED:20230524T160959Z
LAST-MODIFIED:20230602T161407Z
UID:4164-1685880000-1685898000@wohnen-im-pennenfeld.de
SUMMARY:Offene Gartenpforte in der Naturinsel und im PikoPark
DESCRIPTION:Gartenbesichtigung bei Kaffee und Kuchen \nNaturinsel Pennenfeld \nEin Garten der Begegnung für Demenzkranke und ihre Nachbarn. Zu den Besonderheiten unseres Naturgartens gehört\, dass wir ohne Gift gärtnern und solchen Pflanzen den Vorrang einräumen\, die hier heimisch sind\, aber in der Natur immer weniger vorkommen. Daher wurden vor allem Wildstauden ausgesät bzw. gepflanzt. \nsiehe auch: Offene Gartenpforte – Naturinsel Pennenfeld \nPikoPark Pennenfeld – Treffpunkt Vielfalt \nEin Erholungs- und Begegnungsort im Wohnquartier. Die heimischen Sträucher\, Bäume und Blumen fördern die Artenvielfalt vor der Haustüre. \nIm Nachbarschaftstreff\, auf der dazugehörigen Terrasse und im Gartengelände gibt es zahlreiche Sitzmöglichkeiten. \nsiehe auch: Offene Gartenpforte – PikoPark Pennenfeld
URL:https://wohnen-im-pennenfeld.de/termine/offene-gartenpforte-in-der-naturinsel-pennenfeld-und-im-pikopark-pennenfeld/
LOCATION:PikoPark Pennenfeld und Naturinsel Pennenfeld
END:VEVENT
BEGIN:VEVENT
DTSTART;TZID=Europe/Berlin:20230513T120000
DTEND;TZID=Europe/Berlin:20230513T120000
DTSTAMP:20260423T205809
CREATED:20230502T150907Z
LAST-MODIFIED:20230508T152733Z
UID:4119-1683979200-1683979200@wohnen-im-pennenfeld.de
SUMMARY:Offene Gartenpforte in der Naturinsel und im PikoPark 
DESCRIPTION:Gartenbesichtigung bei Kaffee und Kuchen \nNaturinsel Pennenfeld \nEin Garten der Begegnung für Demenzkranke und ihre Nachbarn. Zu den Besonderheiten unseres Naturgartens gehört\, dass wir ohne Gift gärtnern und solchen Pflanzen den Vorrang einräumen\, die hier heimisch sind\, aber in der Natur immer weniger vorkommen. Daher wurden vor allem Wildstauden ausgesät bzw. gepflanzt. \nsiehe auch: Offene Gartenpforte – Naturinsel Pennenfeld \nPikoPark Pennenfeld – Treffpunkt Vielfalt \nEin Erholungs- und Begegnungsort im Wohnquartier. Die heimischen Sträucher\, Bäume und Blumen fördern die Artenvielfalt vor der Haustüre. \nIm Nachbarschaftstreff\, auf der dazugehörigen Terrasse und im Gartengelände gibt es zahlreiche Sitzmöglichkeiten. \nsiehe auch: Offene Gartenpforte – PikoPark Pennenfeld \n\n 
URL:https://wohnen-im-pennenfeld.de/termine/offene-gartenpforte-in-der-naturinsel-und-im-pikopark/
LOCATION:PikoPark Pennenfeld und Naturinsel Pennenfeld
END:VEVENT
BEGIN:VEVENT
DTSTART;TZID=Europe/Berlin:20230509T110000
DTEND;TZID=Europe/Berlin:20230509T110000
DTSTAMP:20260423T205809
CREATED:20230426T125230Z
LAST-MODIFIED:20230815T172752Z
UID:4302-1683630000-1683630000@wohnen-im-pennenfeld.de
SUMMARY:Lebensmittelausgabe im Nachbarschaftstreff Pennenfeld
DESCRIPTION: 
URL:https://wohnen-im-pennenfeld.de/termine/lebensmittelausgabe-im-nachbarschaftstreff-pennenfeld-48/2023-05-09/
LOCATION:Nachbarschaftstreff Pennenfeld\, Maidenheadstraße 20\, Bonn\, NRW\, 53177\, Deutschland
ORGANIZER;CN="Quartiersmanagement Pennenfeld":MAILTO:wilbertz@vebowag.de
END:VEVENT
BEGIN:VEVENT
DTSTART;TZID=Europe/Berlin:20230506T110000
DTEND;TZID=Europe/Berlin:20230506T170000
DTSTAMP:20260423T205809
CREATED:20230417T150203Z
LAST-MODIFIED:20230508T150857Z
UID:4115-1683370800-1683392400@wohnen-im-pennenfeld.de
SUMMARY:12. Pennenfelder Sommerfest
DESCRIPTION:Buntes Bühnenprogramm – essen\, trinken\, Spaß und Spiel für alt & jung!  \nIn der Max-Plank-Straße rund um die Geschäfte
URL:https://wohnen-im-pennenfeld.de/termine/12-pennenfelder-sommerfest/
LOCATION:Max-Planck-Straße\, Straßenabschnitt 1-15\, Max-Planck-Straße 1-15\, Bonn\, NRW\, 53177\, Deutschland
END:VEVENT
BEGIN:VEVENT
DTSTART;TZID=Europe/Berlin:20230428T120000
DTEND;TZID=Europe/Berlin:20230428T120000
DTSTAMP:20260423T205809
CREATED:20230331T131740Z
LAST-MODIFIED:20230630T144809Z
UID:4052-1682683200-1682683200@wohnen-im-pennenfeld.de
SUMMARY:Mittagstisch
DESCRIPTION:Kostenbeitrag inkl. Nachtisch und Kaffee: € 4\,-\nBitte melden Sie sich bis zum 26.4. verbindlich an:\nSchwarz-Kühle: 0228 22 74 24 41
URL:https://wohnen-im-pennenfeld.de/termine/mittagstisch-3/2023-04-28/
LOCATION:Nachbarschaftstreff Pennenfeld\, Maidenheadstraße 20\, Bonn\, NRW\, 53177\, Deutschland
ORGANIZER;CN="Quartiersmanagement Pennenfeld":MAILTO:wilbertz@vebowag.de
END:VEVENT
BEGIN:VEVENT
DTSTART;TZID=Europe/Berlin:20230427T150000
DTEND;TZID=Europe/Berlin:20230427T170000
DTSTAMP:20260423T205809
CREATED:20230331T131520Z
LAST-MODIFIED:20230404T171619Z
UID:4050-1682607600-1682614800@wohnen-im-pennenfeld.de
SUMMARY:Spielenachmittag und Doppelkopf-Runde!
DESCRIPTION:Jede/r Interessierte ist herzlich willkommen\, die Würfel mit uns rollen und die Karten fliegen zu lassen. Spenden willkommen.\nKeine Anmeldung erforderlich.
URL:https://wohnen-im-pennenfeld.de/termine/spielenachmittag-und-doppelkopf-runde-2/
LOCATION:Nachbarschaftstreff Pennenfeld\, Maidenheadstraße 20\, Bonn\, NRW\, 53177\, Deutschland
ORGANIZER;CN="Quartiersmanagement Pennenfeld":MAILTO:wilbertz@vebowag.de
END:VEVENT
END:VCALENDAR