﻿BEGIN:VCALENDAR
VERSION:2.0
PRODID:-//Pennenfeld - ECPv6.10.0//NONSGML v1.0//EN
CALSCALE:GREGORIAN
METHOD:PUBLISH
X-WR-CALNAME:Pennenfeld
X-ORIGINAL-URL:https://wohnen-im-pennenfeld.de
X-WR-CALDESC:Veranstaltungen für Pennenfeld
REFRESH-INTERVAL;VALUE=DURATION:PT1H
X-Robots-Tag:noindex
X-PUBLISHED-TTL:PT1H
BEGIN:VTIMEZONE
TZID:Europe/Berlin
BEGIN:DAYLIGHT
TZOFFSETFROM:+0100
TZOFFSETTO:+0200
TZNAME:CEST
DTSTART:20230326T010000
END:DAYLIGHT
BEGIN:STANDARD
TZOFFSETFROM:+0200
TZOFFSETTO:+0100
TZNAME:CET
DTSTART:20231029T010000
END:STANDARD
END:VTIMEZONE
BEGIN:VEVENT
DTSTART;TZID=Europe/Berlin:20230217T150000
DTEND;TZID=Europe/Berlin:20230217T170000
DTSTAMP:20260424T061327
CREATED:20230206T091305Z
LAST-MODIFIED:20230215T161420Z
UID:3807-1676646000-1676653200@wohnen-im-pennenfeld.de
SUMMARY:Repair Café – Reparieren statt wegwerfen!
DESCRIPTION:In gemütlicher Atmosphäre unter fachkundiger Anleitung Elektrogeräte\, Möbelstücke etc. reparieren.\nKostenloses Angebot\, Spenden willkommen.\nAnmeldung/Terminvergabe: Frank Wilbertz: 0228 91 58 44 4
URL:https://wohnen-im-pennenfeld.de/termine/repair-cafe-reparieren-statt-wegwerfen-16/
LOCATION:Nachbarschaftstreff Pennenfeld\, Maidenheadstraße 20\, Bonn\, NRW\, 53177\, Deutschland
ORGANIZER;CN="Quartiersmanagement Pennenfeld":MAILTO:wilbertz@vebowag.de
END:VEVENT
BEGIN:VEVENT
DTSTART;TZID=Europe/Berlin:20230216T150000
DTEND;TZID=Europe/Berlin:20230216T150000
DTSTAMP:20260424T061327
CREATED:20230130T092606Z
LAST-MODIFIED:20230215T170957Z
UID:3818-1676559600-1676559600@wohnen-im-pennenfeld.de
SUMMARY:Kreativwerkstatt - FÄLLT LEIDER AUS!     Start nun am 16.3.2023
DESCRIPTION:Wir malen\, bauen\, basteln und gestalten mit Papier\, Wachs\, Ton\, Holz\, Stoff u.v.m.. Eigene Ideen können gerne mitgebracht werden! Teilnehmerbeitrag. € 3 \,-. Regelmäßig jeden 3. Donnerstag eines Monats. Bitte melden Sie sich an: laura.krebs@caritas-bonn.de\, Tel.: 0228 22 74 24 41 \n \n 
URL:https://wohnen-im-pennenfeld.de/termine/kreativwerkstatt/
LOCATION:Nachbarschaftstreff Pennenfeld\, Maidenheadstraße 20\, Bonn\, NRW\, 53177\, Deutschland
ORGANIZER;CN="Quartiersmanagement Pennenfeld":MAILTO:wilbertz@vebowag.de
END:VEVENT
BEGIN:VEVENT
DTSTART;TZID=Europe/Berlin:20230215T160000
DTEND;TZID=Europe/Berlin:20230215T170000
DTSTAMP:20260424T061327
CREATED:20230206T091532Z
LAST-MODIFIED:20230306T171933Z
UID:3809-1676476800-1676480400@wohnen-im-pennenfeld.de
SUMMARY:Pennenfeld Clean Up!
DESCRIPTION:Gemeinsam sammeln wir Müll auf und belohnen uns anschließend dafür mit einem Kaffeeklatsch im Warmen.\nGreifzangen\, Handschuhe und Müllsäcke sind vorhanden und warten auf ihren Einsatz.
URL:https://wohnen-im-pennenfeld.de/termine/pennenfeld-clean-up-6/
LOCATION:Treffpunkt: Nachbarschaftstreff Pennenfeld\, Maidenheadstraße 20\, Bonn\, NRW\, 53177\, Deutschland
END:VEVENT
BEGIN:VEVENT
DTSTART;TZID=Europe/Berlin:20230215T140000
DTEND;TZID=Europe/Berlin:20230215T163000
DTSTAMP:20260424T061327
CREATED:20230130T161825Z
LAST-MODIFIED:20230215T132137Z
UID:3772-1676469600-1676478600@wohnen-im-pennenfeld.de
SUMMARY:Die Rote Tonne öffnet Ihre Klappe für Elektrokleingeräte
DESCRIPTION:Die Elektrokleingeräte können heute ausnahmsweise im Büro des Quartiersmanagements Pennenfeld\, Maidenheadstraße 18\, 53177 abgegeben werden!
URL:https://wohnen-im-pennenfeld.de/termine/die-rote-tonne-oeffnet-ihre-klappe-fuer-elektrokleingeraete-34/
LOCATION:Nachbarschaftstreff Pennenfeld\, Maidenheadstraße 20\, Bonn\, NRW\, 53177\, Deutschland
END:VEVENT
BEGIN:VEVENT
DTSTART;TZID=Europe/Berlin:20230215T120000
DTEND;TZID=Europe/Berlin:20230215T163000
DTSTAMP:20260424T061327
CREATED:20230205T130021Z
LAST-MODIFIED:20230215T130422Z
UID:3758-1676462400-1676478600@wohnen-im-pennenfeld.de
SUMMARY:Verbraucher- und Umweltberatung der Verbraucherzentrale - FÄLLT LEIDER AUS!
DESCRIPTION:In dringenden Fällen können Sie sich allerdings per E-Mail „ „bonn.quartier@verbraucherzentrale.nrw“ an die Verbraucherzentrale wenden.
URL:https://wohnen-im-pennenfeld.de/termine/verbraucher-und-umweltberatung-der-verbraucherzentrale-25/
LOCATION:Nachbarschaftstreff Pennenfeld\, Maidenheadstraße 20\, Bonn\, NRW\, 53177\, Deutschland
END:VEVENT
BEGIN:VEVENT
DTSTART;TZID=Europe/Berlin:20230213T150000
DTEND;TZID=Europe/Berlin:20230213T170000
DTSTAMP:20260424T061327
CREATED:20230130T160019Z
LAST-MODIFIED:20230215T160116Z
UID:3792-1676300400-1676307600@wohnen-im-pennenfeld.de
SUMMARY:Meine Zukunft gestalte ich mit – Offener Treff für alle Kinder zwischen 8 und 12 Jahren
DESCRIPTION:Ein Projekt von Kultur verbindet e.V.\nWir wollen Kinder stark machen für die Zukunft 😊\nOffener Treff immer montags von 15 -17 Uhr\nFür alle Kinder zwischen 8 und 12 Jahren\nExperimente\, Kochen\, Basteln\, Natur\, Umwelt\, Nachhaltigkeit und natürlich Spaß haben\, chillen und spielen\,\nInfos und Anmeldung: Laura Krebs 0228-22 74 24 42 (AB).
URL:https://wohnen-im-pennenfeld.de/termine/meine-zukunft-gestalte-ich-mit-offener-treff-fuer-alle-kinder-zwischen-8-und-12-jahren-5/
LOCATION:Nachbarschaftstreff Pennenfeld\, Maidenheadstraße 20\, Bonn\, NRW\, 53177\, Deutschland
END:VEVENT
BEGIN:VEVENT
DTSTART;TZID=Europe/Berlin:20230210T100000
DTEND;TZID=Europe/Berlin:20230210T113000
DTSTAMP:20260424T061327
CREATED:20230130T160850Z
LAST-MODIFIED:20230215T161140Z
UID:3800-1676023200-1676028600@wohnen-im-pennenfeld.de
SUMMARY:Interkulturelles Frauenfrühstück
DESCRIPTION:Herzliche Einladung zu unserem interkulturellen Frauenfrühstück! Herzliche Einladung zu unserem interkulturellen Frauenfrühstück! Die Veranstaltung ist kostenlos.
URL:https://wohnen-im-pennenfeld.de/termine/interkulturelles-frauenfruehstueck-5/
LOCATION:Nachbarschaftstreff Pennenfeld\, Maidenheadstraße 20\, Bonn\, NRW\, 53177\, Deutschland
ORGANIZER;CN="Quartiersmanagement Pennenfeld":MAILTO:wilbertz@vebowag.de
END:VEVENT
BEGIN:VEVENT
DTSTART;TZID=Europe/Berlin:20230209T150000
DTEND;TZID=Europe/Berlin:20230209T170000
DTSTAMP:20260424T061327
CREATED:20230130T160512Z
LAST-MODIFIED:20230215T160740Z
UID:3798-1675954800-1675962000@wohnen-im-pennenfeld.de
SUMMARY:Karnevalistischer Gesangsnachmittag!
DESCRIPTION:Wir freuen uns darauf\, das Lannesdorfer Kinderprinzenpaar bei uns zu begrüßen!\nGemeinsam singen wir quer durch das deutsche Liederbuch und werden von Akkordeon- und Mandoline begleitet.\nDie Veranstaltung ist kostenlos. Spenden willkommen. Keine Anmeldung erforderlich.\nLeitung: Frau Dr. M. Knüpling.\nInfos unter Nadine Schwarz-Kühle: 0228 2274 2441
URL:https://wohnen-im-pennenfeld.de/termine/karnevalistischer-gesangsnachmittag/
LOCATION:Nachbarschaftstreff Pennenfeld\, Maidenheadstraße 20\, Bonn\, NRW\, 53177\, Deutschland
ORGANIZER;CN="Quartiersmanagement Pennenfeld":MAILTO:wilbertz@vebowag.de
END:VEVENT
BEGIN:VEVENT
DTSTART;TZID=Europe/Berlin:20230208T140000
DTEND;TZID=Europe/Berlin:20230208T163000
DTSTAMP:20260424T061327
CREATED:20230131T161414Z
LAST-MODIFIED:20230215T131526Z
UID:3766-1675864800-1675873800@wohnen-im-pennenfeld.de
SUMMARY:Verbraucher- und Umweltberatung der Verbraucherzentrale
DESCRIPTION:
URL:https://wohnen-im-pennenfeld.de/termine/verbraucher-und-umweltberatung-der-verbraucherzentrale-27/
LOCATION:Nachbarschaftstreff Pennenfeld\, Maidenheadstraße 20\, Bonn\, NRW\, 53177\, Deutschland
END:VEVENT
BEGIN:VEVENT
DTSTART;TZID=Europe/Berlin:20230208T140000
DTEND;TZID=Europe/Berlin:20230208T163000
DTSTAMP:20260424T061327
CREATED:20230130T162312Z
LAST-MODIFIED:20230215T132359Z
UID:3778-1675864800-1675873800@wohnen-im-pennenfeld.de
SUMMARY:Die Rote Tonne öffnet Ihre Klappe für Elektrokleingeräte
DESCRIPTION:
URL:https://wohnen-im-pennenfeld.de/termine/die-rote-tonne-oeffnet-ihre-klappe-fuer-elektrokleingeraete-36/
LOCATION:Nachbarschaftstreff Pennenfeld\, Maidenheadstraße 20\, Bonn\, NRW\, 53177\, Deutschland
END:VEVENT
BEGIN:VEVENT
DTSTART;TZID=Europe/Berlin:20230206T150000
DTEND;TZID=Europe/Berlin:20230206T170000
DTSTAMP:20260424T061327
CREATED:20230130T155722Z
LAST-MODIFIED:20230215T160003Z
UID:3790-1675695600-1675702800@wohnen-im-pennenfeld.de
SUMMARY:Meine Zukunft gestalte ich mit – Offener Treff für alle Kinder zwischen 8 und 12 Jahren
DESCRIPTION:Ein Projekt von Kultur verbindet e.V.\nWir wollen Kinder stark machen für die Zukunft 😊\nOffener Treff immer montags von 15 -17 Uhr\nFür alle Kinder zwischen 8 und 12 Jahren\nExperimente\, Kochen\, Basteln\, Natur\, Umwelt\, Nachhaltigkeit und natürlich Spaß haben\, chillen und spielen\,\nInfos und Anmeldung: Laura Krebs 0228-22 74 24 42 (AB).
URL:https://wohnen-im-pennenfeld.de/termine/meine-zukunft-gestalte-ich-mit-offener-treff-fuer-alle-kinder-zwischen-8-und-12-jahren/
LOCATION:Nachbarschaftstreff Pennenfeld\, Maidenheadstraße 20\, Bonn\, NRW\, 53177\, Deutschland
END:VEVENT
BEGIN:VEVENT
DTSTART;TZID=Europe/Berlin:20230201T140000
DTEND;TZID=Europe/Berlin:20230201T163000
DTSTAMP:20260424T061327
CREATED:20230130T162213Z
LAST-MODIFIED:20230215T132306Z
UID:3776-1675260000-1675269000@wohnen-im-pennenfeld.de
SUMMARY:Die Rote Tonne öffnet Ihre Klappe für Elektrokleingeräte
DESCRIPTION:
URL:https://wohnen-im-pennenfeld.de/termine/die-rote-tonne-oeffnet-ihre-klappe-fuer-elektrokleingeraete-35/
LOCATION:Nachbarschaftstreff Pennenfeld\, Maidenheadstraße 20\, Bonn\, NRW\, 53177\, Deutschland
END:VEVENT
BEGIN:VEVENT
DTSTART;TZID=Europe/Berlin:20230201T140000
DTEND;TZID=Europe/Berlin:20230201T163000
DTSTAMP:20260424T061327
CREATED:20230130T161136Z
LAST-MODIFIED:20230215T131236Z
UID:3763-1675260000-1675269000@wohnen-im-pennenfeld.de
SUMMARY:Verbraucher- und Umweltberatung der Verbraucherzentrale
DESCRIPTION:
URL:https://wohnen-im-pennenfeld.de/termine/verbraucher-und-umweltberatung-der-verbraucherzentrale-26/
LOCATION:Nachbarschaftstreff Pennenfeld\, Maidenheadstraße 20\, Bonn\, NRW\, 53177\, Deutschland
END:VEVENT
BEGIN:VEVENT
DTSTART;TZID=Europe/Berlin:20230131T110000
DTEND;TZID=Europe/Berlin:20230131T120000
DTSTAMP:20260424T061327
CREATED:20230104T144545Z
LAST-MODIFIED:20230104T144545Z
UID:3635-1675162800-1675166400@wohnen-im-pennenfeld.de
SUMMARY:Lebensmittelausgabe im Nachbarschaftstreff Pennenfeld
DESCRIPTION:
URL:https://wohnen-im-pennenfeld.de/termine/lebensmittelausgabe-im-nachbarschaftstreff-pennenfeld-40/
LOCATION:Nachbarschaftstreff Pennenfeld\, Maidenheadstraße 20\, Bonn\, NRW\, 53177\, Deutschland
ORGANIZER;CN="Quartiersmanagement Pennenfeld":MAILTO:wilbertz@vebowag.de
END:VEVENT
BEGIN:VEVENT
DTSTART;TZID=Europe/Berlin:20230130T150000
DTEND;TZID=Europe/Berlin:20230130T170000
DTSTAMP:20260424T061327
CREATED:20230104T170721Z
LAST-MODIFIED:20230104T170721Z
UID:3678-1675090800-1675098000@wohnen-im-pennenfeld.de
SUMMARY:Meine Zukunft gestalte ich mit – Offener Treff für alle Kinder zwischen 8 und 12 Jahren
DESCRIPTION:Ein Projekt von Kultur verbindet e.V.\nWir wollen Kinder stark machen für die Zukunft 😊\nOffener Treff immer montags von 15 -17 Uhr\nFür alle Kinder zwischen 8 und 12 Jahren\nExperimente\, Kochen\, Basteln\, Natur\, Umwelt\, Nachhaltigkeit und natürlich Spaß haben\, chillen und spielen\,\nInfos und Anmeldung: Laura Krebs 0228-22 74 24 42 (AB).
URL:https://wohnen-im-pennenfeld.de/termine/meine-zukunft-gestalte-ich-mit-offener-treff-fuer-alle-kinder-zwischen-8-und-12-jahren-4/
LOCATION:Nachbarschaftstreff Pennenfeld\, Maidenheadstraße 20\, Bonn\, NRW\, 53177\, Deutschland
END:VEVENT
BEGIN:VEVENT
DTSTART;TZID=Europe/Berlin:20230127T120000
DTEND;TZID=Europe/Berlin:20230127T120000
DTSTAMP:20260424T061327
CREATED:20230104T171829Z
LAST-MODIFIED:20230104T171829Z
UID:3689-1674820800-1674820800@wohnen-im-pennenfeld.de
SUMMARY:Mittagstisch
DESCRIPTION:Kostenbeitrag inkl. Nachtisch und Kaffee: € 4\,-\nBitte melden Sie sich bis zum 25.1. verbindlich an:\nSchwarz-Kühle: 0228 22 74 24 41
URL:https://wohnen-im-pennenfeld.de/termine/mittagstisch/
LOCATION:Nachbarschaftstreff Pennenfeld\, Maidenheadstraße 20\, Bonn\, NRW\, 53177\, Deutschland
ORGANIZER;CN="Quartiersmanagement Pennenfeld":MAILTO:wilbertz@vebowag.de
END:VEVENT
BEGIN:VEVENT
DTSTART;TZID=Europe/Berlin:20230125T140000
DTEND;TZID=Europe/Berlin:20230125T163000
DTSTAMP:20260424T061327
CREATED:20230104T170023Z
LAST-MODIFIED:20230104T170023Z
UID:3667-1674655200-1674664200@wohnen-im-pennenfeld.de
SUMMARY:Verbraucher- und Umweltberatung der Verbraucherzentrale
DESCRIPTION:
URL:https://wohnen-im-pennenfeld.de/termine/verbraucher-und-umweltberatung-der-verbraucherzentrale-24/
LOCATION:Nachbarschaftstreff Pennenfeld\, Maidenheadstraße 20\, Bonn\, NRW\, 53177\, Deutschland
END:VEVENT
BEGIN:VEVENT
DTSTART;TZID=Europe/Berlin:20230125T140000
DTEND;TZID=Europe/Berlin:20230125T163000
DTSTAMP:20260424T061327
CREATED:20230104T165411Z
LAST-MODIFIED:20230104T165411Z
UID:3659-1674655200-1674664200@wohnen-im-pennenfeld.de
SUMMARY:Die Rote Tonne öffnet Ihre Klappe für Elektrokleingeräte
DESCRIPTION:
URL:https://wohnen-im-pennenfeld.de/termine/die-rote-tonne-oeffnet-ihre-klappe-fuer-elektrokleingeraete-33/
LOCATION:Nachbarschaftstreff Pennenfeld\, Maidenheadstraße 20\, Bonn\, NRW\, 53177\, Deutschland
END:VEVENT
BEGIN:VEVENT
DTSTART;TZID=Europe/Berlin:20230124T110000
DTEND;TZID=Europe/Berlin:20230124T120000
DTSTAMP:20260424T061327
CREATED:20230104T144152Z
LAST-MODIFIED:20230104T144152Z
UID:3633-1674558000-1674561600@wohnen-im-pennenfeld.de
SUMMARY:Lebensmittelausgabe im Nachbarschaftstreff Pennenfeld
DESCRIPTION:
URL:https://wohnen-im-pennenfeld.de/termine/lebensmittelausgabe-im-nachbarschaftstreff-pennenfeld-39/
LOCATION:Nachbarschaftstreff Pennenfeld\, Maidenheadstraße 20\, Bonn\, NRW\, 53177\, Deutschland
ORGANIZER;CN="Quartiersmanagement Pennenfeld":MAILTO:wilbertz@vebowag.de
END:VEVENT
BEGIN:VEVENT
DTSTART;TZID=Europe/Berlin:20230123T150000
DTEND;TZID=Europe/Berlin:20230123T170000
DTSTAMP:20260424T061327
CREATED:20230104T170638Z
LAST-MODIFIED:20230104T170638Z
UID:3676-1674486000-1674493200@wohnen-im-pennenfeld.de
SUMMARY:Meine Zukunft gestalte ich mit – Offener Treff für alle Kinder zwischen 8 und 12 Jahren
DESCRIPTION:Ein Projekt von Kultur verbindet e.V.\nWir wollen Kinder stark machen für die Zukunft 😊\nOffener Treff immer montags von 15 -17 Uhr\nFür alle Kinder zwischen 8 und 12 Jahren\nExperimente\, Kochen\, Basteln\, Natur\, Umwelt\, Nachhaltigkeit und natürlich Spaß haben\, chillen und spielen\,\nInfos und Anmeldung: Laura Krebs 0228-22 74 24 42 (AB).
URL:https://wohnen-im-pennenfeld.de/termine/meine-zukunft-gestalte-ich-mit-offener-treff-fuer-alle-kinder-zwischen-8-und-12-jahren-3/
LOCATION:Nachbarschaftstreff Pennenfeld\, Maidenheadstraße 20\, Bonn\, NRW\, 53177\, Deutschland
END:VEVENT
BEGIN:VEVENT
DTSTART;TZID=Europe/Berlin:20230120T150000
DTEND;TZID=Europe/Berlin:20230120T170000
DTSTAMP:20260424T061327
CREATED:20230104T171735Z
LAST-MODIFIED:20230104T171735Z
UID:3687-1674226800-1674234000@wohnen-im-pennenfeld.de
SUMMARY:Repair Café - Reparieren statt wegwerfen!
DESCRIPTION:In gemütlicher Atmosphäre unter fachkundiger Anleitung Elektrogeräte\, Möbelstücke etc. reparieren.\nKostenloses Angebot\, Spenden willkommen.\nAnmeldung/Terminvergabe: Frank Wilbertz: 0228 91 58 44 4
URL:https://wohnen-im-pennenfeld.de/termine/repair-cafe-reparieren-statt-wegwerfen-15/
LOCATION:Nachbarschaftstreff Pennenfeld\, Maidenheadstraße 20\, Bonn\, NRW\, 53177\, Deutschland
ORGANIZER;CN="Quartiersmanagement Pennenfeld":MAILTO:wilbertz@vebowag.de
END:VEVENT
BEGIN:VEVENT
DTSTART;TZID=Europe/Berlin:20230118T140000
DTEND;TZID=Europe/Berlin:20230118T163000
DTSTAMP:20260424T061327
CREATED:20230104T165828Z
LAST-MODIFIED:20230104T165828Z
UID:3665-1674050400-1674059400@wohnen-im-pennenfeld.de
SUMMARY:Verbraucher- und Umweltberatung der Verbraucherzentrale
DESCRIPTION:
URL:https://wohnen-im-pennenfeld.de/termine/verbraucher-und-umweltberatung-der-verbraucherzentrale-23/
LOCATION:Nachbarschaftstreff Pennenfeld\, Maidenheadstraße 20\, Bonn\, NRW\, 53177\, Deutschland
END:VEVENT
BEGIN:VEVENT
DTSTART;TZID=Europe/Berlin:20230118T140000
DTEND;TZID=Europe/Berlin:20230118T163000
DTSTAMP:20260424T061327
CREATED:20230104T151256Z
LAST-MODIFIED:20230104T151256Z
UID:3657-1674050400-1674059400@wohnen-im-pennenfeld.de
SUMMARY:Die Rote Tonne öffnet Ihre Klappe für Elektrokleingeräte
DESCRIPTION:
URL:https://wohnen-im-pennenfeld.de/termine/die-rote-tonne-oeffnet-ihre-klappe-fuer-elektrokleingeraete-32/
LOCATION:Nachbarschaftstreff Pennenfeld\, Maidenheadstraße 20\, Bonn\, NRW\, 53177\, Deutschland
END:VEVENT
BEGIN:VEVENT
DTSTART;TZID=Europe/Berlin:20230117T160000
DTEND;TZID=Europe/Berlin:20230117T170000
DTSTAMP:20260424T061327
CREATED:20230104T171623Z
LAST-MODIFIED:20230104T171647Z
UID:3685-1673971200-1673974800@wohnen-im-pennenfeld.de
SUMMARY:Pennenfeld Clean Up!
DESCRIPTION:Gemeinsam sammeln wir Müll auf und belohnen uns anschließend dafür mit einem Kaffeeklatsch im Warmen.\nGreifzangen\, Handschuhe und Müllsäcke sind vorhanden und warten auf ihren Einsatz.
URL:https://wohnen-im-pennenfeld.de/termine/pennenfeld-clean-up-5/
LOCATION:Treffpunkt: Nachbarschaftstreff Pennenfeld\, Maidenheadstraße 20\, Bonn\, NRW\, 53177\, Deutschland
END:VEVENT
BEGIN:VEVENT
DTSTART;TZID=Europe/Berlin:20230117T110000
DTEND;TZID=Europe/Berlin:20230117T120000
DTSTAMP:20260424T061327
CREATED:20230104T144108Z
LAST-MODIFIED:20230104T144108Z
UID:3631-1673953200-1673956800@wohnen-im-pennenfeld.de
SUMMARY:Lebensmittelausgabe im Nachbarschaftstreff Pennenfeld
DESCRIPTION:
URL:https://wohnen-im-pennenfeld.de/termine/lebensmittelausgabe-im-nachbarschaftstreff-pennenfeld-38/
LOCATION:Nachbarschaftstreff Pennenfeld\, Maidenheadstraße 20\, Bonn\, NRW\, 53177\, Deutschland
ORGANIZER;CN="Quartiersmanagement Pennenfeld":MAILTO:wilbertz@vebowag.de
END:VEVENT
BEGIN:VEVENT
DTSTART;TZID=Europe/Berlin:20230116T001500
DTEND;TZID=Europe/Berlin:20230116T170000
DTSTAMP:20260424T061327
CREATED:20230104T170548Z
LAST-MODIFIED:20230104T170548Z
UID:3674-1673828100-1673888400@wohnen-im-pennenfeld.de
SUMMARY:Meine Zukunft gestalte ich mit – Offener Treff für alle Kinder zwischen 8 und 12 Jahren
DESCRIPTION:Ein Projekt von Kultur verbindet e.V.\nWir wollen Kinder stark machen für die Zukunft 😊\nOffener Treff immer montags von 15 -17 Uhr\nFür alle Kinder zwischen 8 und 12 Jahren\nExperimente\, Kochen\, Basteln\, Natur\, Umwelt\, Nachhaltigkeit und natürlich Spaß haben\, chillen und spielen\,\nInfos und Anmeldung: Laura Krebs 0228-22 74 24 42 (AB).
URL:https://wohnen-im-pennenfeld.de/termine/meine-zukunft-gestalte-ich-mit-offener-treff-fuer-alle-kinder-zwischen-8-und-12-jahren-2/
LOCATION:Nachbarschaftstreff Pennenfeld\, Maidenheadstraße 20\, Bonn\, NRW\, 53177\, Deutschland
END:VEVENT
BEGIN:VEVENT
DTSTART;TZID=Europe/Berlin:20230113T100000
DTEND;TZID=Europe/Berlin:20230113T120000
DTSTAMP:20260424T061327
CREATED:20230104T171151Z
LAST-MODIFIED:20230215T161236Z
UID:3683-1673604000-1673611200@wohnen-im-pennenfeld.de
SUMMARY:Interkulturelles Frauenfrühstück
DESCRIPTION:Herzliche Einladung zu unserem interkulturellen Frauenfrühstück! Herzliche Einladung zu unserem interkulturellen Frauenfrühstück! Die Veranstaltung ist kostenlos.
URL:https://wohnen-im-pennenfeld.de/termine/interkulturelles-frauenfruehstueck-4/
LOCATION:Nachbarschaftstreff Pennenfeld\, Maidenheadstraße 20\, Bonn\, NRW\, 53177\, Deutschland
ORGANIZER;CN="Quartiersmanagement Pennenfeld":MAILTO:wilbertz@vebowag.de
END:VEVENT
BEGIN:VEVENT
DTSTART;TZID=Europe/Berlin:20230112T150000
DTEND;TZID=Europe/Berlin:20230112T170000
DTSTAMP:20260424T061327
CREATED:20230104T170904Z
LAST-MODIFIED:20230104T171159Z
UID:3680-1673535600-1673542800@wohnen-im-pennenfeld.de
SUMMARY:Gesangsnachmittag mit Kaffee und Kuchen
DESCRIPTION:Gemeinsam singen wir quer durch das deutsche Liederbuch und werden von Akkordeon- und Mandoline begleitet.\nDie Veranstaltung ist kostenlos. Spenden willkommen. Keine Anmeldung erforderlich.\nLeitung: Frau Dr. M. Knüpling.\nInfos unter Nadine Schwarz-Kühle: 0228 2274 2441
URL:https://wohnen-im-pennenfeld.de/termine/gesangsnachmittag-mit-kaffee-und-kuchen/
LOCATION:Nachbarschaftstreff Pennenfeld\, Maidenheadstraße 20\, Bonn\, NRW\, 53177\, Deutschland
ORGANIZER;CN="Quartiersmanagement Pennenfeld":MAILTO:wilbertz@vebowag.de
END:VEVENT
BEGIN:VEVENT
DTSTART;TZID=Europe/Berlin:20230111T140000
DTEND;TZID=Europe/Berlin:20230111T163000
DTSTAMP:20260424T061327
CREATED:20230104T165710Z
LAST-MODIFIED:20230104T165710Z
UID:3663-1673445600-1673454600@wohnen-im-pennenfeld.de
SUMMARY:Verbraucher- und Umweltberatung der Verbraucherzentrale
DESCRIPTION:
URL:https://wohnen-im-pennenfeld.de/termine/verbraucher-und-umweltberatung-der-verbraucherzentrale-22/
LOCATION:Nachbarschaftstreff Pennenfeld\, Maidenheadstraße 20\, Bonn\, NRW\, 53177\, Deutschland
END:VEVENT
BEGIN:VEVENT
DTSTART;TZID=Europe/Berlin:20230111T140000
DTEND;TZID=Europe/Berlin:20230111T163000
DTSTAMP:20260424T061327
CREATED:20230104T151146Z
LAST-MODIFIED:20230104T151146Z
UID:3655-1673445600-1673454600@wohnen-im-pennenfeld.de
SUMMARY:Die Rote Tonne öffnet Ihre Klappe für Elektrokleingeräte
DESCRIPTION:
URL:https://wohnen-im-pennenfeld.de/termine/die-rote-tonne-oeffnet-ihre-klappe-fuer-elektrokleingeraete-31/
LOCATION:Nachbarschaftstreff Pennenfeld\, Maidenheadstraße 20\, Bonn\, NRW\, 53177\, Deutschland
END:VEVENT
END:VCALENDAR