﻿BEGIN:VCALENDAR
VERSION:2.0
PRODID:-//Pennenfeld - ECPv6.10.0//NONSGML v1.0//EN
CALSCALE:GREGORIAN
METHOD:PUBLISH
X-ORIGINAL-URL:https://wohnen-im-pennenfeld.de
X-WR-CALDESC:Veranstaltungen für Pennenfeld
REFRESH-INTERVAL;VALUE=DURATION:PT1H
X-Robots-Tag:noindex
X-PUBLISHED-TTL:PT1H
BEGIN:VTIMEZONE
TZID:Europe/Berlin
BEGIN:DAYLIGHT
TZOFFSETFROM:+0100
TZOFFSETTO:+0200
TZNAME:CEST
DTSTART:20220327T010000
END:DAYLIGHT
BEGIN:STANDARD
TZOFFSETFROM:+0200
TZOFFSETTO:+0100
TZNAME:CET
DTSTART:20221030T010000
END:STANDARD
END:VTIMEZONE
BEGIN:VEVENT
DTSTART;TZID=Europe/Berlin:20221123T140000
DTEND;TZID=Europe/Berlin:20221123T163000
DTSTAMP:20260424T125456
CREATED:20221102T153118Z
LAST-MODIFIED:20221113T153557Z
UID:3555-1669212000-1669221000@wohnen-im-pennenfeld.de
SUMMARY:Verbraucher- und Umweltberatung der Verbraucherzentrale
DESCRIPTION:Wir beraten Sie ohne Termin und kostenlos zu folgenden Themen:\n• Medien- und Telekommunikation (Telefon-\, TV-\, Internetverträge; Abos und Abzocke)\n• Finanzen (Inkassobriefe\, dubiose Kreditkartenangebote)\n• Freizeit (Kaufverträge & Reklamation; Haustürgeschäfte; Kaffeefahrten)\n• Energierecht\n• Umweltschutz (Mülltrennung\, Abfallvermeidung\, Gesundheitsschutz)
URL:https://wohnen-im-pennenfeld.de/termine/verbraucher-und-umweltberatung-der-verbraucherzentrale-19/
LOCATION:Nachbarschaftstreff Pennenfeld\, Maidenheadstraße 20\, Bonn\, NRW\, 53177\, Deutschland
END:VEVENT
BEGIN:VEVENT
DTSTART;TZID=Europe/Berlin:20221123T100000
DTEND;TZID=Europe/Berlin:20221123T100000
DTSTAMP:20260424T125456
CREATED:20221102T155245Z
LAST-MODIFIED:20221113T155327Z
UID:3577-1669197600-1669197600@wohnen-im-pennenfeld.de
SUMMARY:Kochen und Co
DESCRIPTION:Wir kochen gemeinsam mit geflüchteten Menschen und interessierten Anwohnerinnen und Anwohnern\, denn Kochen ist die perfekte Methode\, um neue Nachbarinnen bzw. Nachbarn und Gerichte kennenzulernen. Beim gemeinsamen essen tauschen wir uns auch über gesellschaftliche Themen und zum Leben in Pennenfeld aus. Teilnahme nur nach vorheriger Absprache möglich: \nLaura Krebs 0228/22 74 24 42 (AB)\, sabine.kern@caritas-bonn.de
URL:https://wohnen-im-pennenfeld.de/termine/kochen-und-co-2/
LOCATION:Nachbarschaftstreff Pennenfeld\, Maidenheadstraße 20\, Bonn\, NRW\, 53177\, Deutschland
ORGANIZER;CN="Quartiersmanagement Pennenfeld":MAILTO:wilbertz@vebowag.de
END:VEVENT
BEGIN:VEVENT
DTSTART;TZID=Europe/Berlin:20221122T110000
DTEND;TZID=Europe/Berlin:20221122T120000
DTSTAMP:20260424T125456
CREATED:20221102T151537Z
LAST-MODIFIED:20221113T151614Z
UID:3530-1669114800-1669118400@wohnen-im-pennenfeld.de
SUMMARY:Lebensmittelausgabe im Nachbarschaftstreff Pennenfeld
DESCRIPTION:
URL:https://wohnen-im-pennenfeld.de/termine/lebensmittelausgabe-im-nachbarschaftstreff-pennenfeld-34/
LOCATION:Nachbarschaftstreff Pennenfeld\, Maidenheadstraße 20\, Bonn\, NRW\, 53177\, Deutschland
ORGANIZER;CN="Quartiersmanagement Pennenfeld":MAILTO:wilbertz@vebowag.de
END:VEVENT
BEGIN:VEVENT
DTSTART;TZID=Europe/Berlin:20221121T100000
DTEND;TZID=Europe/Berlin:20221121T100000
DTSTAMP:20260424T125456
CREATED:20221102T160047Z
LAST-MODIFIED:20221113T160222Z
UID:3583-1669024800-1669024800@wohnen-im-pennenfeld.de
SUMMARY:Mittagstisch – ein deftiges Essen nach Hausfrauenart
DESCRIPTION:Kostenbeitrag inkl. Nachtisch und Kaffee:  € 4\,-.\nBitte melden Sie sich bis zum 13.11.2022 an:  Nadine Schwarz-Kühle: 0228-2274 2441
URL:https://wohnen-im-pennenfeld.de/termine/mittagstisch-ein-deftiges-essen-nach-hausfrauenart-13/
LOCATION:Nachbarschaftstreff Pennenfeld\, Maidenheadstraße 20\, Bonn\, NRW\, 53177\, Deutschland
ORGANIZER;CN="Quartiersmanagement Pennenfeld":MAILTO:wilbertz@vebowag.de
END:VEVENT
BEGIN:VEVENT
DTSTART;TZID=Europe/Berlin:20221118T150000
DTEND;TZID=Europe/Berlin:20221118T170000
DTSTAMP:20260424T125456
CREATED:20221113T154506Z
LAST-MODIFIED:20221113T154506Z
UID:3570-1668783600-1668790800@wohnen-im-pennenfeld.de
SUMMARY:Repair Café im Nachbarschaftstreff Pennenfeld
DESCRIPTION:n gemütlicher Atmosphäre unter fachkundiger Anleitung Elektrogeräte\, Möbelstücke etc. reparieren. \nAnmeldung/Terminvergabe bis zum 17.11.2022\, 16 Uhr unter 0228-9158444
URL:https://wohnen-im-pennenfeld.de/termine/repair-cafe-im-nachbarschaftstreff-pennenfeld-4/
LOCATION:Nachbarschaftstreff Pennenfeld\, Maidenheadstraße 20\, Bonn\, NRW\, 53177\, Deutschland
ORGANIZER;CN="Quartiersmanagement Pennenfeld":MAILTO:wilbertz@vebowag.de
END:VEVENT
BEGIN:VEVENT
DTSTART;TZID=Europe/Berlin:20221116T140000
DTEND;TZID=Europe/Berlin:20221116T163000
DTSTAMP:20260424T125456
CREATED:20221102T153932Z
LAST-MODIFIED:20221113T154015Z
UID:3564-1668607200-1668616200@wohnen-im-pennenfeld.de
SUMMARY:Die Rote Tonne öffnet Ihre Klappe für Elektrokleingeräte
DESCRIPTION:
URL:https://wohnen-im-pennenfeld.de/termine/die-rote-tonne-oeffnet-ihre-klappe-fuer-elektrokleingeraete-27/
LOCATION:Nachbarschaftstreff Pennenfeld\, Maidenheadstraße 20\, Bonn\, NRW\, 53177\, Deutschland
END:VEVENT
BEGIN:VEVENT
DTSTART;TZID=Europe/Berlin:20221116T140000
DTEND;TZID=Europe/Berlin:20221116T163000
DTSTAMP:20260424T125456
CREATED:20221102T153015Z
LAST-MODIFIED:20221113T153639Z
UID:3551-1668607200-1668616200@wohnen-im-pennenfeld.de
SUMMARY:Verbraucher- und Umweltberatung der Verbraucherzentrale
DESCRIPTION:Wir beraten Sie ohne Termin und kostenlos zu folgenden Themen:\n• Medien- und Telekommunikation (Telefon-\, TV-\, Internetverträge; Abos und Abzocke)\n• Finanzen (Inkassobriefe\, dubiose Kreditkartenangebote)\n• Freizeit (Kaufverträge & Reklamation; Haustürgeschäfte; Kaffeefahrten)\n• Energierecht\n• Umweltschutz (Mülltrennung\, Abfallvermeidung\, Gesundheitsschutz)
URL:https://wohnen-im-pennenfeld.de/termine/verbraucher-und-umweltberatung-der-verbraucherzentrale-18/
LOCATION:Nachbarschaftstreff Pennenfeld\, Maidenheadstraße 20\, Bonn\, NRW\, 53177\, Deutschland
END:VEVENT
BEGIN:VEVENT
DTSTART;TZID=Europe/Berlin:20221115T160000
DTEND;TZID=Europe/Berlin:20221115T170000
DTSTAMP:20260424T125456
CREATED:20221102T150536Z
LAST-MODIFIED:20221113T192118Z
UID:3522-1668528000-1668531600@wohnen-im-pennenfeld.de
SUMMARY:Pennenfeld Clean Up!
DESCRIPTION:Gemeinsam sammeln wir Müll auf und belohnen uns anschließend dafür mit einem Kaffeeklatsch im Freien. \nGreifzangen\, Handschuhe und Müllsäcke sind vor Ort vorhanden und warten auf Ihren Einsatz. \n \n 
URL:https://wohnen-im-pennenfeld.de/termine/pennenmfeld-clean-up/
LOCATION:Treffpunkt: Nachbarschaftstreff Pennenfeld\, Maidenheadstraße 20\, Bonn\, NRW\, 53177\, Deutschland
END:VEVENT
BEGIN:VEVENT
DTSTART;TZID=Europe/Berlin:20221115T110000
DTEND;TZID=Europe/Berlin:20221115T120000
DTSTAMP:20260424T125456
CREATED:20221102T151358Z
LAST-MODIFIED:20221113T151437Z
UID:3528-1668510000-1668513600@wohnen-im-pennenfeld.de
SUMMARY:Lebensmittelausgabe im Nachbarschaftstreff Pennenfeld
DESCRIPTION:
URL:https://wohnen-im-pennenfeld.de/termine/lebensmittelausgabe-im-nachbarschaftstreff-pennenfeld-33/
LOCATION:Nachbarschaftstreff Pennenfeld\, Maidenheadstraße 20\, Bonn\, NRW\, 53177\, Deutschland
ORGANIZER;CN="Quartiersmanagement Pennenfeld":MAILTO:wilbertz@vebowag.de
END:VEVENT
BEGIN:VEVENT
DTSTART;TZID=Europe/Berlin:20221111T100000
DTEND;TZID=Europe/Berlin:20221111T120000
DTSTAMP:20260424T125456
CREATED:20221102T152633Z
LAST-MODIFIED:20221113T152733Z
UID:3545-1668160800-1668168000@wohnen-im-pennenfeld.de
SUMMARY:Interkulturelles Frauenfrühstück
DESCRIPTION:Herzliche Einladung zu unserem interkulturellen Frauenfrühstück! \nBitte bringen Sie einen kleinen Beitrag zum gemeinsamen bunten Buffet mit. \nDie Veranstaltung ist kostenlos. Keine Anmeldung erforderlich.
URL:https://wohnen-im-pennenfeld.de/termine/interkulturelles-frauenfruehstueck-3/
LOCATION:Nachbarschaftstreff Pennenfeld\, Maidenheadstraße 20\, Bonn\, NRW\, 53177\, Deutschland
ORGANIZER;CN="Quartiersmanagement Pennenfeld":MAILTO:wilbertz@vebowag.de
END:VEVENT
BEGIN:VEVENT
DTSTART;TZID=Europe/Berlin:20221110T150000
DTEND;TZID=Europe/Berlin:20221110T170000
DTSTAMP:20260424T125456
CREATED:20221102T152455Z
LAST-MODIFIED:20221113T152554Z
UID:3543-1668092400-1668099600@wohnen-im-pennenfeld.de
SUMMARY:Gesangsnachmittag bei Kaffee und Kuchen
DESCRIPTION:Gemeinsam singen wir quer durch das deutsche Liedgut zu Akkordeon- und Mandolinenbegleitung.\nDie Veranstaltung ist kostenlos. Spenden willkommen. Keine Anmeldung erforderlich.\nLeitung: Frau Dr. M. Knüpling\nInfos unter Nadine Schwarz-Kühle: 0228 2274 2441
URL:https://wohnen-im-pennenfeld.de/termine/gesangsnachmittag-bei-kaffee-und-kuchen-17/
LOCATION:Nachbarschaftstreff Pennenfeld\, Maidenheadstraße 20\, Bonn\, NRW\, 53177\, Deutschland
ORGANIZER;CN="Quartiersmanagement Pennenfeld":MAILTO:wilbertz@vebowag.de
END:VEVENT
BEGIN:VEVENT
DTSTART;TZID=Europe/Berlin:20221109T140000
DTEND;TZID=Europe/Berlin:20221109T163000
DTSTAMP:20260424T125456
CREATED:20221102T153835Z
LAST-MODIFIED:20221113T153922Z
UID:3562-1668002400-1668011400@wohnen-im-pennenfeld.de
SUMMARY:Die Rote Tonne öffnet Ihre Klappe für Elektrokleingeräte
DESCRIPTION:
URL:https://wohnen-im-pennenfeld.de/termine/die-rote-tonne-oeffnet-ihre-klappe-fuer-elektrokleingeraete-26/
LOCATION:Nachbarschaftstreff Pennenfeld\, Maidenheadstraße 20\, Bonn\, NRW\, 53177\, Deutschland
END:VEVENT
BEGIN:VEVENT
DTSTART;TZID=Europe/Berlin:20221109T140000
DTEND;TZID=Europe/Berlin:20221109T163000
DTSTAMP:20260424T125456
CREATED:20221102T152918Z
LAST-MODIFIED:20221113T153520Z
UID:3549-1668002400-1668011400@wohnen-im-pennenfeld.de
SUMMARY:Verbraucher- und Umweltberatung der Verbraucherzentrale
DESCRIPTION:Wir beraten Sie ohne Termin und kostenlos zu folgenden Themen:\n• Medien- und Telekommunikation (Telefon-\, TV-\, Internetverträge; Abos und Abzocke)\n• Finanzen (Inkassobriefe\, dubiose Kreditkartenangebote)\n• Freizeit (Kaufverträge & Reklamation; Haustürgeschäfte; Kaffeefahrten)\n• Energierecht\n• Umweltschutz (Mülltrennung\, Abfallvermeidung\, Gesundheitsschutz)
URL:https://wohnen-im-pennenfeld.de/termine/verbraucher-und-umweltberatung-der-verbraucherzentrale-17/
LOCATION:Nachbarschaftstreff Pennenfeld\, Maidenheadstraße 20\, Bonn\, NRW\, 53177\, Deutschland
END:VEVENT
BEGIN:VEVENT
DTSTART;TZID=Europe/Berlin:20221109T100000
DTEND;TZID=Europe/Berlin:20221109T100000
DTSTAMP:20260424T125456
CREATED:20221102T154522Z
LAST-MODIFIED:20221113T154957Z
UID:3573-1667988000-1667988000@wohnen-im-pennenfeld.de
SUMMARY:Kochen und Co
DESCRIPTION:Wir kochen gemeinsam mit geflüchteten Menschen und interessierten Anwohnerinnen und Anwohnern\, denn Kochen ist die perfekte Methode\, um neue Nachbarinnen bzw. Nachbarn und Gerichte kennenzulernen. Beim gemeinsamen essen tauschen wir uns auch über gesellschaftliche Themen und zum Leben in Pennenfeld aus. Teilnahme nur nach vorheriger Absprache möglich: \nLaura Krebs 0228/22 74 24 42 (AB)\, sabine.kern@caritas-bonn.de
URL:https://wohnen-im-pennenfeld.de/termine/kochen-und-co/
LOCATION:Nachbarschaftstreff Pennenfeld\, Maidenheadstraße 20\, Bonn\, NRW\, 53177\, Deutschland
ORGANIZER;CN="Quartiersmanagement Pennenfeld":MAILTO:wilbertz@vebowag.de
END:VEVENT
BEGIN:VEVENT
DTSTART;TZID=Europe/Berlin:20221108T110000
DTEND;TZID=Europe/Berlin:20221108T120000
DTSTAMP:20260424T125456
CREATED:20221102T151335Z
LAST-MODIFIED:20221113T151518Z
UID:3526-1667905200-1667908800@wohnen-im-pennenfeld.de
SUMMARY:Lebensmittelausgabe im Nachbarschaftstreff Pennenfeld
DESCRIPTION:
URL:https://wohnen-im-pennenfeld.de/termine/lebensmittelausgabe-im-nachbarschaftstreff-pennenfeld-29/
LOCATION:Nachbarschaftstreff Pennenfeld\, Maidenheadstraße 20\, Bonn\, NRW\, 53177\, Deutschland
ORGANIZER;CN="Quartiersmanagement Pennenfeld":MAILTO:wilbertz@vebowag.de
END:VEVENT
BEGIN:VEVENT
DTSTART;TZID=Europe/Berlin:20221105T100000
DTEND;TZID=Europe/Berlin:20221105T120000
DTSTAMP:20260424T125456
CREATED:20221102T155005Z
LAST-MODIFIED:20221113T155156Z
UID:3575-1667642400-1667649600@wohnen-im-pennenfeld.de
SUMMARY:Pflegeaktion im PikoPark
DESCRIPTION:Gemeinsam führen einen Teilrückschnitt der Stauden durch\, jäten\, wo es nötig ist\, schneiden die Wege frei und rechen das Laub zusammen.
URL:https://wohnen-im-pennenfeld.de/termine/pflegeaktion-im-pikopark-2/
LOCATION:Treffpunkt am PikoPark\, Nähe Max-Planck-Straße 17-19\, Bonn\, NRW\, 53177
ORGANIZER;CN="Quartiersmanagement Pennenfeld":MAILTO:wilbertz@vebowag.de
END:VEVENT
BEGIN:VEVENT
DTSTART;TZID=Europe/Berlin:20221102T140000
DTEND;TZID=Europe/Berlin:20221102T163000
DTSTAMP:20260424T125456
CREATED:20221102T153724Z
LAST-MODIFIED:20221113T153823Z
UID:3560-1667397600-1667406600@wohnen-im-pennenfeld.de
SUMMARY:Die Rote Tonne öffnet Ihre Klappe für Elektrokleingeräte
DESCRIPTION:
URL:https://wohnen-im-pennenfeld.de/termine/die-rote-tonne-oeffnet-ihre-klappe-fuer-elektrokleingeraete-23/
LOCATION:Nachbarschaftstreff Pennenfeld\, Maidenheadstraße 20\, Bonn\, NRW\, 53177\, Deutschland
END:VEVENT
BEGIN:VEVENT
DTSTART;TZID=Europe/Berlin:20221102T140000
DTEND;TZID=Europe/Berlin:20221102T163000
DTSTAMP:20260424T125456
CREATED:20221102T152813Z
LAST-MODIFIED:20221113T153438Z
UID:3547-1667397600-1667406600@wohnen-im-pennenfeld.de
SUMMARY:Verbraucher- und Umweltberatung der Verbraucherzentrale
DESCRIPTION:Wir beraten Sie ohne Termin und kostenlos zu folgenden Themen:\n• Medien- und Telekommunikation (Telefon-\, TV-\, Internetverträge; Abos und Abzocke)\n• Finanzen (Inkassobriefe\, dubiose Kreditkartenangebote)\n• Freizeit (Kaufverträge & Reklamation; Haustürgeschäfte; Kaffeefahrten)\n• Energierecht\n• Umweltschutz (Mülltrennung\, Abfallvermeidung\, Gesundheitsschutz)
URL:https://wohnen-im-pennenfeld.de/termine/verbraucher-und-umweltberatung-der-verbraucherzentrale-16/
LOCATION:Nachbarschaftstreff Pennenfeld\, Maidenheadstraße 20\, Bonn\, NRW\, 53177\, Deutschland
END:VEVENT
BEGIN:VEVENT
DTSTART;TZID=Europe/Berlin:20220831T140000
DTEND;TZID=Europe/Berlin:20220831T163000
DTSTAMP:20260424T125456
CREATED:20220705T095703Z
LAST-MODIFIED:20220725T095752Z
UID:3396-1661954400-1661963400@wohnen-im-pennenfeld.de
SUMMARY:Die Rote Tonne öffnet Ihre Klappe für Elektrokleingeräte
DESCRIPTION:
URL:https://wohnen-im-pennenfeld.de/termine/die-rote-tonne-oeffnet-ihre-klappe-fuer-elektrokleingeraete-25/
LOCATION:Nachbarschaftstreff Pennenfeld\, Maidenheadstraße 20\, Bonn\, NRW\, 53177\, Deutschland
END:VEVENT
BEGIN:VEVENT
DTSTART;TZID=Europe/Berlin:20220831T140000
DTEND;TZID=Europe/Berlin:20220831T163000
DTSTAMP:20260424T125456
CREATED:20220705T093632Z
LAST-MODIFIED:20220725T093642Z
UID:3380-1661954400-1661963400@wohnen-im-pennenfeld.de
SUMMARY:Verbraucher- und Umweltberatung der Verbraucherzentrale
DESCRIPTION:Wir beraten Sie ohne Termin und kostenlos zu folgenden Themen:\n• Medien- und Telekommunikation (Telefon-\, TV-\, Internetverträge; Abos und Abzocke)\n• Finanzen (Inkassobriefe\, dubiose Kreditkartenangebote)\n• Freizeit (Kaufverträge & Reklamation; Haustürgeschäfte; Kaffeefahrten)\n• Energierecht\n• Umweltschutz (Mülltrennung\, Abfallvermeidung\, Gesundheitsschutz)
URL:https://wohnen-im-pennenfeld.de/termine/verbraucher-und-umweltberatung-der-verbraucherzentrale-15/
LOCATION:Nachbarschaftstreff Pennenfeld\, Maidenheadstraße 20\, Bonn\, NRW\, 53177\, Deutschland
END:VEVENT
BEGIN:VEVENT
DTSTART;TZID=Europe/Berlin:20220825T150000
DTEND;TZID=Europe/Berlin:20220825T170000
DTSTAMP:20260424T125456
CREATED:20220705T191550Z
LAST-MODIFIED:20220725T191659Z
UID:3432-1661439600-1661446800@wohnen-im-pennenfeld.de
SUMMARY:Spielenachmittag und Doppelkopf/Skat-Runde
DESCRIPTION:Jede/r Interessierte ist herzlich willkommen\, die Würfel mit uns rollen und die Karten fliegen zu lassen. \nSpenden willkommen. Keine Anmeldung erforderlich.
URL:https://wohnen-im-pennenfeld.de/termine/spielenachmittag-und-doppelkopf-skat-runde-3/
LOCATION:Nachbarschaftstreff Pennenfeld\, Maidenheadstraße 20\, Bonn\, NRW\, 53177\, Deutschland
ORGANIZER;CN="Quartiersmanagement Pennenfeld":MAILTO:wilbertz@vebowag.de
END:VEVENT
BEGIN:VEVENT
DTSTART;TZID=Europe/Berlin:20220824T140000
DTEND;TZID=Europe/Berlin:20220824T163000
DTSTAMP:20260424T125456
CREATED:20220725T093545Z
LAST-MODIFIED:20220725T093545Z
UID:3378-1661349600-1661358600@wohnen-im-pennenfeld.de
SUMMARY:Verbraucher- und Umweltberatung der Verbraucherzentrale
DESCRIPTION:Wir beraten Sie ohne Termin und kostenlos zu folgenden Themen:\n• Medien- und Telekommunikation (Telefon-\, TV-\, Internetverträge; Abos und Abzocke)\n• Finanzen (Inkassobriefe\, dubiose Kreditkartenangebote)\n• Freizeit (Kaufverträge & Reklamation; Haustürgeschäfte; Kaffeefahrten)\n• Energierecht\n• Umweltschutz (Mülltrennung\, Abfallvermeidung\, Gesundheitsschutz)
URL:https://wohnen-im-pennenfeld.de/termine/verbraucher-und-umweltberatung-der-verbraucherzentrale-14/
LOCATION:Nachbarschaftstreff Pennenfeld\, Maidenheadstraße 20\, Bonn\, NRW\, 53177\, Deutschland
END:VEVENT
BEGIN:VEVENT
DTSTART;TZID=Europe/Berlin:20220824T140000
DTEND;TZID=Europe/Berlin:20220824T163000
DTSTAMP:20260424T125456
CREATED:20220705T095615Z
LAST-MODIFIED:20220725T095656Z
UID:3394-1661349600-1661358600@wohnen-im-pennenfeld.de
SUMMARY:Die Rote Tonne öffnet Ihre Klappe für Elektrokleingeräte
DESCRIPTION:
URL:https://wohnen-im-pennenfeld.de/termine/die-rote-tonne-oeffnet-ihre-klappe-fuer-elektrokleingeraete-24/
LOCATION:Nachbarschaftstreff Pennenfeld\, Maidenheadstraße 20\, Bonn\, NRW\, 53177\, Deutschland
END:VEVENT
BEGIN:VEVENT
DTSTART;TZID=Europe/Berlin:20220819T160000
DTEND;TZID=Europe/Berlin:20220819T180000
DTSTAMP:20260424T125456
CREATED:20220705T190235Z
LAST-MODIFIED:20220817T145931Z
UID:3423-1660924800-1660932000@wohnen-im-pennenfeld.de
SUMMARY:Pflegeaktion im PikoPark
DESCRIPTION:Gemeinsam führen einen Teilrückschnitt der Stauden durch\, jäten\, wo es nötig ist und schneiden die Wege und die Trockenmauer frei.
URL:https://wohnen-im-pennenfeld.de/termine/pflegeaktion-im-pikopark/
LOCATION:PikoPark Pennenfeld\, Nähe Max-Planck-Straße 17-19\, Bonn\, NRW\, 53177\, Deutschland
ORGANIZER;CN="Quartiersmanagement Pennenfeld":MAILTO:wilbertz@vebowag.de
END:VEVENT
BEGIN:VEVENT
DTSTART;TZID=Europe/Berlin:20220819T150000
DTEND;TZID=Europe/Berlin:20220819T170000
DTSTAMP:20260424T125456
CREATED:20220705T190529Z
LAST-MODIFIED:20220818T155418Z
UID:3425-1660921200-1660928400@wohnen-im-pennenfeld.de
SUMMARY:Repair Café im Nachbarschaftstreff Pennenfeld
DESCRIPTION:In gemütlicher Atmosphäre unter fachkundiger Anleitung Elektrogeräte\, Möbelstücke etc. reparieren. \nAnmeldung/Terminvergabe bis zum 19.8.2022\, 12 Uhr unter 0228-9158444
URL:https://wohnen-im-pennenfeld.de/termine/repair-cafe-im-nachbarschaftstreff-pennenfeld-3/
LOCATION:Nachbarschaftstreff Pennenfeld\, Maidenheadstraße 20\, Bonn\, NRW\, 53177\, Deutschland
ORGANIZER;CN="Quartiersmanagement Pennenfeld":MAILTO:wilbertz@vebowag.de
END:VEVENT
BEGIN:VEVENT
DTSTART;TZID=Europe/Berlin:20220817T140000
DTEND;TZID=Europe/Berlin:20220817T163000
DTSTAMP:20260424T125456
CREATED:20220725T192036Z
LAST-MODIFIED:20220725T192036Z
UID:3434-1660744800-1660753800@wohnen-im-pennenfeld.de
SUMMARY:Die Rote Tonne öffnet Ihre Klappe für Elektrokleingeräte
DESCRIPTION:
URL:https://wohnen-im-pennenfeld.de/termine/die-rote-tonne-oeffnet-ihre-klappe-fuer-elektrokleingeraete-22/
LOCATION:Nachbarschaftstreff Pennenfeld\, Maidenheadstraße 20\, Bonn\, NRW\, 53177\, Deutschland
END:VEVENT
BEGIN:VEVENT
DTSTART;TZID=Europe/Berlin:20220817T140000
DTEND;TZID=Europe/Berlin:20220817T163000
DTSTAMP:20260424T125456
CREATED:20220705T093354Z
LAST-MODIFIED:20220725T093448Z
UID:3376-1660744800-1660753800@wohnen-im-pennenfeld.de
SUMMARY:Verbraucher- und Umweltberatung der Verbraucherzentrale
DESCRIPTION:Wir beraten Sie ohne Termin und kostenlos zu folgenden Themen:\n• Medien- und Telekommunikation (Telefon-\, TV-\, Internetverträge; Abos und Abzocke)\n• Finanzen (Inkassobriefe\, dubiose Kreditkartenangebote)\n• Freizeit (Kaufverträge & Reklamation; Haustürgeschäfte; Kaffeefahrten)\n• Energierecht\n• Umweltschutz (Mülltrennung\, Abfallvermeidung\, Gesundheitsschutz)
URL:https://wohnen-im-pennenfeld.de/termine/verbraucher-und-umweltberatung-der-verbraucherzentrale-13/
LOCATION:Nachbarschaftstreff Pennenfeld\, Maidenheadstraße 20\, Bonn\, NRW\, 53177\, Deutschland
END:VEVENT
BEGIN:VEVENT
DTSTART;TZID=Europe/Berlin:20220817T120000
DTEND;TZID=Europe/Berlin:20220817T120000
DTSTAMP:20260424T125456
CREATED:20220705T185954Z
LAST-MODIFIED:20220725T190212Z
UID:3421-1660737600-1660737600@wohnen-im-pennenfeld.de
SUMMARY:Mittagstisch – ein deftiges Essen nach Hausfrauenart
DESCRIPTION:Kostenbeitrag inkl. Nachtisch und Kaffee:  € 4\,-.\nBitte melden Sie sich zwei Tage vor dem Mittagessen an:  Nadine Schwarz-Kühle: 0228-2274 2441
URL:https://wohnen-im-pennenfeld.de/termine/mittagstisch-ein-deftiges-essen-nach-hausfrauenart-12/
LOCATION:Nachbarschaftstreff Pennenfeld\, Maidenheadstraße 20\, Bonn\, NRW\, 53177\, Deutschland
ORGANIZER;CN="Quartiersmanagement Pennenfeld":MAILTO:wilbertz@vebowag.de
END:VEVENT
BEGIN:VEVENT
DTSTART;TZID=Europe/Berlin:20220816T160000
DTEND;TZID=Europe/Berlin:20220816T170000
DTSTAMP:20260424T125456
CREATED:20220705T191157Z
LAST-MODIFIED:20220725T191426Z
UID:3430-1660665600-1660669200@wohnen-im-pennenfeld.de
SUMMARY:Pennenfeld Clean Up!
DESCRIPTION:Gemeinsam sammeln wir Müll auf und belohnen uns anschließend dafür mit einem Kaffeeklatsch im Freien. \nGreifzangen\, Handschuhe und Müllsäcke sind vor Ort vorhanden und warten auf Ihren Einsatz.
URL:https://wohnen-im-pennenfeld.de/termine/pennenfeld-clean-up-4/
LOCATION:Treffpunkt: Nachbarschaftstreff Pennenfeld\, Maidenheadstraße 20\, Bonn\, NRW\, 53177\, Deutschland
ORGANIZER;CN="Quartiersmanagement Pennenfeld":MAILTO:wilbertz@vebowag.de
END:VEVENT
BEGIN:VEVENT
DTSTART;TZID=Europe/Berlin:20220812T100000
DTEND;TZID=Europe/Berlin:20220812T113000
DTSTAMP:20260424T125456
CREATED:20220705T100024Z
LAST-MODIFIED:20220725T190921Z
UID:3400-1660298400-1660303800@wohnen-im-pennenfeld.de
SUMMARY:Interkulturelles Frauenfrühstück
DESCRIPTION:Herzliche Einladung zu unserem interkulturellen Frauenfrühstück! \nBitte bringen Sie einen kleinen Beitrag zum gemeinsamen bunten Buffet mit. \nDie Veranstaltung ist kostenlos. Keine Anmeldung erforderlich
URL:https://wohnen-im-pennenfeld.de/termine/nterkulturelles-frauenfruehstueck/
LOCATION:Nachbarschaftstreff Pennenfeld\, Maidenheadstraße 20\, Bonn\, NRW\, 53177\, Deutschland
ORGANIZER;CN="Quartiersmanagement Pennenfeld":MAILTO:wilbertz@vebowag.de
END:VEVENT
END:VCALENDAR