﻿BEGIN:VCALENDAR
VERSION:2.0
PRODID:-//Pennenfeld - ECPv6.10.0//NONSGML v1.0//EN
CALSCALE:GREGORIAN
METHOD:PUBLISH
X-ORIGINAL-URL:https://wohnen-im-pennenfeld.de
X-WR-CALDESC:Veranstaltungen für Pennenfeld
REFRESH-INTERVAL;VALUE=DURATION:PT1H
X-Robots-Tag:noindex
X-PUBLISHED-TTL:PT1H
BEGIN:VTIMEZONE
TZID:Europe/Berlin
BEGIN:DAYLIGHT
TZOFFSETFROM:+0100
TZOFFSETTO:+0200
TZNAME:CEST
DTSTART:20250330T010000
END:DAYLIGHT
BEGIN:STANDARD
TZOFFSETFROM:+0200
TZOFFSETTO:+0100
TZNAME:CET
DTSTART:20251026T010000
END:STANDARD
END:VTIMEZONE
BEGIN:VEVENT
DTSTART;TZID=Europe/Berlin:20250929T150000
DTEND;TZID=Europe/Berlin:20250929T160000
DTSTAMP:20260420T004921
CREATED:20250829T133059Z
LAST-MODIFIED:20250829T133059Z
UID:6731-1759158000-1759161600@wohnen-im-pennenfeld.de
SUMMARY:Leseabenteuer!
DESCRIPTION:Lese-Unterstützung in Deutsch und Englisch für Kinder von 6-10 Jahren \nDie Auswahl der Bücher kann sowohl auf den Schulunterricht abgestimmt als auch nach den individuellen Wünschen der Kinder getroffen werden. Ziel ist es\, den Kindern durch gezielte Förderung und spannende Leseabenteuer Freude am Lesen zu vermitteln und ihre Sprachkompetenzen zu stärken. \nKursleiterin: Line Hamdani \nKostenloses Angebot\, Anmeldung erforderlich\n\n\n\nAnmeldung: hasan.barbar@caritas-bonn.de\, 0228-227 424 42
URL:https://wohnen-im-pennenfeld.de/termine/leseabenteuer-2/2025-09-29/
LOCATION:Nachbarschaftstreff Pennenfeld\, Maidenheadstraße 20\, Bonn\, NRW\, 53177\, Deutschland
ORGANIZER;CN="Quartiersmanagement Pennenfeld":MAILTO:wilbertz@vebowag.de
END:VEVENT
BEGIN:VEVENT
DTSTART;TZID=Europe/Berlin:20250925T150000
DTEND;TZID=Europe/Berlin:20250925T170000
DTSTAMP:20260420T004921
CREATED:20250829T135242Z
LAST-MODIFIED:20250903T075438Z
UID:6767-1758812400-1758819600@wohnen-im-pennenfeld.de
SUMMARY:Spielenachmittag für Erwachsene
DESCRIPTION:Doppelkopf und Rummy-Cup \nKostenloses Angebot\, Spenden willkommen. \nKeine Anmeldung erforderlich.
URL:https://wohnen-im-pennenfeld.de/termine/spielenachmittag-fuer-erwachsene-17/
LOCATION:Nachbarschaftstreff Pennenfeld\, Maidenheadstraße 20\, Bonn\, NRW\, 53177\, Deutschland
ORGANIZER;CN="Quartiersmanagement Pennenfeld":MAILTO:wilbertz@vebowag.de
END:VEVENT
BEGIN:VEVENT
DTSTART;TZID=Europe/Berlin:20250925T110000
DTEND;TZID=Europe/Berlin:20250925T120000
DTSTAMP:20260420T004921
CREATED:20250829T134143Z
LAST-MODIFIED:20250829T134143Z
UID:6750-1758798000-1758801600@wohnen-im-pennenfeld.de
SUMMARY:Fitness für Körper und Geist
DESCRIPTION:Bewegungsangebot für Seniorinnen und Senioren \nGymnastik im Sitzen und Stehen mit Übungen aus dem Ganzheitlichen Gehirntraining (GGT)\, Wahrnehmungs-\, Gleichgewichts-\, Konzentrations- und Koordinationsübungen\, Training von Alltagskompetenzen; bei gutem Wetter nutzen wir den Outdoor-Fitnesspark \nKursgebühr für 8 Termine (07.08.-25.09.): € 50\,- \nInfos unter: 0228-227 424 41\, andreea.bretan@awo-badgodesberg.de \n 
URL:https://wohnen-im-pennenfeld.de/termine/fitness-fuer-koerper-und-geist-41/2025-09-25/
LOCATION:Nachbarschaftstreff Pennenfeld\, Maidenheadstraße 20\, Bonn\, NRW\, 53177\, Deutschland
ORGANIZER;CN="Quartiersmanagement Pennenfeld":MAILTO:wilbertz@vebowag.de
END:VEVENT
BEGIN:VEVENT
DTSTART;TZID=Europe/Berlin:20250924T180000
DTEND;TZID=Europe/Berlin:20250924T190000
DTSTAMP:20260420T004921
CREATED:20250829T133627Z
LAST-MODIFIED:20250829T133627Z
UID:6741-1758736800-1758740400@wohnen-im-pennenfeld.de
SUMMARY:Qigong für die Gesundheitsförderung
DESCRIPTION:Qigong trägt durch seine Bewegungs-\, Atem- und Meditationsübungen zur Wiederherstellung und zum Erhalt von Gesundheit und Wohlbefinden bei. Beim Qigong werden langsame und fließende Bewegungen im Stehen durchgeführt. Es kann in jedem Alter erlernt und angewandt werden! \nDer Kurs kann auch ohne Vorkenntnisse besucht werden. \nKursleiterin: Maria di Gennaro \nTeilnehmerbeitrag: € 5\,- pro Termin.\nAnmeldung: 0228-227 424 41\, andreea.bretan@awo-badgodesberg.de
URL:https://wohnen-im-pennenfeld.de/termine/qigong-fuer-die-gesundheitsfoerderung-6/2025-09-24/
LOCATION:Nachbarschaftstreff Pennenfeld\, Maidenheadstraße 20\, Bonn\, NRW\, 53177\, Deutschland
ORGANIZER;CN="Quartiersmanagement Pennenfeld":MAILTO:wilbertz@vebowag.de
END:VEVENT
BEGIN:VEVENT
DTSTART;TZID=Europe/Berlin:20250924T120000
DTEND;TZID=Europe/Berlin:20250924T130000
DTSTAMP:20260420T004921
CREATED:20250829T135134Z
LAST-MODIFIED:20250903T075233Z
UID:6765-1758715200-1758718800@wohnen-im-pennenfeld.de
SUMMARY:Mittagstisch
DESCRIPTION:Kostenbeitrag inkl. Nachtisch und Kaffee:  € 4\,- \nBitte melden Sie sich bis zum 22.9. verbindlich an: 0228-227 424 41 oder andreea.bretan@awo-badgodesberg.de
URL:https://wohnen-im-pennenfeld.de/termine/mittagstisch-26/
LOCATION:Nachbarschaftstreff Pennenfeld\, Maidenheadstraße 20\, Bonn\, NRW\, 53177\, Deutschland
ORGANIZER;CN="Quartiersmanagement Pennenfeld":MAILTO:wilbertz@vebowag.de
END:VEVENT
BEGIN:VEVENT
DTSTART;TZID=Europe/Berlin:20250924T093000
DTEND;TZID=Europe/Berlin:20250924T110000
DTSTAMP:20260420T004921
CREATED:20250829T133320Z
LAST-MODIFIED:20250829T133320Z
UID:6736-1758706200-1758711600@wohnen-im-pennenfeld.de
SUMMARY:Deutsch-Konversationskurs für Frauen
DESCRIPTION:Möchten Sie zusammen mit anderen Frauen Ihre Deutschkenntnisse üben und erweitern? Dann sind Sie hier genau richtig! Der Kurs ist für Anfängerinnen und Fortgeschrittene geeignet. \nKursleiterin: Simone Saure \nDer Kurs ist kostenlos\, keine Anmeldung erforderlich. Der Einstieg ist jederzeit möglich. \nInfos bei: andreea.bretan@awo-badgodesberg.de\, 0228-227 424 41\n\n\n\nInfos bei: andreea.bretan@awo-badgodesberg.de\, 0228-227 424 41
URL:https://wohnen-im-pennenfeld.de/termine/deutsch-konversationskurs-fuer-frauen-17/2025-09-24/
LOCATION:Nachbarschaftstreff Pennenfeld\, Maidenheadstraße 20\, Bonn\, NRW\, 53177\, Deutschland
ORGANIZER;CN="Quartiersmanagement Pennenfeld":MAILTO:wilbertz@vebowag.de
END:VEVENT
BEGIN:VEVENT
DTSTART;TZID=Europe/Berlin:20250923T170000
DTEND;TZID=Europe/Berlin:20250923T200000
DTSTAMP:20260420T004921
CREATED:20250829T134317Z
LAST-MODIFIED:20250829T134317Z
UID:6753-1758646800-1758657600@wohnen-im-pennenfeld.de
SUMMARY:Kochen im Nachbarschaftstreff
DESCRIPTION:Kochen im Nachbarschaftstreff \nLernen Sie nette Menschen kennen und haben Sie Spaß beim gemeinsamen Kochen! Wir kochen regionale Gerichte aus regionalen Zutaten und probieren auch die internationale Küche mit exotischen Zutaten. \nTeilnehmerbeitrag: € 1\,50 \nAnmeldung erforderlich bei Herrn Lee: 0151-121 84 230 oder bei \nFrank Wilbertz: 0228-9158-444\, info@wohnen-im-pennenfeld.de \n \n\n\n\nIn Kooperation mit der Gemeindepsychatrie Bonn-Rhein-Sieg
URL:https://wohnen-im-pennenfeld.de/termine/kochen-im-nachbarschaftstreff-20/2025-09-23/
LOCATION:Nachbarschaftstreff Pennenfeld\, Maidenheadstraße 20\, Bonn\, NRW\, 53177\, Deutschland
END:VEVENT
BEGIN:VEVENT
DTSTART;TZID=Europe/Berlin:20250922T150000
DTEND;TZID=Europe/Berlin:20250922T160000
DTSTAMP:20260420T004921
CREATED:20250829T133059Z
LAST-MODIFIED:20250829T133059Z
UID:6730-1758553200-1758556800@wohnen-im-pennenfeld.de
SUMMARY:Leseabenteuer!
DESCRIPTION:Lese-Unterstützung in Deutsch und Englisch für Kinder von 6-10 Jahren \nDie Auswahl der Bücher kann sowohl auf den Schulunterricht abgestimmt als auch nach den individuellen Wünschen der Kinder getroffen werden. Ziel ist es\, den Kindern durch gezielte Förderung und spannende Leseabenteuer Freude am Lesen zu vermitteln und ihre Sprachkompetenzen zu stärken. \nKursleiterin: Line Hamdani \nKostenloses Angebot\, Anmeldung erforderlich\n\n\n\nAnmeldung: hasan.barbar@caritas-bonn.de\, 0228-227 424 42
URL:https://wohnen-im-pennenfeld.de/termine/leseabenteuer-2/2025-09-22/
LOCATION:Nachbarschaftstreff Pennenfeld\, Maidenheadstraße 20\, Bonn\, NRW\, 53177\, Deutschland
ORGANIZER;CN="Quartiersmanagement Pennenfeld":MAILTO:wilbertz@vebowag.de
END:VEVENT
BEGIN:VEVENT
DTSTART;TZID=Europe/Berlin:20250919T150000
DTEND;TZID=Europe/Berlin:20250919T170000
DTSTAMP:20260420T004921
CREATED:20250829T135001Z
LAST-MODIFIED:20250903T075107Z
UID:6763-1758294000-1758301200@wohnen-im-pennenfeld.de
SUMMARY:Repair Café - Reparieren statt wegwerfen!
DESCRIPTION:In gemütlicher Atmosphäre unter fachkundiger Anleitung Elektrogeräte\, Möbelstücke etc. reparieren. \nKostenloses Angebot\, Spenden willkommen. \nAnmeldung/Terminvergabe: Frank Wilbertz 0228-9158 444 oder info@wohnen-im-pennenfeld.de
URL:https://wohnen-im-pennenfeld.de/termine/repair-cafe-reparieren-statt-wegwerfen-39/
LOCATION:Nachbarschaftstreff Pennenfeld\, Maidenheadstraße 20\, Bonn\, NRW\, 53177\, Deutschland
ORGANIZER;CN="Quartiersmanagement Pennenfeld":MAILTO:wilbertz@vebowag.de
END:VEVENT
BEGIN:VEVENT
DTSTART;TZID=Europe/Berlin:20250918T110000
DTEND;TZID=Europe/Berlin:20250918T120000
DTSTAMP:20260420T004921
CREATED:20250829T134143Z
LAST-MODIFIED:20250829T134143Z
UID:6749-1758193200-1758196800@wohnen-im-pennenfeld.de
SUMMARY:Fitness für Körper und Geist
DESCRIPTION:Bewegungsangebot für Seniorinnen und Senioren \nGymnastik im Sitzen und Stehen mit Übungen aus dem Ganzheitlichen Gehirntraining (GGT)\, Wahrnehmungs-\, Gleichgewichts-\, Konzentrations- und Koordinationsübungen\, Training von Alltagskompetenzen; bei gutem Wetter nutzen wir den Outdoor-Fitnesspark \nKursgebühr für 8 Termine (07.08.-25.09.): € 50\,- \nInfos unter: 0228-227 424 41\, andreea.bretan@awo-badgodesberg.de \n 
URL:https://wohnen-im-pennenfeld.de/termine/fitness-fuer-koerper-und-geist-41/2025-09-18/
LOCATION:Nachbarschaftstreff Pennenfeld\, Maidenheadstraße 20\, Bonn\, NRW\, 53177\, Deutschland
ORGANIZER;CN="Quartiersmanagement Pennenfeld":MAILTO:wilbertz@vebowag.de
END:VEVENT
BEGIN:VEVENT
DTSTART;TZID=Europe/Berlin:20250917T180000
DTEND;TZID=Europe/Berlin:20250917T190000
DTSTAMP:20260420T004921
CREATED:20250829T133627Z
LAST-MODIFIED:20250829T133627Z
UID:6740-1758132000-1758135600@wohnen-im-pennenfeld.de
SUMMARY:Qigong für die Gesundheitsförderung
DESCRIPTION:Qigong trägt durch seine Bewegungs-\, Atem- und Meditationsübungen zur Wiederherstellung und zum Erhalt von Gesundheit und Wohlbefinden bei. Beim Qigong werden langsame und fließende Bewegungen im Stehen durchgeführt. Es kann in jedem Alter erlernt und angewandt werden! \nDer Kurs kann auch ohne Vorkenntnisse besucht werden. \nKursleiterin: Maria di Gennaro \nTeilnehmerbeitrag: € 5\,- pro Termin.\nAnmeldung: 0228-227 424 41\, andreea.bretan@awo-badgodesberg.de
URL:https://wohnen-im-pennenfeld.de/termine/qigong-fuer-die-gesundheitsfoerderung-6/2025-09-17/
LOCATION:Nachbarschaftstreff Pennenfeld\, Maidenheadstraße 20\, Bonn\, NRW\, 53177\, Deutschland
ORGANIZER;CN="Quartiersmanagement Pennenfeld":MAILTO:wilbertz@vebowag.de
END:VEVENT
BEGIN:VEVENT
DTSTART;TZID=Europe/Berlin:20250917T093000
DTEND;TZID=Europe/Berlin:20250917T110000
DTSTAMP:20260420T004921
CREATED:20250829T133320Z
LAST-MODIFIED:20250829T133320Z
UID:6735-1758101400-1758106800@wohnen-im-pennenfeld.de
SUMMARY:Deutsch-Konversationskurs für Frauen
DESCRIPTION:Möchten Sie zusammen mit anderen Frauen Ihre Deutschkenntnisse üben und erweitern? Dann sind Sie hier genau richtig! Der Kurs ist für Anfängerinnen und Fortgeschrittene geeignet. \nKursleiterin: Simone Saure \nDer Kurs ist kostenlos\, keine Anmeldung erforderlich. Der Einstieg ist jederzeit möglich. \nInfos bei: andreea.bretan@awo-badgodesberg.de\, 0228-227 424 41\n\n\n\nInfos bei: andreea.bretan@awo-badgodesberg.de\, 0228-227 424 41
URL:https://wohnen-im-pennenfeld.de/termine/deutsch-konversationskurs-fuer-frauen-17/2025-09-17/
LOCATION:Nachbarschaftstreff Pennenfeld\, Maidenheadstraße 20\, Bonn\, NRW\, 53177\, Deutschland
ORGANIZER;CN="Quartiersmanagement Pennenfeld":MAILTO:wilbertz@vebowag.de
END:VEVENT
BEGIN:VEVENT
DTSTART;TZID=Europe/Berlin:20250916T150000
DTEND;TZID=Europe/Berlin:20250916T160000
DTSTAMP:20260420T004921
CREATED:20250829T134821Z
LAST-MODIFIED:20250903T074951Z
UID:6761-1758034800-1758038400@wohnen-im-pennenfeld.de
SUMMARY:Pennenfeld Clean Up!
DESCRIPTION:Gemeinsam sammeln wir Müll auf und belohnen uns anschließend dafür mit Kaffee und Kuchen. Greifzangen\, Handschuhe und Müllsäcke sind vorhanden und warten auf ihren Einsatz. \nTreffen vor dem Nachbarschafstreff Pennenfeld\, Maidenheadstr. 20 \nInfos unter: 0228-9158 444 oder petra.martischewski@t-online.de \nIn Kooperation mit dem Bürgerverein Buntes Pennenfeld e.V.
URL:https://wohnen-im-pennenfeld.de/termine/pennenfeld-clean-up-30/
LOCATION:Nachbarschaftstreff Pennenfeld\, Maidenheadstraße 20\, Bonn\, NRW\, 53177\, Deutschland
END:VEVENT
BEGIN:VEVENT
DTSTART;TZID=Europe/Berlin:20250915T150000
DTEND;TZID=Europe/Berlin:20250915T160000
DTSTAMP:20260420T004921
CREATED:20250829T133059Z
LAST-MODIFIED:20250829T133059Z
UID:6729-1757948400-1757952000@wohnen-im-pennenfeld.de
SUMMARY:Leseabenteuer!
DESCRIPTION:Lese-Unterstützung in Deutsch und Englisch für Kinder von 6-10 Jahren \nDie Auswahl der Bücher kann sowohl auf den Schulunterricht abgestimmt als auch nach den individuellen Wünschen der Kinder getroffen werden. Ziel ist es\, den Kindern durch gezielte Förderung und spannende Leseabenteuer Freude am Lesen zu vermitteln und ihre Sprachkompetenzen zu stärken. \nKursleiterin: Line Hamdani \nKostenloses Angebot\, Anmeldung erforderlich\n\n\n\nAnmeldung: hasan.barbar@caritas-bonn.de\, 0228-227 424 42
URL:https://wohnen-im-pennenfeld.de/termine/leseabenteuer-2/2025-09-15/
LOCATION:Nachbarschaftstreff Pennenfeld\, Maidenheadstraße 20\, Bonn\, NRW\, 53177\, Deutschland
ORGANIZER;CN="Quartiersmanagement Pennenfeld":MAILTO:wilbertz@vebowag.de
END:VEVENT
BEGIN:VEVENT
DTSTART;TZID=Europe/Berlin:20250912T100000
DTEND;TZID=Europe/Berlin:20250912T113000
DTSTAMP:20260420T004921
CREATED:20250829T134710Z
LAST-MODIFIED:20250903T074804Z
UID:6759-1757671200-1757676600@wohnen-im-pennenfeld.de
SUMMARY:Interkulturelles Frauenfrühstück
DESCRIPTION:Herzliche Einladung zu unserem interkulturellen Frauenfrühstück! \nBitte bringen Sie einen kleinen Beitrag zum gemeinsamen bunten Buffet mit.\n\n\n\nAnmeldung: 0228-227 424 41\, andreea.bretan@awo-badgodesberg.de
URL:https://wohnen-im-pennenfeld.de/termine/interkulturelles-frauenfruehstueck-22/
LOCATION:Nachbarschaftstreff Pennenfeld\, Maidenheadstraße 20\, Bonn\, NRW\, 53177\, Deutschland
ORGANIZER;CN="Quartiersmanagement Pennenfeld":MAILTO:wilbertz@vebowag.de
END:VEVENT
BEGIN:VEVENT
DTSTART;TZID=Europe/Berlin:20250911T150000
DTEND;TZID=Europe/Berlin:20250911T170000
DTSTAMP:20260420T004921
CREATED:20250829T134520Z
LAST-MODIFIED:20250903T074629Z
UID:6755-1757602800-1757610000@wohnen-im-pennenfeld.de
SUMMARY:Gesangsnachmittag mit Kaffee und Kuchen
DESCRIPTION:Gemeinsam singen wir Lieder quer durch das deutsche Liederbuch und werden dabei von Akkordeon\, Mandoline und Mundharmonika begleitet.\n\n\n\nTeilnehmerbeitrag: € 2\,50; keine Anmeldung erforderlich
URL:https://wohnen-im-pennenfeld.de/termine/gesangsnachmittag-mit-kaffee-und-kuchen-24/
LOCATION:Nachbarschaftstreff Pennenfeld\, Maidenheadstraße 20\, Bonn\, NRW\, 53177\, Deutschland
ORGANIZER;CN="Quartiersmanagement Pennenfeld":MAILTO:wilbertz@vebowag.de
END:VEVENT
BEGIN:VEVENT
DTSTART;TZID=Europe/Berlin:20250911T110000
DTEND;TZID=Europe/Berlin:20250911T120000
DTSTAMP:20260420T004921
CREATED:20250829T134143Z
LAST-MODIFIED:20250829T134143Z
UID:6748-1757588400-1757592000@wohnen-im-pennenfeld.de
SUMMARY:Fitness für Körper und Geist
DESCRIPTION:Bewegungsangebot für Seniorinnen und Senioren \nGymnastik im Sitzen und Stehen mit Übungen aus dem Ganzheitlichen Gehirntraining (GGT)\, Wahrnehmungs-\, Gleichgewichts-\, Konzentrations- und Koordinationsübungen\, Training von Alltagskompetenzen; bei gutem Wetter nutzen wir den Outdoor-Fitnesspark \nKursgebühr für 8 Termine (07.08.-25.09.): € 50\,- \nInfos unter: 0228-227 424 41\, andreea.bretan@awo-badgodesberg.de \n 
URL:https://wohnen-im-pennenfeld.de/termine/fitness-fuer-koerper-und-geist-41/2025-09-11/
LOCATION:Nachbarschaftstreff Pennenfeld\, Maidenheadstraße 20\, Bonn\, NRW\, 53177\, Deutschland
ORGANIZER;CN="Quartiersmanagement Pennenfeld":MAILTO:wilbertz@vebowag.de
END:VEVENT
BEGIN:VEVENT
DTSTART;TZID=Europe/Berlin:20250910T180000
DTEND;TZID=Europe/Berlin:20250910T190000
DTSTAMP:20260420T004921
CREATED:20250829T133627Z
LAST-MODIFIED:20250829T133627Z
UID:6739-1757527200-1757530800@wohnen-im-pennenfeld.de
SUMMARY:Qigong für die Gesundheitsförderung
DESCRIPTION:Qigong trägt durch seine Bewegungs-\, Atem- und Meditationsübungen zur Wiederherstellung und zum Erhalt von Gesundheit und Wohlbefinden bei. Beim Qigong werden langsame und fließende Bewegungen im Stehen durchgeführt. Es kann in jedem Alter erlernt und angewandt werden! \nDer Kurs kann auch ohne Vorkenntnisse besucht werden. \nKursleiterin: Maria di Gennaro \nTeilnehmerbeitrag: € 5\,- pro Termin.\nAnmeldung: 0228-227 424 41\, andreea.bretan@awo-badgodesberg.de
URL:https://wohnen-im-pennenfeld.de/termine/qigong-fuer-die-gesundheitsfoerderung-6/2025-09-10/
LOCATION:Nachbarschaftstreff Pennenfeld\, Maidenheadstraße 20\, Bonn\, NRW\, 53177\, Deutschland
ORGANIZER;CN="Quartiersmanagement Pennenfeld":MAILTO:wilbertz@vebowag.de
END:VEVENT
BEGIN:VEVENT
DTSTART;TZID=Europe/Berlin:20250910T093000
DTEND;TZID=Europe/Berlin:20250910T110000
DTSTAMP:20260420T004921
CREATED:20250829T133320Z
LAST-MODIFIED:20250829T133320Z
UID:6734-1757496600-1757502000@wohnen-im-pennenfeld.de
SUMMARY:Deutsch-Konversationskurs für Frauen
DESCRIPTION:Möchten Sie zusammen mit anderen Frauen Ihre Deutschkenntnisse üben und erweitern? Dann sind Sie hier genau richtig! Der Kurs ist für Anfängerinnen und Fortgeschrittene geeignet. \nKursleiterin: Simone Saure \nDer Kurs ist kostenlos\, keine Anmeldung erforderlich. Der Einstieg ist jederzeit möglich. \nInfos bei: andreea.bretan@awo-badgodesberg.de\, 0228-227 424 41\n\n\n\nInfos bei: andreea.bretan@awo-badgodesberg.de\, 0228-227 424 41
URL:https://wohnen-im-pennenfeld.de/termine/deutsch-konversationskurs-fuer-frauen-17/2025-09-10/
LOCATION:Nachbarschaftstreff Pennenfeld\, Maidenheadstraße 20\, Bonn\, NRW\, 53177\, Deutschland
ORGANIZER;CN="Quartiersmanagement Pennenfeld":MAILTO:wilbertz@vebowag.de
END:VEVENT
BEGIN:VEVENT
DTSTART;TZID=Europe/Berlin:20250909T170000
DTEND;TZID=Europe/Berlin:20250909T200000
DTSTAMP:20260420T004921
CREATED:20250829T134317Z
LAST-MODIFIED:20250903T074505Z
UID:6752-1757437200-1757448000@wohnen-im-pennenfeld.de
SUMMARY:Kochen im Nachbarschaftstreff
DESCRIPTION:Kochen im Nachbarschaftstreff \nLernen Sie nette Menschen kennen und haben Sie Spaß beim gemeinsamen Kochen! Wir kochen regionale Gerichte aus regionalen Zutaten und probieren auch die internationale Küche mit exotischen Zutaten. \nTeilnehmerbeitrag: € 1\,50 \nAnmeldung erforderlich bei Herrn Lee: 0151-121 84 230 oder bei \nFrank Wilbertz: 0228-9158-444\, info@wohnen-im-pennenfeld.de \n \n\n\n\nIn Kooperation mit der Gemeindepsychatrie Bonn-Rhein-Sieg
URL:https://wohnen-im-pennenfeld.de/termine/kochen-im-nachbarschaftstreff-20/2025-09-09/
LOCATION:Nachbarschaftstreff Pennenfeld\, Maidenheadstraße 20\, Bonn\, NRW\, 53177\, Deutschland
END:VEVENT
BEGIN:VEVENT
DTSTART;TZID=Europe/Berlin:20250908T150000
DTEND;TZID=Europe/Berlin:20250908T160000
DTSTAMP:20260420T004921
CREATED:20250829T133059Z
LAST-MODIFIED:20250829T133059Z
UID:6728-1757343600-1757347200@wohnen-im-pennenfeld.de
SUMMARY:Leseabenteuer!
DESCRIPTION:Lese-Unterstützung in Deutsch und Englisch für Kinder von 6-10 Jahren \nDie Auswahl der Bücher kann sowohl auf den Schulunterricht abgestimmt als auch nach den individuellen Wünschen der Kinder getroffen werden. Ziel ist es\, den Kindern durch gezielte Förderung und spannende Leseabenteuer Freude am Lesen zu vermitteln und ihre Sprachkompetenzen zu stärken. \nKursleiterin: Line Hamdani \nKostenloses Angebot\, Anmeldung erforderlich\n\n\n\nAnmeldung: hasan.barbar@caritas-bonn.de\, 0228-227 424 42
URL:https://wohnen-im-pennenfeld.de/termine/leseabenteuer-2/2025-09-08/
LOCATION:Nachbarschaftstreff Pennenfeld\, Maidenheadstraße 20\, Bonn\, NRW\, 53177\, Deutschland
ORGANIZER;CN="Quartiersmanagement Pennenfeld":MAILTO:wilbertz@vebowag.de
END:VEVENT
BEGIN:VEVENT
DTSTART;TZID=Europe/Berlin:20250904T110000
DTEND;TZID=Europe/Berlin:20250904T120000
DTSTAMP:20260420T004921
CREATED:20250829T134143Z
LAST-MODIFIED:20250903T074301Z
UID:6747-1756983600-1756987200@wohnen-im-pennenfeld.de
SUMMARY:Fitness für Körper und Geist
DESCRIPTION:Bewegungsangebot für Seniorinnen und Senioren \nGymnastik im Sitzen und Stehen mit Übungen aus dem Ganzheitlichen Gehirntraining (GGT)\, Wahrnehmungs-\, Gleichgewichts-\, Konzentrations- und Koordinationsübungen\, Training von Alltagskompetenzen; bei gutem Wetter nutzen wir den Outdoor-Fitnesspark \nKursgebühr für 8 Termine (07.08.-25.09.): € 50\,- \nInfos unter: 0228-227 424 41\, andreea.bretan@awo-badgodesberg.de \n 
URL:https://wohnen-im-pennenfeld.de/termine/fitness-fuer-koerper-und-geist-41/2025-09-04/
LOCATION:Nachbarschaftstreff Pennenfeld\, Maidenheadstraße 20\, Bonn\, NRW\, 53177\, Deutschland
ORGANIZER;CN="Quartiersmanagement Pennenfeld":MAILTO:wilbertz@vebowag.de
END:VEVENT
BEGIN:VEVENT
DTSTART;TZID=Europe/Berlin:20250904T100000
DTEND;TZID=Europe/Berlin:20250904T110000
DTSTAMP:20260420T004921
CREATED:20250829T133942Z
LAST-MODIFIED:20250903T074136Z
UID:6745-1756980000-1756983600@wohnen-im-pennenfeld.de
SUMMARY:Fitness für Körper und Geist
DESCRIPTION:Bewegungsangebot für Seniorinnen und Senioren \nGymnastik im Sitzen und Stehen mit Übungen aus dem Ganzheitlichen Gehirntraining (GGT)\, Wahrnehmungs-\, Gleichgewichts-\, Konzentrations- und Koordinationsübungen\, Training von Alltagskompetenzen; bei gutem Wetter nutzen wir den Outdoor-Fitnesspark \nKursgebühr für 8 Termine (07.08.-25.09.): € 50\,- \nInfos unter: 0228-227 424 41\, andreea.bretan@awo-badgodesberg.de \n 
URL:https://wohnen-im-pennenfeld.de/termine/fitness-fuer-koerper-und-geist-40/2025-09-04/
LOCATION:Nachbarschaftstreff Pennenfeld\, Maidenheadstraße 20\, Bonn\, NRW\, 53177\, Deutschland
ORGANIZER;CN="Quartiersmanagement Pennenfeld":MAILTO:wilbertz@vebowag.de
END:VEVENT
BEGIN:VEVENT
DTSTART;TZID=Europe/Berlin:20250903T180000
DTEND;TZID=Europe/Berlin:20250903T190000
DTSTAMP:20260420T004921
CREATED:20250829T133627Z
LAST-MODIFIED:20250903T073741Z
UID:6738-1756922400-1756926000@wohnen-im-pennenfeld.de
SUMMARY:Qigong für die Gesundheitsförderung
DESCRIPTION:Qigong trägt durch seine Bewegungs-\, Atem- und Meditationsübungen zur Wiederherstellung und zum Erhalt von Gesundheit und Wohlbefinden bei. Beim Qigong werden langsame und fließende Bewegungen im Stehen durchgeführt. Es kann in jedem Alter erlernt und angewandt werden! \nDer Kurs kann auch ohne Vorkenntnisse besucht werden. \nKursleiterin: Maria di Gennaro \nTeilnehmerbeitrag: € 5\,- pro Termin.\nAnmeldung: 0228-227 424 41\, andreea.bretan@awo-badgodesberg.de
URL:https://wohnen-im-pennenfeld.de/termine/qigong-fuer-die-gesundheitsfoerderung-6/2025-09-03/
LOCATION:Nachbarschaftstreff Pennenfeld\, Maidenheadstraße 20\, Bonn\, NRW\, 53177\, Deutschland
ORGANIZER;CN="Quartiersmanagement Pennenfeld":MAILTO:wilbertz@vebowag.de
END:VEVENT
BEGIN:VEVENT
DTSTART;TZID=Europe/Berlin:20250903T093000
DTEND;TZID=Europe/Berlin:20250903T110000
DTSTAMP:20260420T004921
CREATED:20250829T133320Z
LAST-MODIFIED:20250903T073615Z
UID:6733-1756891800-1756897200@wohnen-im-pennenfeld.de
SUMMARY:Deutsch-Konversationskurs für Frauen
DESCRIPTION:Möchten Sie zusammen mit anderen Frauen Ihre Deutschkenntnisse üben und erweitern? Dann sind Sie hier genau richtig! Der Kurs ist für Anfängerinnen und Fortgeschrittene geeignet. \nKursleiterin: Simone Saure \nDer Kurs ist kostenlos\, keine Anmeldung erforderlich. Der Einstieg ist jederzeit möglich. \nInfos bei: andreea.bretan@awo-badgodesberg.de\, 0228-227 424 41\n\n\n\nInfos bei: andreea.bretan@awo-badgodesberg.de\, 0228-227 424 41
URL:https://wohnen-im-pennenfeld.de/termine/deutsch-konversationskurs-fuer-frauen-17/2025-09-03/
LOCATION:Nachbarschaftstreff Pennenfeld\, Maidenheadstraße 20\, Bonn\, NRW\, 53177\, Deutschland
ORGANIZER;CN="Quartiersmanagement Pennenfeld":MAILTO:wilbertz@vebowag.de
END:VEVENT
BEGIN:VEVENT
DTSTART;TZID=Europe/Berlin:20250902T153000
DTEND;TZID=Europe/Berlin:20250902T170000
DTSTAMP:20260420T004921
CREATED:20250829T133810Z
LAST-MODIFIED:20250903T073916Z
UID:6743-1756827000-1756832400@wohnen-im-pennenfeld.de
SUMMARY:Strick- und Häkeltreff
DESCRIPTION:Gemeinsames Handarbeiten\, Austausch von Anleitungen und Tipps\, Hilfestellung für Anfängerinnen sowie Knüpfen neuer Kontakte in lockerer Atmosphäre. Die Treffen finden in Deutsch und Englisch (wenn gewünscht auch in Spanisch und Italienisch) statt. \nBitte eigene Handarbeitssachen und Material mitbringen. \nKostenloses Angebot; Anmeldung unter 0228-227 424 41\, andreea.bretan@awo-badgodesberg.de
URL:https://wohnen-im-pennenfeld.de/termine/strick-und-haekeltreff-16/
LOCATION:Nachbarschaftstreff Pennenfeld\, Maidenheadstraße 20\, Bonn\, NRW\, 53177\, Deutschland
ORGANIZER;CN="Quartiersmanagement Pennenfeld":MAILTO:wilbertz@vebowag.de
END:VEVENT
BEGIN:VEVENT
DTSTART;TZID=Europe/Berlin:20250901T150000
DTEND;TZID=Europe/Berlin:20250901T160000
DTSTAMP:20260420T004921
CREATED:20250829T133059Z
LAST-MODIFIED:20250903T073302Z
UID:6727-1756738800-1756742400@wohnen-im-pennenfeld.de
SUMMARY:Leseabenteuer!
DESCRIPTION:Lese-Unterstützung in Deutsch und Englisch für Kinder von 6-10 Jahren \nDie Auswahl der Bücher kann sowohl auf den Schulunterricht abgestimmt als auch nach den individuellen Wünschen der Kinder getroffen werden. Ziel ist es\, den Kindern durch gezielte Förderung und spannende Leseabenteuer Freude am Lesen zu vermitteln und ihre Sprachkompetenzen zu stärken. \nKursleiterin: Line Hamdani \nKostenloses Angebot\, Anmeldung erforderlich\n\n\n\nAnmeldung: hasan.barbar@caritas-bonn.de\, 0228-227 424 42
URL:https://wohnen-im-pennenfeld.de/termine/leseabenteuer-2/2025-09-01/
LOCATION:Nachbarschaftstreff Pennenfeld\, Maidenheadstraße 20\, Bonn\, NRW\, 53177\, Deutschland
ORGANIZER;CN="Quartiersmanagement Pennenfeld":MAILTO:wilbertz@vebowag.de
END:VEVENT
BEGIN:VEVENT
DTSTART;TZID=Europe/Berlin:20250828T150000
DTEND;TZID=Europe/Berlin:20250828T170000
DTSTAMP:20260420T004921
CREATED:20250825T145622Z
LAST-MODIFIED:20250825T145622Z
UID:6712-1756393200-1756400400@wohnen-im-pennenfeld.de
SUMMARY:Spielenachmittag für Erwachsene
DESCRIPTION:Spielenachmittag für Erwachsene\nDoppelkopf und Rummy-Cup\nKostenloses Angebot\, Spenden willkommen.\nKeine Anmeldung erforderlich.
URL:https://wohnen-im-pennenfeld.de/termine/spielenachmittag-fuer-erwachsene-16/
LOCATION:Nachbarschaftstreff Pennenfeld\, Maidenheadstraße 20\, Bonn\, NRW\, 53177\, Deutschland
ORGANIZER;CN="Quartiersmanagement Pennenfeld":MAILTO:wilbertz@vebowag.de
END:VEVENT
BEGIN:VEVENT
DTSTART;TZID=Europe/Berlin:20250828T110000
DTEND;TZID=Europe/Berlin:20250828T120000
DTSTAMP:20260420T004921
CREATED:20250825T143949Z
LAST-MODIFIED:20250825T143949Z
UID:6682-1756378800-1756382400@wohnen-im-pennenfeld.de
SUMMARY:Fitness für Körper und Geist
DESCRIPTION:Bewegungsangebot für Seniorinnen und Senioren\nGymnastik im Sitzen und Stehen mit Übungen aus dem Ganzheitlichen\nGehirntraining (GGT)\, Wahrnehmungs-\, Gleichgewichts-\,\nKonzentrations- und Koordinationsübungen\, Training von\nAlltagskompetenzen; bei gutem Wetter nutzen wir den Outdoor-\nFitnesspark\nBuchung des gesamten Kurses (8 Termine\, 07.08.-25.09.) € 50\,-\nInfos unter: 0228-227 424 41\, andreea.bretan@awo-badgodesberg.de
URL:https://wohnen-im-pennenfeld.de/termine/fitness-fuer-koerper-und-geist-39/2025-08-28/
LOCATION:Nachbarschaftstreff Pennenfeld\, Maidenheadstraße 20\, Bonn\, NRW\, 53177\, Deutschland
ORGANIZER;CN="Quartiersmanagement Pennenfeld":MAILTO:wilbertz@vebowag.de
END:VEVENT
BEGIN:VEVENT
DTSTART;TZID=Europe/Berlin:20250828T100000
DTEND;TZID=Europe/Berlin:20250828T110000
DTSTAMP:20260420T004921
CREATED:20250825T143833Z
LAST-MODIFIED:20250825T143833Z
UID:6676-1756375200-1756378800@wohnen-im-pennenfeld.de
SUMMARY:Fitness für Körper und Geist
DESCRIPTION:Bewegungsangebot für Seniorinnen und Senioren\nGymnastik im Sitzen und Stehen mit Übungen aus dem Ganzheitlichen\nGehirntraining (GGT)\, Wahrnehmungs-\, Gleichgewichts-\,\nKonzentrations- und Koordinationsübungen\, Training von\nAlltagskompetenzen; bei gutem Wetter nutzen wir den Outdoor-\nFitnesspark\nBuchung des gesamten Kurses (8 Termine\, 07.08.-25.09.) € 50\,-\nInfos unter: 0228-227 424 41\, andreea.bretan@awo-badgodesberg.de
URL:https://wohnen-im-pennenfeld.de/termine/fitness-fuer-koerper-und-geist-38/2025-08-28/
LOCATION:Nachbarschaftstreff Pennenfeld\, Maidenheadstraße 20\, Bonn\, NRW\, 53177\, Deutschland
ORGANIZER;CN="Quartiersmanagement Pennenfeld":MAILTO:wilbertz@vebowag.de
END:VEVENT
END:VCALENDAR