﻿BEGIN:VCALENDAR
VERSION:2.0
PRODID:-//Pennenfeld - ECPv6.10.0//NONSGML v1.0//EN
CALSCALE:GREGORIAN
METHOD:PUBLISH
X-ORIGINAL-URL:https://wohnen-im-pennenfeld.de
X-WR-CALDESC:Veranstaltungen für Pennenfeld
REFRESH-INTERVAL;VALUE=DURATION:PT1H
X-Robots-Tag:noindex
X-PUBLISHED-TTL:PT1H
BEGIN:VTIMEZONE
TZID:Europe/Berlin
BEGIN:DAYLIGHT
TZOFFSETFROM:+0100
TZOFFSETTO:+0200
TZNAME:CEST
DTSTART:20250330T010000
END:DAYLIGHT
BEGIN:STANDARD
TZOFFSETFROM:+0200
TZOFFSETTO:+0100
TZNAME:CET
DTSTART:20251026T010000
END:STANDARD
END:VTIMEZONE
BEGIN:VEVENT
DTSTART;TZID=Europe/Berlin:20250626T110000
DTEND;TZID=Europe/Berlin:20250626T120000
DTSTAMP:20260420T151522
CREATED:20250530T181811Z
LAST-MODIFIED:20250530T181811Z
UID:6531-1750935600-1750939200@wohnen-im-pennenfeld.de
SUMMARY:Fitness für Körper und Geist
DESCRIPTION:Bewegungsangebot für Seniorinnen und Senioren \nGymnastik im Sitzen und Stehen mit Übungen aus dem Ganzheitlichen Gehirntraining (GGT)\, Wahrnehmungs-\, Gleichgewichts-\, Konzentrations- und Koordinationsübungen\, Training von Alltagskompetenzen; bei gutem Wetter nutzen wir den Outdoor-Fitnesspark \nBuchung des gesamten Kurses (8 Termine\, 24.04 – 10.07.) € 45\,- \nInfos unter: 0228-227 424 41\, andreea.bretan@awo-badgodesberg.de
URL:https://wohnen-im-pennenfeld.de/termine/fitness-fuer-koerper-und-geist-35/2025-06-26/
LOCATION:Nachbarschaftstreff Pennenfeld\, Maidenheadstraße 20\, Bonn\, NRW\, 53177\, Deutschland
ORGANIZER;CN="Quartiersmanagement Pennenfeld":MAILTO:wilbertz@vebowag.de
END:VEVENT
BEGIN:VEVENT
DTSTART;TZID=Europe/Berlin:20250626T100000
DTEND;TZID=Europe/Berlin:20250626T110000
DTSTAMP:20260420T151522
CREATED:20250530T181531Z
LAST-MODIFIED:20250530T181531Z
UID:6525-1750932000-1750935600@wohnen-im-pennenfeld.de
SUMMARY:Fitness für Körper und Geist
DESCRIPTION:Bewegungsangebot für Seniorinnen und Senioren \nGymnastik im Sitzen und Stehen mit Übungen aus dem Ganzheitlichen Gehirntraining (GGT)\, Wahrnehmungs-\, Gleichgewichts-\, Konzentrations- und Koordinationsübungen\, Training von Alltagskompetenzen; bei gutem Wetter nutzen wir den Outdoor-Fitnesspark \nBuchung des gesamten Kurses (8 Termine\, 24.04 – 10.07.) € 45\,- \nInfos unter: 0228-227 424 41\, andreea.bretan@awo-badgodesberg.de
URL:https://wohnen-im-pennenfeld.de/termine/fitness-fuer-koerper-und-geist-34/2025-06-26/
LOCATION:Nachbarschaftstreff Pennenfeld\, Maidenheadstraße 20\, Bonn\, NRW\, 53177\, Deutschland
ORGANIZER;CN="Quartiersmanagement Pennenfeld":MAILTO:wilbertz@vebowag.de
END:VEVENT
BEGIN:VEVENT
DTSTART;TZID=Europe/Berlin:20250625T180000
DTEND;TZID=Europe/Berlin:20250625T190000
DTSTAMP:20260420T151522
CREATED:20250530T180507Z
LAST-MODIFIED:20250530T180507Z
UID:6520-1750874400-1750878000@wohnen-im-pennenfeld.de
SUMMARY:Qigong für die Gesundheitsförderung
DESCRIPTION:Qigong trägt durch seine Bewegungs-\, Atem- und Meditationsübungen zur Wiederherstellung und zum Erhalt von Gesundheit und Wohlbefinden bei. Beim Qigong werden langsame und fließende Bewegungen im Stehen durchgeführt. Es kann in jedem Alter erlernt und angewandt werden! \nDer Kurs kann auch ohne Vorkenntnisse besucht werden. \nKursleiterin: Maria di Gennaro \nTeilnehmerbeitrag: € 5\,- pro Termin.\nAnmeldung: 0228-227 424 41\, andreea.bretan@awo-badgodesberg.de
URL:https://wohnen-im-pennenfeld.de/termine/qigong-fuer-die-gesundheitsfoerderung-2/2025-06-25/
LOCATION:Nachbarschaftstreff Pennenfeld\, Maidenheadstraße 20\, Bonn\, NRW\, 53177\, Deutschland
ORGANIZER;CN="Quartiersmanagement Pennenfeld":MAILTO:wilbertz@vebowag.de
END:VEVENT
BEGIN:VEVENT
DTSTART;TZID=Europe/Berlin:20250625T120000
DTEND;TZID=Europe/Berlin:20250625T130000
DTSTAMP:20260420T151522
CREATED:20250530T183943Z
LAST-MODIFIED:20250610T184039Z
UID:6546-1750852800-1750856400@wohnen-im-pennenfeld.de
SUMMARY:Mittagstisch
DESCRIPTION:Kostenbeitrag inkl. Nachtisch und Kaffee:  € 4\,- \nBitte melden Sie sich bis zum 18.6. verbindlich an: 0228-227 424 41 oder andreea.bretan@awo-badgodesberg.de
URL:https://wohnen-im-pennenfeld.de/termine/mittagstisch-23/
LOCATION:Nachbarschaftstreff Pennenfeld\, Maidenheadstraße 20\, Bonn\, NRW\, 53177\, Deutschland
ORGANIZER;CN="Quartiersmanagement Pennenfeld":MAILTO:wilbertz@vebowag.de
END:VEVENT
BEGIN:VEVENT
DTSTART;TZID=Europe/Berlin:20250625T093000
DTEND;TZID=Europe/Berlin:20250625T110000
DTSTAMP:20260420T151522
CREATED:20250530T180115Z
LAST-MODIFIED:20250530T180115Z
UID:6514-1750843800-1750849200@wohnen-im-pennenfeld.de
SUMMARY:Deutsch-Konversationskurs für Frauen
DESCRIPTION:Möchten Sie zusammen mit anderen Frauen Ihre Deutschkenntnisse üben und erweitern? Dann sind Sie hier genau richtig! Der Kurs ist für Anfängerinnen und Fortgeschrittene geeignet. \nKursleiterin: Simone Saure \nDer Kurs ist kostenlos\, keine Anmeldung erforderlich. Der Einstieg ist jederzeit möglich. \n \n\n\n\nInfos bei: andreea.bretan@awo-badgodesberg.de\, 0228-227 424 41 \n 
URL:https://wohnen-im-pennenfeld.de/termine/deutsch-konversationskurs-fuer-frauen-15/2025-06-25/
LOCATION:Nachbarschaftstreff Pennenfeld\, Maidenheadstraße 20\, Bonn\, NRW\, 53177\, Deutschland
ORGANIZER;CN="Quartiersmanagement Pennenfeld":MAILTO:wilbertz@vebowag.de
END:VEVENT
BEGIN:VEVENT
DTSTART;TZID=Europe/Berlin:20250623T150000
DTEND;TZID=Europe/Berlin:20250623T160000
DTSTAMP:20260420T151522
CREATED:20250530T175130Z
LAST-MODIFIED:20250530T175130Z
UID:6505-1750690800-1750694400@wohnen-im-pennenfeld.de
SUMMARY:Leseabenteuer! - Lese-Unterstützung in Deutsch und Englisch für Kinder von 6-10 Jahren
DESCRIPTION:Die Auswahl der Bücher kann sowohl auf den Schulunterricht abgestimmt als auch nach den individuellen Wünschen der Kinder getroffen werden. Ziel ist es\, den Kindern durch gezielte Förderung und spannende Leseabenteuer Freude am Lesen zu vermitteln und ihre Sprachkompetenzen zu stärken. \nKursleiterin: Line Hamdani \nKostenloses Angebot\, Anmeldung erforderlich\n\n\n\nAnmeldung: hasan.barbar@caritas-bonn.de\, 0228-227 424 42
URL:https://wohnen-im-pennenfeld.de/termine/leseabenteuer-lese-unterstuetzung-in-deutsch-und-englisch-fuer-kinder-von-6-10-jahren/2025-06-23/
LOCATION:Nachbarschaftstreff Pennenfeld\, Maidenheadstraße 20\, Bonn\, NRW\, 53177\, Deutschland
ORGANIZER;CN="Quartiersmanagement Pennenfeld":MAILTO:wilbertz@vebowag.de
END:VEVENT
BEGIN:VEVENT
DTSTART;TZID=Europe/Berlin:20250620T150000
DTEND;TZID=Europe/Berlin:20250620T170000
DTSTAMP:20260420T151522
CREATED:20250530T183135Z
LAST-MODIFIED:20250610T183226Z
UID:6544-1750431600-1750438800@wohnen-im-pennenfeld.de
SUMMARY:Repair Café - Reparieren statt wegwerfen!
DESCRIPTION:In gemütlicher Atmosphäre unter fachkundiger Anleitung Elektrogeräte\, Möbelstücke etc. reparieren. \nKostenloses Angebot\, Spenden willkommen.\n\n\n\nAnmeldung/Terminvergabe: Frank Wilbertz 0228-9158 444 oder info@wohnen-im-pennenfeld.de
URL:https://wohnen-im-pennenfeld.de/termine/repair-cafe-reparieren-statt-wegwerfen-36/
LOCATION:Nachbarschaftstreff Pennenfeld\, Maidenheadstraße 20\, Bonn\, NRW\, 53177\, Deutschland
ORGANIZER;CN="Quartiersmanagement Pennenfeld":MAILTO:wilbertz@vebowag.de
END:VEVENT
BEGIN:VEVENT
DTSTART;TZID=Europe/Berlin:20250618T180000
DTEND;TZID=Europe/Berlin:20250618T190000
DTSTAMP:20260420T151522
CREATED:20250530T180507Z
LAST-MODIFIED:20250530T180507Z
UID:6519-1750269600-1750273200@wohnen-im-pennenfeld.de
SUMMARY:Qigong für die Gesundheitsförderung
DESCRIPTION:Qigong trägt durch seine Bewegungs-\, Atem- und Meditationsübungen zur Wiederherstellung und zum Erhalt von Gesundheit und Wohlbefinden bei. Beim Qigong werden langsame und fließende Bewegungen im Stehen durchgeführt. Es kann in jedem Alter erlernt und angewandt werden! \nDer Kurs kann auch ohne Vorkenntnisse besucht werden. \nKursleiterin: Maria di Gennaro \nTeilnehmerbeitrag: € 5\,- pro Termin.\nAnmeldung: 0228-227 424 41\, andreea.bretan@awo-badgodesberg.de
URL:https://wohnen-im-pennenfeld.de/termine/qigong-fuer-die-gesundheitsfoerderung-2/2025-06-18/
LOCATION:Nachbarschaftstreff Pennenfeld\, Maidenheadstraße 20\, Bonn\, NRW\, 53177\, Deutschland
ORGANIZER;CN="Quartiersmanagement Pennenfeld":MAILTO:wilbertz@vebowag.de
END:VEVENT
BEGIN:VEVENT
DTSTART;TZID=Europe/Berlin:20250618T093000
DTEND;TZID=Europe/Berlin:20250618T110000
DTSTAMP:20260420T151522
CREATED:20250530T180115Z
LAST-MODIFIED:20250530T180115Z
UID:6513-1750239000-1750244400@wohnen-im-pennenfeld.de
SUMMARY:Deutsch-Konversationskurs für Frauen
DESCRIPTION:Möchten Sie zusammen mit anderen Frauen Ihre Deutschkenntnisse üben und erweitern? Dann sind Sie hier genau richtig! Der Kurs ist für Anfängerinnen und Fortgeschrittene geeignet. \nKursleiterin: Simone Saure \nDer Kurs ist kostenlos\, keine Anmeldung erforderlich. Der Einstieg ist jederzeit möglich. \n \n\n\n\nInfos bei: andreea.bretan@awo-badgodesberg.de\, 0228-227 424 41 \n 
URL:https://wohnen-im-pennenfeld.de/termine/deutsch-konversationskurs-fuer-frauen-15/2025-06-18/
LOCATION:Nachbarschaftstreff Pennenfeld\, Maidenheadstraße 20\, Bonn\, NRW\, 53177\, Deutschland
ORGANIZER;CN="Quartiersmanagement Pennenfeld":MAILTO:wilbertz@vebowag.de
END:VEVENT
BEGIN:VEVENT
DTSTART;TZID=Europe/Berlin:20250617T170000
DTEND;TZID=Europe/Berlin:20250617T200000
DTSTAMP:20260420T151522
CREATED:20250530T182839Z
LAST-MODIFIED:20250610T183043Z
UID:6541-1750179600-1750190400@wohnen-im-pennenfeld.de
SUMMARY:Kochen im Nachbarschaftstreff
DESCRIPTION:Die beliebte Veranstaltung startet wieder durch! \nLernen Sie nette Menschen kennen und haben Sie Spaß beim gemeinsamen Kochen! Wir kochen regionale Gerichte aus regionalen Zutaten und probieren auch die internationale Küche mit exotischen Zutaten. \n Teilnehmerbeitrag: € 1\,50 \n Anmeldung erforderlich bei Herrn Lee: 0151-121 84 230 oder bei \nFrank Wilbertz: 0228-9158-444\, info@wohnen-im-pennenfeld.de \n \n\n\n\nIn Kooperation mit der Gemeindepsychatrie Bonn-Rhein-Sieg
URL:https://wohnen-im-pennenfeld.de/termine/kochen-im-nachbarschaftstreff-16/
LOCATION:Nachbarschaftstreff Pennenfeld\, Maidenheadstraße 20\, Bonn\, NRW\, 53177\, Deutschland
END:VEVENT
BEGIN:VEVENT
DTSTART;TZID=Europe/Berlin:20250616T150000
DTEND;TZID=Europe/Berlin:20250616T160000
DTSTAMP:20260420T151522
CREATED:20250530T175130Z
LAST-MODIFIED:20250610T175657Z
UID:6504-1750086000-1750089600@wohnen-im-pennenfeld.de
SUMMARY:Leseabenteuer! - Lese-Unterstützung in Deutsch und Englisch für Kinder von 6-10 Jahren
DESCRIPTION:Die Auswahl der Bücher kann sowohl auf den Schulunterricht abgestimmt als auch nach den individuellen Wünschen der Kinder getroffen werden. Ziel ist es\, den Kindern durch gezielte Förderung und spannende Leseabenteuer Freude am Lesen zu vermitteln und ihre Sprachkompetenzen zu stärken. \nKursleiterin: Line Hamdani \nKostenloses Angebot\, Anmeldung erforderlich\n\n\n\nAnmeldung: hasan.barbar@caritas-bonn.de\, 0228-227 424 42
URL:https://wohnen-im-pennenfeld.de/termine/leseabenteuer-lese-unterstuetzung-in-deutsch-und-englisch-fuer-kinder-von-6-10-jahren/2025-06-16/
LOCATION:Nachbarschaftstreff Pennenfeld\, Maidenheadstraße 20\, Bonn\, NRW\, 53177\, Deutschland
ORGANIZER;CN="Quartiersmanagement Pennenfeld":MAILTO:wilbertz@vebowag.de
END:VEVENT
BEGIN:VEVENT
DTSTART;TZID=Europe/Berlin:20250612T190000
DTEND;TZID=Europe/Berlin:20250612T203000
DTSTAMP:20260420T151522
CREATED:20250530T182325Z
LAST-MODIFIED:20250610T182433Z
UID:6537-1749754800-1749760200@wohnen-im-pennenfeld.de
SUMMARY:Mitgliederversammlung Buntes Pennenfeld e.V.
DESCRIPTION:Der Bürgerverein Buntes Pennenfeld e.V. trifft sich regelmäßig zum Austausch und für die Planung anstehender Aktionen im Stadtteil. \nAlle Pennenfelder sind herzlich willkommen! \nKeine Anmeldung erforderlich\n\n\n\nInformationen bei Christoph Sondermann: info@buntes-pennenfeld.de
URL:https://wohnen-im-pennenfeld.de/termine/mitgliederversammlung-buntes-pennenfeld-e-v/
LOCATION:Nachbarschaftstreff Pennenfeld\, Maidenheadstraße 20\, Bonn\, NRW\, 53177\, Deutschland
END:VEVENT
BEGIN:VEVENT
DTSTART;TZID=Europe/Berlin:20250612T150000
DTEND;TZID=Europe/Berlin:20250612T170000
DTSTAMP:20260420T151522
CREATED:20250530T182129Z
LAST-MODIFIED:20250610T182245Z
UID:6535-1749740400-1749747600@wohnen-im-pennenfeld.de
SUMMARY:Gesangsnachmittag mit Kaffee und Kuchen
DESCRIPTION:Gemeinsam singen wir Lieder quer durch das deutsche Liederbuch und werden dabei von Akkordeon\, Mandoline und Mundharmonika begleitet.\n\n\n\nTeilnehmerbeitrag: € 2\,50; keine Anmeldung erforderlich
URL:https://wohnen-im-pennenfeld.de/termine/gesangsnachmittag-mit-kaffee-und-kuchen-21/
LOCATION:Nachbarschaftstreff Pennenfeld\, Maidenheadstraße 20\, Bonn\, NRW\, 53177\, Deutschland
ORGANIZER;CN="Quartiersmanagement Pennenfeld":MAILTO:wilbertz@vebowag.de
END:VEVENT
BEGIN:VEVENT
DTSTART;TZID=Europe/Berlin:20250612T110000
DTEND;TZID=Europe/Berlin:20250612T120000
DTSTAMP:20260420T151522
CREATED:20250530T181811Z
LAST-MODIFIED:20250530T181811Z
UID:6529-1749726000-1749729600@wohnen-im-pennenfeld.de
SUMMARY:Fitness für Körper und Geist
DESCRIPTION:Bewegungsangebot für Seniorinnen und Senioren \nGymnastik im Sitzen und Stehen mit Übungen aus dem Ganzheitlichen Gehirntraining (GGT)\, Wahrnehmungs-\, Gleichgewichts-\, Konzentrations- und Koordinationsübungen\, Training von Alltagskompetenzen; bei gutem Wetter nutzen wir den Outdoor-Fitnesspark \nBuchung des gesamten Kurses (8 Termine\, 24.04 – 10.07.) € 45\,- \nInfos unter: 0228-227 424 41\, andreea.bretan@awo-badgodesberg.de
URL:https://wohnen-im-pennenfeld.de/termine/fitness-fuer-koerper-und-geist-35/2025-06-12/
LOCATION:Nachbarschaftstreff Pennenfeld\, Maidenheadstraße 20\, Bonn\, NRW\, 53177\, Deutschland
ORGANIZER;CN="Quartiersmanagement Pennenfeld":MAILTO:wilbertz@vebowag.de
END:VEVENT
BEGIN:VEVENT
DTSTART;TZID=Europe/Berlin:20250612T100000
DTEND;TZID=Europe/Berlin:20250612T110000
DTSTAMP:20260420T151522
CREATED:20250530T181531Z
LAST-MODIFIED:20250530T181531Z
UID:6523-1749722400-1749726000@wohnen-im-pennenfeld.de
SUMMARY:Fitness für Körper und Geist
DESCRIPTION:Bewegungsangebot für Seniorinnen und Senioren \nGymnastik im Sitzen und Stehen mit Übungen aus dem Ganzheitlichen Gehirntraining (GGT)\, Wahrnehmungs-\, Gleichgewichts-\, Konzentrations- und Koordinationsübungen\, Training von Alltagskompetenzen; bei gutem Wetter nutzen wir den Outdoor-Fitnesspark \nBuchung des gesamten Kurses (8 Termine\, 24.04 – 10.07.) € 45\,- \nInfos unter: 0228-227 424 41\, andreea.bretan@awo-badgodesberg.de
URL:https://wohnen-im-pennenfeld.de/termine/fitness-fuer-koerper-und-geist-34/2025-06-12/
LOCATION:Nachbarschaftstreff Pennenfeld\, Maidenheadstraße 20\, Bonn\, NRW\, 53177\, Deutschland
ORGANIZER;CN="Quartiersmanagement Pennenfeld":MAILTO:wilbertz@vebowag.de
END:VEVENT
BEGIN:VEVENT
DTSTART;TZID=Europe/Berlin:20250611T180000
DTEND;TZID=Europe/Berlin:20250611T190000
DTSTAMP:20260420T151522
CREATED:20250530T180507Z
LAST-MODIFIED:20250530T180507Z
UID:6518-1749664800-1749668400@wohnen-im-pennenfeld.de
SUMMARY:Qigong für die Gesundheitsförderung
DESCRIPTION:Qigong trägt durch seine Bewegungs-\, Atem- und Meditationsübungen zur Wiederherstellung und zum Erhalt von Gesundheit und Wohlbefinden bei. Beim Qigong werden langsame und fließende Bewegungen im Stehen durchgeführt. Es kann in jedem Alter erlernt und angewandt werden! \nDer Kurs kann auch ohne Vorkenntnisse besucht werden. \nKursleiterin: Maria di Gennaro \nTeilnehmerbeitrag: € 5\,- pro Termin.\nAnmeldung: 0228-227 424 41\, andreea.bretan@awo-badgodesberg.de
URL:https://wohnen-im-pennenfeld.de/termine/qigong-fuer-die-gesundheitsfoerderung-2/2025-06-11/
LOCATION:Nachbarschaftstreff Pennenfeld\, Maidenheadstraße 20\, Bonn\, NRW\, 53177\, Deutschland
ORGANIZER;CN="Quartiersmanagement Pennenfeld":MAILTO:wilbertz@vebowag.de
END:VEVENT
BEGIN:VEVENT
DTSTART;TZID=Europe/Berlin:20250611T093000
DTEND;TZID=Europe/Berlin:20250611T110000
DTSTAMP:20260420T151522
CREATED:20250530T180115Z
LAST-MODIFIED:20250530T180115Z
UID:6512-1749634200-1749639600@wohnen-im-pennenfeld.de
SUMMARY:Deutsch-Konversationskurs für Frauen
DESCRIPTION:Möchten Sie zusammen mit anderen Frauen Ihre Deutschkenntnisse üben und erweitern? Dann sind Sie hier genau richtig! Der Kurs ist für Anfängerinnen und Fortgeschrittene geeignet. \nKursleiterin: Simone Saure \nDer Kurs ist kostenlos\, keine Anmeldung erforderlich. Der Einstieg ist jederzeit möglich. \n \n\n\n\nInfos bei: andreea.bretan@awo-badgodesberg.de\, 0228-227 424 41 \n 
URL:https://wohnen-im-pennenfeld.de/termine/deutsch-konversationskurs-fuer-frauen-15/2025-06-11/
LOCATION:Nachbarschaftstreff Pennenfeld\, Maidenheadstraße 20\, Bonn\, NRW\, 53177\, Deutschland
ORGANIZER;CN="Quartiersmanagement Pennenfeld":MAILTO:wilbertz@vebowag.de
END:VEVENT
BEGIN:VEVENT
DTSTART;TZID=Europe/Berlin:20250605T110000
DTEND;TZID=Europe/Berlin:20250605T120000
DTSTAMP:20260420T151522
CREATED:20250530T181811Z
LAST-MODIFIED:20250610T181906Z
UID:6528-1749121200-1749124800@wohnen-im-pennenfeld.de
SUMMARY:Fitness für Körper und Geist
DESCRIPTION:Bewegungsangebot für Seniorinnen und Senioren \nGymnastik im Sitzen und Stehen mit Übungen aus dem Ganzheitlichen Gehirntraining (GGT)\, Wahrnehmungs-\, Gleichgewichts-\, Konzentrations- und Koordinationsübungen\, Training von Alltagskompetenzen; bei gutem Wetter nutzen wir den Outdoor-Fitnesspark \nBuchung des gesamten Kurses (8 Termine\, 24.04 – 10.07.) € 45\,- \nInfos unter: 0228-227 424 41\, andreea.bretan@awo-badgodesberg.de
URL:https://wohnen-im-pennenfeld.de/termine/fitness-fuer-koerper-und-geist-35/2025-06-05/
LOCATION:Nachbarschaftstreff Pennenfeld\, Maidenheadstraße 20\, Bonn\, NRW\, 53177\, Deutschland
ORGANIZER;CN="Quartiersmanagement Pennenfeld":MAILTO:wilbertz@vebowag.de
END:VEVENT
BEGIN:VEVENT
DTSTART;TZID=Europe/Berlin:20250605T100000
DTEND;TZID=Europe/Berlin:20250605T110000
DTSTAMP:20260420T151522
CREATED:20250530T181531Z
LAST-MODIFIED:20250610T181734Z
UID:6522-1749117600-1749121200@wohnen-im-pennenfeld.de
SUMMARY:Fitness für Körper und Geist
DESCRIPTION:Bewegungsangebot für Seniorinnen und Senioren \nGymnastik im Sitzen und Stehen mit Übungen aus dem Ganzheitlichen Gehirntraining (GGT)\, Wahrnehmungs-\, Gleichgewichts-\, Konzentrations- und Koordinationsübungen\, Training von Alltagskompetenzen; bei gutem Wetter nutzen wir den Outdoor-Fitnesspark \nBuchung des gesamten Kurses (8 Termine\, 24.04 – 10.07.) € 45\,- \nInfos unter: 0228-227 424 41\, andreea.bretan@awo-badgodesberg.de
URL:https://wohnen-im-pennenfeld.de/termine/fitness-fuer-koerper-und-geist-34/2025-06-05/
LOCATION:Nachbarschaftstreff Pennenfeld\, Maidenheadstraße 20\, Bonn\, NRW\, 53177\, Deutschland
ORGANIZER;CN="Quartiersmanagement Pennenfeld":MAILTO:wilbertz@vebowag.de
END:VEVENT
BEGIN:VEVENT
DTSTART;TZID=Europe/Berlin:20250604T180000
DTEND;TZID=Europe/Berlin:20250604T190000
DTSTAMP:20260420T151522
CREATED:20250530T180507Z
LAST-MODIFIED:20250610T180708Z
UID:6517-1749060000-1749063600@wohnen-im-pennenfeld.de
SUMMARY:Qigong für die Gesundheitsförderung
DESCRIPTION:Qigong trägt durch seine Bewegungs-\, Atem- und Meditationsübungen zur Wiederherstellung und zum Erhalt von Gesundheit und Wohlbefinden bei. Beim Qigong werden langsame und fließende Bewegungen im Stehen durchgeführt. Es kann in jedem Alter erlernt und angewandt werden! \nDer Kurs kann auch ohne Vorkenntnisse besucht werden. \nKursleiterin: Maria di Gennaro \nTeilnehmerbeitrag: € 5\,- pro Termin.\nAnmeldung: 0228-227 424 41\, andreea.bretan@awo-badgodesberg.de
URL:https://wohnen-im-pennenfeld.de/termine/qigong-fuer-die-gesundheitsfoerderung-2/2025-06-04/
LOCATION:Nachbarschaftstreff Pennenfeld\, Maidenheadstraße 20\, Bonn\, NRW\, 53177\, Deutschland
ORGANIZER;CN="Quartiersmanagement Pennenfeld":MAILTO:wilbertz@vebowag.de
END:VEVENT
BEGIN:VEVENT
DTSTART;TZID=Europe/Berlin:20250604T093000
DTEND;TZID=Europe/Berlin:20250604T110000
DTSTAMP:20260420T151522
CREATED:20250530T180115Z
LAST-MODIFIED:20250610T180428Z
UID:6511-1749029400-1749034800@wohnen-im-pennenfeld.de
SUMMARY:Deutsch-Konversationskurs für Frauen
DESCRIPTION:Möchten Sie zusammen mit anderen Frauen Ihre Deutschkenntnisse üben und erweitern? Dann sind Sie hier genau richtig! Der Kurs ist für Anfängerinnen und Fortgeschrittene geeignet. \nKursleiterin: Simone Saure \nDer Kurs ist kostenlos\, keine Anmeldung erforderlich. Der Einstieg ist jederzeit möglich. \n \n\n\n\nInfos bei: andreea.bretan@awo-badgodesberg.de\, 0228-227 424 41 \n 
URL:https://wohnen-im-pennenfeld.de/termine/deutsch-konversationskurs-fuer-frauen-15/2025-06-04/
LOCATION:Nachbarschaftstreff Pennenfeld\, Maidenheadstraße 20\, Bonn\, NRW\, 53177\, Deutschland
ORGANIZER;CN="Quartiersmanagement Pennenfeld":MAILTO:wilbertz@vebowag.de
END:VEVENT
BEGIN:VEVENT
DTSTART;TZID=Europe/Berlin:20250603T153000
DTEND;TZID=Europe/Berlin:20250603T170000
DTSTAMP:20260420T151522
CREATED:20250530T181927Z
LAST-MODIFIED:20250610T182050Z
UID:6533-1748964600-1748970000@wohnen-im-pennenfeld.de
SUMMARY:Strick- und Häkeltreff
DESCRIPTION:Gemeinsames Handarbeiten\, Austausch von Anleitungen und Tipps\, Hilfestellung für Anfängerinnen sowie Knüpfen neuer Kontakte in lockerer Atmosphäre. Die Treffen finden in Deutsch und Englisch (wenn gewünscht auch in Spanisch und Italienisch) statt. \nBitte eigene Handarbeitssachen und Material mitbringen. \n \n\n\n\nKostenloses Angebot; Anmeldung unter 0228-227 424 41\, andreea.bretan@awo-badgodesberg.de
URL:https://wohnen-im-pennenfeld.de/termine/strick-und-haekeltreff-14/
LOCATION:Nachbarschaftstreff Pennenfeld\, Maidenheadstraße 20\, Bonn\, NRW\, 53177\, Deutschland
ORGANIZER;CN="Quartiersmanagement Pennenfeld":MAILTO:wilbertz@vebowag.de
END:VEVENT
BEGIN:VEVENT
DTSTART;TZID=Europe/Berlin:20250602T150000
DTEND;TZID=Europe/Berlin:20250602T150000
DTSTAMP:20260420T151522
CREATED:20250530T175706Z
LAST-MODIFIED:20250610T180018Z
UID:6508-1748876400-1748876400@wohnen-im-pennenfeld.de
SUMMARY:Leseabenteuer! - Lese-Unterstützung in Deutsch und Englisch für Kinder von 6-10 Jahren
DESCRIPTION:Die Auswahl der Bücher kann sowohl auf den Schulunterricht abgestimmt als auch nach den individuellen Wünschen der Kinder getroffen werden. Ziel ist es\, den Kindern durch gezielte Förderung und spannende Leseabenteuer Freude am Lesen zu vermitteln und ihre Sprachkompetenzen zu stärken. \nKursleiterin: Line Hamdani \nKostenloses Angebot\, Anmeldung erforderlich\n\n\n\nAnmeldung: hasan.barbar@caritas-bonn.de\, 0228-227 424 42
URL:https://wohnen-im-pennenfeld.de/termine/leseabenteuer-lese-unterstuetzung-in-deutsch-und-englisch-fuer-kinder-von-6-10-jahren-2/
LOCATION:Nachbarschaftstreff Pennenfeld\, Maidenheadstraße 20\, Bonn\, NRW\, 53177\, Deutschland
ORGANIZER;CN="Quartiersmanagement Pennenfeld":MAILTO:wilbertz@vebowag.de
END:VEVENT
BEGIN:VEVENT
DTSTART;TZID=Europe/Berlin:20250531T093000
DTEND;TZID=Europe/Berlin:20250531T110000
DTSTAMP:20260420T151522
CREATED:20250515T112847Z
LAST-MODIFIED:20250519T133103Z
UID:6452-1748683800-1748689200@wohnen-im-pennenfeld.de
SUMMARY:Qigong für Frauen
DESCRIPTION:Qigong trägt durch seine Bewegungs-\, Atem- und Meditationsübungen zur Wiederherstellung und zum Erhalt von Gesundheit und Wohlbefinden bei. Beim Qigong werden langsame und fließende Bewegungen im Stehen durchgeführt. Es kann in jedem Alter erlernt und angewandt werden!\nDer Kurs kann auch ohne Vorkenntnisse besucht werden.\nKursleiterin: Maria di Gennaro\nTeilnehmerbeitrag: € 5\,- pro Termin. Anmeldung: 0228-227 424 41\, andreea.bretan@awo-badgodesberg.de
URL:https://wohnen-im-pennenfeld.de/termine/qigong-fuer-frauen/2025-05-31/
LOCATION:Nachbarschaftstreff Pennenfeld\, Maidenheadstraße 20\, Bonn\, NRW\, 53177\, Deutschland
ORGANIZER;CN="Quartiersmanagement Pennenfeld":MAILTO:wilbertz@vebowag.de
END:VEVENT
BEGIN:VEVENT
DTSTART;TZID=Europe/Berlin:20250529T110000
DTEND;TZID=Europe/Berlin:20250529T120000
DTSTAMP:20260420T151522
CREATED:20250505T132546Z
LAST-MODIFIED:20250505T132546Z
UID:6445-1748516400-1748520000@wohnen-im-pennenfeld.de
SUMMARY:Fitness für Körper und Geist
DESCRIPTION:Bewegungsangebot für Seniorinnen und Senioren\nGymnastik im Sitzen und Stehen mit Übungen aus dem Ganzheitlichen Gehirntraining (GGT)\, Wahrnehmungs-\, Gleichgewichts-\, Konzentrations- und Koordinationsübungen\, Training von Alltagskompetenzen; bei gutem Wetter nutzen wir den Outdoor-Fitnesspark\nBuchung des gesamten Kurses (8 Termine\, 24.04 – 10.07.) € 45\,-\nInfos unter: 0228-227 424 41\, andreea.bretan@awo-badgodesberg.de \n  \n 
URL:https://wohnen-im-pennenfeld.de/termine/fitness-fuer-koerper-und-geist-33/2025-05-29/
LOCATION:Nachbarschaftstreff Pennenfeld\, Maidenheadstraße 20\, Bonn\, NRW\, 53177\, Deutschland
ORGANIZER;CN="Quartiersmanagement Pennenfeld":MAILTO:wilbertz@vebowag.de
END:VEVENT
BEGIN:VEVENT
DTSTART;TZID=Europe/Berlin:20250529T100000
DTEND;TZID=Europe/Berlin:20250529T110000
DTSTAMP:20260420T151522
CREATED:20250505T092609Z
LAST-MODIFIED:20250505T092609Z
UID:6433-1748512800-1748516400@wohnen-im-pennenfeld.de
SUMMARY:Fitness für Körper und Geist
DESCRIPTION:Bewegungsangebot für Seniorinnen und Senioren\nGymnastik im Sitzen und Stehen mit Übungen aus dem Ganzheitlichen Gehirntraining (GGT)\, Wahrnehmungs-\, Gleichgewichts-\, Konzentrations- und Koordinationsübungen\, Training von Alltagskompetenzen; bei gutem Wetter nutzen wir den Outdoor-Fitnesspark\nBuchung des gesamten Kurses (8 Termine\, 24.04 – 10.07.) € 45\,-\nInfos unter: 0228-227 424 41\, andreea.bretan@awo-badgodesberg.de
URL:https://wohnen-im-pennenfeld.de/termine/fitness-fuer-koerper-und-geist-32/2025-05-29/
LOCATION:Nachbarschaftstreff Pennenfeld\, Maidenheadstraße 20\, Bonn\, NRW\, 53177\, Deutschland
ORGANIZER;CN="Quartiersmanagement Pennenfeld":MAILTO:wilbertz@vebowag.de
END:VEVENT
BEGIN:VEVENT
DTSTART;TZID=Europe/Berlin:20250528T180000
DTEND;TZID=Europe/Berlin:20250528T190000
DTSTAMP:20260420T151522
CREATED:20250515T072254Z
LAST-MODIFIED:20250515T072254Z
UID:6427-1748455200-1748458800@wohnen-im-pennenfeld.de
SUMMARY:Qigong für die Gesundheitsförderung
DESCRIPTION:Qigong trägt durch seine Bewegungs-\, Atem- und Meditationsübungen zur Wiederherstellung und zum Erhalt von Gesundheit und Wohlbefinden bei. Beim Qigong werden langsame und fließende Bewegungen im Stehen durchgeführt. Es kann in jedem Alter erlernt und angewandt werden!\nDer Kurs kann auch ohne Vorkenntnisse besucht werden.\nKursleiterin: Maria di Gennaro\nTeilnehmerbeitrag: € 5\,- pro Termin. Anmeldung: 0228-227 424 41\, andreea.bretan@awo-badgodesberg.de
URL:https://wohnen-im-pennenfeld.de/termine/qigong-fuer-die-gesundheitsfoerderung/2025-05-28/
LOCATION:Nachbarschaftstreff Pennenfeld\, Maidenheadstraße 20\, Bonn\, NRW\, 53177\, Deutschland
ORGANIZER;CN="Quartiersmanagement Pennenfeld":MAILTO:wilbertz@vebowag.de
END:VEVENT
BEGIN:VEVENT
DTSTART;TZID=Europe/Berlin:20250528T120000
DTEND;TZID=Europe/Berlin:20250528T130000
DTSTAMP:20260420T151522
CREATED:20250515T105127Z
LAST-MODIFIED:20250519T135224Z
UID:6475-1748433600-1748437200@wohnen-im-pennenfeld.de
SUMMARY:Mittagstisch
DESCRIPTION:Kostenbeitrag inkl. Nachtisch und Kaffee: € 4\,-\nBitte melden Sie sich bis zum 21.5. verbindlich an: 0228-227 424 41 oder andreea.bretan@awo-badgodesberg.de
URL:https://wohnen-im-pennenfeld.de/termine/mittagstisch-22/
LOCATION:Nachbarschaftstreff Pennenfeld\, Maidenheadstraße 20\, Bonn\, NRW\, 53177\, Deutschland
ORGANIZER;CN="Quartiersmanagement Pennenfeld":MAILTO:wilbertz@vebowag.de
END:VEVENT
BEGIN:VEVENT
DTSTART;TZID=Europe/Berlin:20250528T093000
DTEND;TZID=Europe/Berlin:20250528T110000
DTSTAMP:20260420T151522
CREATED:20250505T072341Z
LAST-MODIFIED:20250505T072341Z
UID:6440-1748424600-1748430000@wohnen-im-pennenfeld.de
SUMMARY:Deutsch-Konversationskurs für Frauen
DESCRIPTION:Möchten Sie zusammen mit anderen Frauen Ihre Deutschkenntnisse üben und erweitern? Dann sind Sie hier genau richtig! Der Kurs ist für Anfängerinnen und Fortgeschrittene geeignet.\nKursleiterin: Simone Saure\nDer Kurs ist kostenlos\, keine Anmeldung erforderlich. Der Einstieg ist jederzeit möglich.\nInfos bei: andreea.bretan@awo-badgodesberg.de\, 0228-227 424 41
URL:https://wohnen-im-pennenfeld.de/termine/deutsch-konversationskurs-fuer-frauen-14/2025-05-28/
LOCATION:Nachbarschaftstreff Pennenfeld\, Maidenheadstraße 20\, Bonn\, NRW\, 53177\, Deutschland
ORGANIZER;CN="Quartiersmanagement Pennenfeld":MAILTO:wilbertz@vebowag.de
END:VEVENT
BEGIN:VEVENT
DTSTART;TZID=Europe/Berlin:20250524T093000
DTEND;TZID=Europe/Berlin:20250524T110000
DTSTAMP:20260420T151522
CREATED:20250515T112847Z
LAST-MODIFIED:20250519T133103Z
UID:6451-1748079000-1748084400@wohnen-im-pennenfeld.de
SUMMARY:Qigong für Frauen
DESCRIPTION:Qigong trägt durch seine Bewegungs-\, Atem- und Meditationsübungen zur Wiederherstellung und zum Erhalt von Gesundheit und Wohlbefinden bei. Beim Qigong werden langsame und fließende Bewegungen im Stehen durchgeführt. Es kann in jedem Alter erlernt und angewandt werden!\nDer Kurs kann auch ohne Vorkenntnisse besucht werden.\nKursleiterin: Maria di Gennaro\nTeilnehmerbeitrag: € 5\,- pro Termin. Anmeldung: 0228-227 424 41\, andreea.bretan@awo-badgodesberg.de
URL:https://wohnen-im-pennenfeld.de/termine/qigong-fuer-frauen/2025-05-24/
LOCATION:Nachbarschaftstreff Pennenfeld\, Maidenheadstraße 20\, Bonn\, NRW\, 53177\, Deutschland
ORGANIZER;CN="Quartiersmanagement Pennenfeld":MAILTO:wilbertz@vebowag.de
END:VEVENT
END:VCALENDAR