﻿BEGIN:VCALENDAR
VERSION:2.0
PRODID:-//Pennenfeld - ECPv6.10.0//NONSGML v1.0//EN
CALSCALE:GREGORIAN
METHOD:PUBLISH
X-WR-CALNAME:Pennenfeld
X-ORIGINAL-URL:https://wohnen-im-pennenfeld.de
X-WR-CALDESC:Veranstaltungen für Pennenfeld
REFRESH-INTERVAL;VALUE=DURATION:PT1H
X-Robots-Tag:noindex
X-PUBLISHED-TTL:PT1H
BEGIN:VTIMEZONE
TZID:Europe/Berlin
BEGIN:DAYLIGHT
TZOFFSETFROM:+0100
TZOFFSETTO:+0200
TZNAME:CEST
DTSTART:20240331T010000
END:DAYLIGHT
BEGIN:STANDARD
TZOFFSETFROM:+0200
TZOFFSETTO:+0100
TZNAME:CET
DTSTART:20241027T010000
END:STANDARD
END:VTIMEZONE
BEGIN:VEVENT
DTSTART;TZID=Europe/Berlin:20241023T180000
DTEND;TZID=Europe/Berlin:20241023T190000
DTSTAMP:20260422T004641
CREATED:20240930T120507Z
LAST-MODIFIED:20241002T120804Z
UID:5797-1729706400-1729710000@wohnen-im-pennenfeld.de
SUMMARY:Tai Chi & Qi Gong
DESCRIPTION:Die in den Kursen vermittelten Gesundheitsübungen hat die Kursleiterin Maria di Gennaro (www.zen-shiatsu.it) von Prof. Li Xiaoming\, einem authentischen chinesischen Meister\, von 2006 bis heute gelernt. Sie unterrichtet in English (bei Bedarf auch in Spanisch und Italienisch).\n\n\n\nTeilnehmerbeitrag: € 4\,- pro Termin.\nAnmeldung: 0228-227 424 41\, andreea.bretan@awo-badgodesberg.de
URL:https://wohnen-im-pennenfeld.de/termine/tai-chi-qi-gong-18/2024-10-23/
LOCATION:Nachbarschaftstreff Pennenfeld\, Maidenheadstraße 20\, Bonn\, NRW\, 53177\, Deutschland
ORGANIZER;CN="Quartiersmanagement Pennenfeld":MAILTO:wilbertz@vebowag.de
END:VEVENT
BEGIN:VEVENT
DTSTART;TZID=Europe/Berlin:20241023T120000
DTEND;TZID=Europe/Berlin:20241023T130000
DTSTAMP:20260422T004641
CREATED:20240930T074904Z
LAST-MODIFIED:20241007T075012Z
UID:5907-1729684800-1729688400@wohnen-im-pennenfeld.de
SUMMARY:Mittagstisch
DESCRIPTION:Kostenbeitrag inkl. Nachtisch und Kaffee: € 4\,-\nBitte melden Sie sich bis zum 16.10. verbindlich an:\n0228-227 424 41 oder andreea.bretan@awo-badgodesberg.de
URL:https://wohnen-im-pennenfeld.de/termine/mittagstisch-16/
LOCATION:Nachbarschaftstreff Pennenfeld\, Maidenheadstraße 20\, Bonn\, NRW\, 53177\, Deutschland
ORGANIZER;CN="Quartiersmanagement Pennenfeld":MAILTO:wilbertz@vebowag.de
END:VEVENT
BEGIN:VEVENT
DTSTART;TZID=Europe/Berlin:20241023T093000
DTEND;TZID=Europe/Berlin:20241023T110000
DTSTAMP:20260422T004641
CREATED:20240930T123728Z
LAST-MODIFIED:20240930T123728Z
UID:5857-1729675800-1729681200@wohnen-im-pennenfeld.de
SUMMARY:Deutsch-Konversationskurs für Frauen
DESCRIPTION:Möchten Sie zusammen mit anderen Frauen Ihre Deutschkenntnisse üben und erweitern? Dann sind Sie hier genau richtig! Der Kurs ist für Anfängerinnen und Fortgeschrittene geeignet. \nKursleiterin: Simone Saure \nDer Kurs ist kostenlos\, keine Anmeldung erforderlich. Der Einstieg ist jederzeit möglich. \nInfos bei: andreea.bretan@awo-badgodesberg.de\, 0228-227 424 41
URL:https://wohnen-im-pennenfeld.de/termine/deutsch-konversationskurs-fuer-frauen-6/2024-10-23/
LOCATION:Nachbarschaftstreff Pennenfeld\, Maidenheadstraße 20\, Bonn\, NRW\, 53177\, Deutschland
ORGANIZER;CN="Quartiersmanagement Pennenfeld":MAILTO:wilbertz@vebowag.de
END:VEVENT
BEGIN:VEVENT
DTSTART;TZID=Europe/Berlin:20241019T093000
DTEND;TZID=Europe/Berlin:20241019T110000
DTSTAMP:20260422T004641
CREATED:20240930T143121Z
LAST-MODIFIED:20240930T143121Z
UID:5876-1729330200-1729335600@wohnen-im-pennenfeld.de
SUMMARY:Tai Chi & Qi Gong für Frauen
DESCRIPTION:Die in den Kursen vermittelten Gesundheitsübungen hat die Kursleiterin\nMaria di Gennaro (www.zen-shiatsu.it) von Prof. Li Xiaoming\, einem\nauthentischen chinesischen Meister\, von 2006 bis heute gelernt. Der\nUnterricht erfolgt hauptsächlich auf Englisch.\nTeilnehmerbeitrag: € 4\,- pro Termin.\nAnmeldung: 0228-227 424 41\, andreea.bretan@awo-badgodesberg.de
URL:https://wohnen-im-pennenfeld.de/termine/tai-chi-qi-gong-fuer-frauen/2024-10-19/
LOCATION:Nachbarschaftstreff Pennenfeld\, Maidenheadstraße 20\, Bonn\, NRW\, 53177\, Deutschland
ORGANIZER;CN="Quartiersmanagement Pennenfeld":MAILTO:wilbertz@vebowag.de
END:VEVENT
BEGIN:VEVENT
DTSTART;TZID=Europe/Berlin:20241018T173000
DTEND;TZID=Europe/Berlin:20241018T190000
DTSTAMP:20260422T004641
CREATED:20240930T142811Z
LAST-MODIFIED:20241007T073049Z
UID:5870-1729272600-1729278000@wohnen-im-pennenfeld.de
SUMMARY:Deutsch-Konversationskurs für Männer
DESCRIPTION:Möchten Sie gemeinsam mit anderen Männern Ihren Wortschatz\nbereichern und Ihre Sprachfähigkeiten im Deutschen vertiefen? Wollen\nSie sich in alltäglichen Gesprächsthemen auf Deutsch sicherer fühlen?\nDann sind Sie hier genau richtig!\nDieser Kurs ist speziell für Männer konzipiert\, die als Anfänger oder mit\nmittlerem Sprachniveau (A2-B1) ihre Sprachfähigkeiten erweitern und\nim Alltag anwenden möchten.\nKursleiter: Yaser Darkashly\nDer Kurs ist kostenlos\, keine Anmeldung erforderlich. Der Einstieg ist\njederzeit möglich.\nInfos bei: hasan.barbar@caritas-bonn.de\, 0228-227 424 42
URL:https://wohnen-im-pennenfeld.de/termine/deutsch-konversationskurs-fuer-maenner-8/2024-10-18/
LOCATION:Nachbarschaftstreff Pennenfeld\, Maidenheadstraße 20\, Bonn\, NRW\, 53177\, Deutschland
ORGANIZER;CN="Quartiersmanagement Pennenfeld":MAILTO:wilbertz@vebowag.de
END:VEVENT
BEGIN:VEVENT
DTSTART;TZID=Europe/Berlin:20241018T150000
DTEND;TZID=Europe/Berlin:20241018T170000
DTSTAMP:20260422T004641
CREATED:20240930T074615Z
LAST-MODIFIED:20241007T074655Z
UID:5901-1729263600-1729270800@wohnen-im-pennenfeld.de
SUMMARY:Repair Café - Reparieren statt wegwerfen!
DESCRIPTION:In gemütlicher Atmosphäre unter fachkundiger Anleitung Elektrogeräte\,\nMöbelstücke etc. reparieren.\nKostenloses Angebot\, Spenden willkommen.\nAnmeldung/ Terminvergabe: Frank Wilbertz 0228-9158 444 oder\ninfo@wohnen-im-pennenfeld.de
URL:https://wohnen-im-pennenfeld.de/termine/repair-cafe-reparieren-statt-wegwerfen-29/
LOCATION:Nachbarschaftstreff Pennenfeld\, Maidenheadstraße 20\, Bonn\, NRW\, 53177\, Deutschland
ORGANIZER;CN="Quartiersmanagement Pennenfeld":MAILTO:wilbertz@vebowag.de
END:VEVENT
BEGIN:VEVENT
DTSTART;TZID=Europe/Berlin:20241017T150000
DTEND;TZID=Europe/Berlin:20241017T163000
DTSTAMP:20260422T004641
CREATED:20240930T144714Z
LAST-MODIFIED:20241007T074812Z
UID:5903-1729177200-1729182600@wohnen-im-pennenfeld.de
SUMMARY:English-Reading-and-Conversation-Club
DESCRIPTION:Wir lesen gemeinsam eine sprachlich einfache\, aber thematisch\nanspruchsvolle Lektüre und besprechen sie.\nTeilnehmerbeitrag: € 3\,-\nAnmeldung: 0228-227 424 41\, andreea.bretan@awo-badgodesberg.de
URL:https://wohnen-im-pennenfeld.de/termine/english-reading-and-conversation-club-11/
LOCATION:Nachbarschaftstreff Pennenfeld\, Maidenheadstraße 20\, Bonn\, NRW\, 53177\, Deutschland
ORGANIZER;CN="Quartiersmanagement Pennenfeld":MAILTO:wilbertz@vebowag.de
END:VEVENT
BEGIN:VEVENT
DTSTART;TZID=Europe/Berlin:20241017T123000
DTEND;TZID=Europe/Berlin:20241017T140000
DTSTAMP:20260422T004641
CREATED:20240930T152556Z
LAST-MODIFIED:20240930T152556Z
UID:5863-1729168200-1729173600@wohnen-im-pennenfeld.de
SUMMARY:Deutsch-Konversationskurs für Männer
DESCRIPTION:Möchten Sie gemeinsam mit anderen Männern Ihren Wortschatz\nbereichern und Ihre Sprachfähigkeiten im Deutschen vertiefen? Wollen\nSie sich in alltäglichen Gesprächsthemen auf Deutsch sicherer fühlen?\nDann sind Sie hier genau richtig!\nDieser Kurs ist speziell für Männer konzipiert\, die als Anfänger oder mit\nmittlerem Sprachniveau (A2-B1) ihre Sprachfähigkeiten erweitern und\nim Alltag anwenden möchten.\nKursleiter: Yaser Darkashly\nDer Kurs ist kostenlos\, keine Anmeldung erforderlich. Der Einstieg ist\njederzeit möglich.\nInfos bei: hasan.barbar@caritas-bonn.de\, 0228-227 424 42
URL:https://wohnen-im-pennenfeld.de/termine/deutsch-konversationskurs-fuer-maenner-7/2024-10-17/
LOCATION:Nachbarschaftstreff Pennenfeld\, Maidenheadstraße 20\, Bonn\, NRW\, 53177\, Deutschland
ORGANIZER;CN="Quartiersmanagement Pennenfeld":MAILTO:wilbertz@vebowag.de
END:VEVENT
BEGIN:VEVENT
DTSTART;TZID=Europe/Berlin:20241017T110000
DTEND;TZID=Europe/Berlin:20241017T120000
DTSTAMP:20260422T004641
CREATED:20240930T122018Z
LAST-MODIFIED:20241002T122244Z
UID:5833-1729162800-1729166400@wohnen-im-pennenfeld.de
SUMMARY:Fitness für Körper und Geist
DESCRIPTION:Bewegungsangebot für Seniorinnen und Senioren \nGymnastik im Sitzen und Stehen mit Übungen aus dem Ganzheitlichen Gehirntraining (GGT)\, Wahrnehmungs-\, Gleichgewichts-\, Konzentrations- und Koordinationsübungen\, Training von Alltagskompetenzen; bei gutem Wetter nutzen wir den Outdoor-Fitnesspark \nBuchung des gesamten Kurses (8 Termine\, 12.9.-14.11.): € 45\,- \nInfos unter: 0228-227 424 41\, andreea.bretan@awo-badgodesberg.de
URL:https://wohnen-im-pennenfeld.de/termine/5824/2024-10-17/
LOCATION:Nachbarschaftstreff Pennenfeld\, Maidenheadstraße 20\, Bonn\, NRW\, 53177\, Deutschland
ORGANIZER;CN="Quartiersmanagement Pennenfeld":MAILTO:wilbertz@vebowag.de
END:VEVENT
BEGIN:VEVENT
DTSTART;TZID=Europe/Berlin:20241017T100000
DTEND;TZID=Europe/Berlin:20241017T110000
DTSTAMP:20260422T004641
CREATED:20240930T121131Z
LAST-MODIFIED:20241002T121930Z
UID:5805-1729159200-1729162800@wohnen-im-pennenfeld.de
SUMMARY:Fitness für Körper und Geist
DESCRIPTION:Bewegungsangebot für Seniorinnen und Senioren \nGymnastik im Sitzen und Stehen mit Übungen aus dem Ganzheitlichen Gehirntraining (GGT)\, Wahrnehmungs-\, Gleichgewichts-\, Konzentrations- und Koordinationsübungen\, Training von Alltagskompetenzen; bei gutem Wetter nutzen wir den Outdoor-Fitnesspark \nBuchung des gesamten Kurses (8 Termine\, 12.9.-14.11.): € 45\,- \nInfos unter: 0228-227 424 41\, andreea.bretan@awo-badgodesberg.de
URL:https://wohnen-im-pennenfeld.de/termine/fitness-fuer-koerper-und-geist-19-2024-10-10/2024-10-17/
LOCATION:Nachbarschaftstreff Pennenfeld\, Maidenheadstraße 20\, Bonn\, NRW\, 53177\, Deutschland
ORGANIZER;CN="Quartiersmanagement Pennenfeld":MAILTO:wilbertz@vebowag.de
END:VEVENT
BEGIN:VEVENT
DTSTART;TZID=Europe/Berlin:20241016T180000
DTEND;TZID=Europe/Berlin:20241016T190000
DTSTAMP:20260422T004641
CREATED:20240930T120507Z
LAST-MODIFIED:20241002T120804Z
UID:5796-1729101600-1729105200@wohnen-im-pennenfeld.de
SUMMARY:Tai Chi & Qi Gong
DESCRIPTION:Die in den Kursen vermittelten Gesundheitsübungen hat die Kursleiterin Maria di Gennaro (www.zen-shiatsu.it) von Prof. Li Xiaoming\, einem authentischen chinesischen Meister\, von 2006 bis heute gelernt. Sie unterrichtet in English (bei Bedarf auch in Spanisch und Italienisch).\n\n\n\nTeilnehmerbeitrag: € 4\,- pro Termin.\nAnmeldung: 0228-227 424 41\, andreea.bretan@awo-badgodesberg.de
URL:https://wohnen-im-pennenfeld.de/termine/tai-chi-qi-gong-18/2024-10-16/
LOCATION:Nachbarschaftstreff Pennenfeld\, Maidenheadstraße 20\, Bonn\, NRW\, 53177\, Deutschland
ORGANIZER;CN="Quartiersmanagement Pennenfeld":MAILTO:wilbertz@vebowag.de
END:VEVENT
BEGIN:VEVENT
DTSTART;TZID=Europe/Berlin:20241016T093000
DTEND;TZID=Europe/Berlin:20241016T110000
DTSTAMP:20260422T004641
CREATED:20240930T123728Z
LAST-MODIFIED:20240930T123728Z
UID:5856-1729071000-1729076400@wohnen-im-pennenfeld.de
SUMMARY:Deutsch-Konversationskurs für Frauen
DESCRIPTION:Möchten Sie zusammen mit anderen Frauen Ihre Deutschkenntnisse üben und erweitern? Dann sind Sie hier genau richtig! Der Kurs ist für Anfängerinnen und Fortgeschrittene geeignet. \nKursleiterin: Simone Saure \nDer Kurs ist kostenlos\, keine Anmeldung erforderlich. Der Einstieg ist jederzeit möglich. \nInfos bei: andreea.bretan@awo-badgodesberg.de\, 0228-227 424 41
URL:https://wohnen-im-pennenfeld.de/termine/deutsch-konversationskurs-fuer-frauen-6/2024-10-16/
LOCATION:Nachbarschaftstreff Pennenfeld\, Maidenheadstraße 20\, Bonn\, NRW\, 53177\, Deutschland
ORGANIZER;CN="Quartiersmanagement Pennenfeld":MAILTO:wilbertz@vebowag.de
END:VEVENT
BEGIN:VEVENT
DTSTART;TZID=Europe/Berlin:20241015T110000
DTEND;TZID=Europe/Berlin:20241015T110000
DTSTAMP:20260422T004641
CREATED:20240930T115656Z
LAST-MODIFIED:20240930T115656Z
UID:5991-1728990000-1728990000@wohnen-im-pennenfeld.de
SUMMARY:Lebensmittelausgabe im Nachbarschaftstreff Pennenfeld
DESCRIPTION:
URL:https://wohnen-im-pennenfeld.de/termine/lebensmittelausgabe-im-nachbarschaftstreff-pennenfeld-59/2024-10-15/
LOCATION:Nachbarschaftstreff Pennenfeld\, Maidenheadstraße 20\, Bonn\, NRW\, 53177\, Deutschland
ORGANIZER;CN="Quartiersmanagement Pennenfeld":MAILTO:wilbertz@vebowag.de
END:VEVENT
BEGIN:VEVENT
DTSTART;TZID=Europe/Berlin:20241012T093000
DTEND;TZID=Europe/Berlin:20241012T110000
DTSTAMP:20260422T004641
CREATED:20240930T143121Z
LAST-MODIFIED:20241007T073236Z
UID:5874-1728725400-1728730800@wohnen-im-pennenfeld.de
SUMMARY:Tai Chi & Qi Gong für Frauen
DESCRIPTION:Die in den Kursen vermittelten Gesundheitsübungen hat die Kursleiterin\nMaria di Gennaro (www.zen-shiatsu.it) von Prof. Li Xiaoming\, einem\nauthentischen chinesischen Meister\, von 2006 bis heute gelernt. Der\nUnterricht erfolgt hauptsächlich auf Englisch.\nTeilnehmerbeitrag: € 4\,- pro Termin.\nAnmeldung: 0228-227 424 41\, andreea.bretan@awo-badgodesberg.de
URL:https://wohnen-im-pennenfeld.de/termine/tai-chi-qi-gong-fuer-frauen/2024-10-12/
LOCATION:Nachbarschaftstreff Pennenfeld\, Maidenheadstraße 20\, Bonn\, NRW\, 53177\, Deutschland
ORGANIZER;CN="Quartiersmanagement Pennenfeld":MAILTO:wilbertz@vebowag.de
END:VEVENT
BEGIN:VEVENT
DTSTART;TZID=Europe/Berlin:20241011T173000
DTEND;TZID=Europe/Berlin:20241011T190000
DTSTAMP:20260422T004641
CREATED:20240930T142811Z
LAST-MODIFIED:20241007T073049Z
UID:5867-1728667800-1728673200@wohnen-im-pennenfeld.de
SUMMARY:Deutsch-Konversationskurs für Männer
DESCRIPTION:Möchten Sie gemeinsam mit anderen Männern Ihren Wortschatz\nbereichern und Ihre Sprachfähigkeiten im Deutschen vertiefen? Wollen\nSie sich in alltäglichen Gesprächsthemen auf Deutsch sicherer fühlen?\nDann sind Sie hier genau richtig!\nDieser Kurs ist speziell für Männer konzipiert\, die als Anfänger oder mit\nmittlerem Sprachniveau (A2-B1) ihre Sprachfähigkeiten erweitern und\nim Alltag anwenden möchten.\nKursleiter: Yaser Darkashly\nDer Kurs ist kostenlos\, keine Anmeldung erforderlich. Der Einstieg ist\njederzeit möglich.\nInfos bei: hasan.barbar@caritas-bonn.de\, 0228-227 424 42
URL:https://wohnen-im-pennenfeld.de/termine/deutsch-konversationskurs-fuer-maenner-8/2024-10-11/
LOCATION:Nachbarschaftstreff Pennenfeld\, Maidenheadstraße 20\, Bonn\, NRW\, 53177\, Deutschland
ORGANIZER;CN="Quartiersmanagement Pennenfeld":MAILTO:wilbertz@vebowag.de
END:VEVENT
BEGIN:VEVENT
DTSTART;TZID=Europe/Berlin:20241011T100000
DTEND;TZID=Europe/Berlin:20241011T113000
DTSTAMP:20260422T004641
CREATED:20240930T143947Z
LAST-MODIFIED:20241007T074057Z
UID:5897-1728640800-1728646200@wohnen-im-pennenfeld.de
SUMMARY:Interkulturelles Frauenfrühstück
DESCRIPTION:Herzliche Einladung zu unserem interkulturellen Frauenfrühstück!\nBitte bringen Sie einen kleinen Beitrag zum gemeinsamen bunten Buffet\nmit.\nAnmeldung: 0228-227 424 41\, andreea.bretan@awo-badgodesberg.de
URL:https://wohnen-im-pennenfeld.de/termine/interkulturelles-frauenfruehstueck-16/
LOCATION:Nachbarschaftstreff Pennenfeld\, Maidenheadstraße 20\, Bonn\, NRW\, 53177\, Deutschland
ORGANIZER;CN="Quartiersmanagement Pennenfeld":MAILTO:wilbertz@vebowag.de
END:VEVENT
BEGIN:VEVENT
DTSTART;TZID=Europe/Berlin:20241010T150000
DTEND;TZID=Europe/Berlin:20241010T170000
DTSTAMP:20260422T004641
CREATED:20240930T143834Z
LAST-MODIFIED:20241007T074216Z
UID:5894-1728572400-1728579600@wohnen-im-pennenfeld.de
SUMMARY:Gesangsnachmittag mit Kaffee und Kuchen
DESCRIPTION:Gemeinsam singen wir Lieder quer durch das deutsche Liederbuch und\nwerden dabei von Akkordeon\, Mandoline und Mundharmonika\nbegleitet.\nTeilnehmerbeitrag: € 2\,50\nKeine Anmeldung erforderlich
URL:https://wohnen-im-pennenfeld.de/termine/gesangsnachmittag-mit-kaffee-und-kuchen-14/
LOCATION:Nachbarschaftstreff Pennenfeld\, Maidenheadstraße 20\, Bonn\, NRW\, 53177\, Deutschland
ORGANIZER;CN="Quartiersmanagement Pennenfeld":MAILTO:wilbertz@vebowag.de
END:VEVENT
BEGIN:VEVENT
DTSTART;TZID=Europe/Berlin:20241010T123000
DTEND;TZID=Europe/Berlin:20241010T140000
DTSTAMP:20260422T004641
CREATED:20240930T152556Z
LAST-MODIFIED:20241007T072728Z
UID:5861-1728563400-1728568800@wohnen-im-pennenfeld.de
SUMMARY:Deutsch-Konversationskurs für Männer
DESCRIPTION:Möchten Sie gemeinsam mit anderen Männern Ihren Wortschatz\nbereichern und Ihre Sprachfähigkeiten im Deutschen vertiefen? Wollen\nSie sich in alltäglichen Gesprächsthemen auf Deutsch sicherer fühlen?\nDann sind Sie hier genau richtig!\nDieser Kurs ist speziell für Männer konzipiert\, die als Anfänger oder mit\nmittlerem Sprachniveau (A2-B1) ihre Sprachfähigkeiten erweitern und\nim Alltag anwenden möchten.\nKursleiter: Yaser Darkashly\nDer Kurs ist kostenlos\, keine Anmeldung erforderlich. Der Einstieg ist\njederzeit möglich.\nInfos bei: hasan.barbar@caritas-bonn.de\, 0228-227 424 42
URL:https://wohnen-im-pennenfeld.de/termine/deutsch-konversationskurs-fuer-maenner-7/2024-10-10/
LOCATION:Nachbarschaftstreff Pennenfeld\, Maidenheadstraße 20\, Bonn\, NRW\, 53177\, Deutschland
ORGANIZER;CN="Quartiersmanagement Pennenfeld":MAILTO:wilbertz@vebowag.de
END:VEVENT
BEGIN:VEVENT
DTSTART;TZID=Europe/Berlin:20241010T110000
DTEND;TZID=Europe/Berlin:20241010T120000
DTSTAMP:20260422T004641
CREATED:20240930T122018Z
LAST-MODIFIED:20241002T122244Z
UID:5824-1728558000-1728561600@wohnen-im-pennenfeld.de
SUMMARY:Fitness für Körper und Geist
DESCRIPTION:Bewegungsangebot für Seniorinnen und Senioren \nGymnastik im Sitzen und Stehen mit Übungen aus dem Ganzheitlichen Gehirntraining (GGT)\, Wahrnehmungs-\, Gleichgewichts-\, Konzentrations- und Koordinationsübungen\, Training von Alltagskompetenzen; bei gutem Wetter nutzen wir den Outdoor-Fitnesspark \nBuchung des gesamten Kurses (8 Termine\, 12.9.-14.11.): € 45\,- \nInfos unter: 0228-227 424 41\, andreea.bretan@awo-badgodesberg.de
URL:https://wohnen-im-pennenfeld.de/termine/5824/2024-10-10/
LOCATION:Nachbarschaftstreff Pennenfeld\, Maidenheadstraße 20\, Bonn\, NRW\, 53177\, Deutschland
ORGANIZER;CN="Quartiersmanagement Pennenfeld":MAILTO:wilbertz@vebowag.de
END:VEVENT
BEGIN:VEVENT
DTSTART;TZID=Europe/Berlin:20241010T100000
DTEND;TZID=Europe/Berlin:20241010T110000
DTSTAMP:20260422T004641
CREATED:20240930T121131Z
LAST-MODIFIED:20241002T121930Z
UID:5804-1728554400-1728558000@wohnen-im-pennenfeld.de
SUMMARY:Fitness für Körper und Geist
DESCRIPTION:Bewegungsangebot für Seniorinnen und Senioren \nGymnastik im Sitzen und Stehen mit Übungen aus dem Ganzheitlichen Gehirntraining (GGT)\, Wahrnehmungs-\, Gleichgewichts-\, Konzentrations- und Koordinationsübungen\, Training von Alltagskompetenzen; bei gutem Wetter nutzen wir den Outdoor-Fitnesspark \nBuchung des gesamten Kurses (8 Termine\, 12.9.-14.11.): € 45\,- \nInfos unter: 0228-227 424 41\, andreea.bretan@awo-badgodesberg.de
URL:https://wohnen-im-pennenfeld.de/termine/fitness-fuer-koerper-und-geist-19-2024-10-10/2024-10-10/
LOCATION:Nachbarschaftstreff Pennenfeld\, Maidenheadstraße 20\, Bonn\, NRW\, 53177\, Deutschland
ORGANIZER;CN="Quartiersmanagement Pennenfeld":MAILTO:wilbertz@vebowag.de
END:VEVENT
BEGIN:VEVENT
DTSTART;TZID=Europe/Berlin:20241009T180000
DTEND;TZID=Europe/Berlin:20241009T190000
DTSTAMP:20260422T004641
CREATED:20240930T120507Z
LAST-MODIFIED:20241002T120804Z
UID:5795-1728496800-1728500400@wohnen-im-pennenfeld.de
SUMMARY:Tai Chi & Qi Gong
DESCRIPTION:Die in den Kursen vermittelten Gesundheitsübungen hat die Kursleiterin Maria di Gennaro (www.zen-shiatsu.it) von Prof. Li Xiaoming\, einem authentischen chinesischen Meister\, von 2006 bis heute gelernt. Sie unterrichtet in English (bei Bedarf auch in Spanisch und Italienisch).\n\n\n\nTeilnehmerbeitrag: € 4\,- pro Termin.\nAnmeldung: 0228-227 424 41\, andreea.bretan@awo-badgodesberg.de
URL:https://wohnen-im-pennenfeld.de/termine/tai-chi-qi-gong-18/2024-10-09/
LOCATION:Nachbarschaftstreff Pennenfeld\, Maidenheadstraße 20\, Bonn\, NRW\, 53177\, Deutschland
ORGANIZER;CN="Quartiersmanagement Pennenfeld":MAILTO:wilbertz@vebowag.de
END:VEVENT
BEGIN:VEVENT
DTSTART;TZID=Europe/Berlin:20241009T093000
DTEND;TZID=Europe/Berlin:20241009T110000
DTSTAMP:20260422T004641
CREATED:20240930T123728Z
LAST-MODIFIED:20240930T123728Z
UID:5855-1728466200-1728471600@wohnen-im-pennenfeld.de
SUMMARY:Deutsch-Konversationskurs für Frauen
DESCRIPTION:Möchten Sie zusammen mit anderen Frauen Ihre Deutschkenntnisse üben und erweitern? Dann sind Sie hier genau richtig! Der Kurs ist für Anfängerinnen und Fortgeschrittene geeignet. \nKursleiterin: Simone Saure \nDer Kurs ist kostenlos\, keine Anmeldung erforderlich. Der Einstieg ist jederzeit möglich. \nInfos bei: andreea.bretan@awo-badgodesberg.de\, 0228-227 424 41
URL:https://wohnen-im-pennenfeld.de/termine/deutsch-konversationskurs-fuer-frauen-6/2024-10-09/
LOCATION:Nachbarschaftstreff Pennenfeld\, Maidenheadstraße 20\, Bonn\, NRW\, 53177\, Deutschland
ORGANIZER;CN="Quartiersmanagement Pennenfeld":MAILTO:wilbertz@vebowag.de
END:VEVENT
BEGIN:VEVENT
DTSTART;TZID=Europe/Berlin:20241008T173000
DTEND;TZID=Europe/Berlin:20241008T203000
DTSTAMP:20260422T004641
CREATED:20240930T143417Z
LAST-MODIFIED:20241007T073646Z
UID:5884-1728408600-1728419400@wohnen-im-pennenfeld.de
SUMMARY:Kochen im Nachbarschaftstreff
DESCRIPTION:Lernen Sie nette Menschen kennen und haben Sie Spaß beim\ngemeinsamen Kochen! Wir kochen regionale Gerichte aus regionalen\nZutaten und probieren auch die internationale Küche mit exotischen\nZutaten.\nTeilnehmerbeitrag: € 1\,50\nAnmeldung erforderlich bei Herrn Lee: 0151-121 84 230\nIn Kooperation mit der Gemeindepsychatrie Bonn-Rhein-Sieg
URL:https://wohnen-im-pennenfeld.de/termine/kochen-im-nachbarschaftstreff-12/2024-10-08/
LOCATION:Nachbarschaftstreff Pennenfeld\, Maidenheadstraße 20\, Bonn\, NRW\, 53177\, Deutschland
END:VEVENT
BEGIN:VEVENT
DTSTART;TZID=Europe/Berlin:20241008T110000
DTEND;TZID=Europe/Berlin:20241008T110000
DTSTAMP:20260422T004641
CREATED:20240930T115656Z
LAST-MODIFIED:20240930T115656Z
UID:5990-1728385200-1728385200@wohnen-im-pennenfeld.de
SUMMARY:Lebensmittelausgabe im Nachbarschaftstreff Pennenfeld
DESCRIPTION:
URL:https://wohnen-im-pennenfeld.de/termine/lebensmittelausgabe-im-nachbarschaftstreff-pennenfeld-59/2024-10-08/
LOCATION:Nachbarschaftstreff Pennenfeld\, Maidenheadstraße 20\, Bonn\, NRW\, 53177\, Deutschland
ORGANIZER;CN="Quartiersmanagement Pennenfeld":MAILTO:wilbertz@vebowag.de
END:VEVENT
BEGIN:VEVENT
DTSTART;TZID=Europe/Berlin:20241005T093000
DTEND;TZID=Europe/Berlin:20241005T110000
DTSTAMP:20260422T004641
CREATED:20240830T161404Z
LAST-MODIFIED:20240913T161655Z
UID:5726-1728120600-1728126000@wohnen-im-pennenfeld.de
SUMMARY:Tai Chi & Qi Gong für Frauen - NEU ab dem 6.9.2024
DESCRIPTION:Die in den Kursen vermittelten Gesundheitsübungen hat die Kursleiterin Maria di Gennaro (www.zen-shiatsu.it) von Prof. Li Xiaoming\, einem authentischen chinesischen Meister\, von 2006 bis heute gelernt. Der Unterricht erfolgt hauptsächlich auf Englisch. \nTeilnehmerbeitrag: € 4\,- pro Termin. \nAnmeldung: 0228-227 424 41\, andreea.bretan@awo-badgodesberg.de
URL:https://wohnen-im-pennenfeld.de/termine/tai-chi-qi-gong-fuer-frauen-neu-ab-dem-6-9-2024/2024-10-05/
LOCATION:Nachbarschaftstreff Pennenfeld\, Maidenheadstraße 20\, Bonn\, NRW\, 53177\, Deutschland
ORGANIZER;CN="Quartiersmanagement Pennenfeld":MAILTO:wilbertz@vebowag.de
END:VEVENT
BEGIN:VEVENT
DTSTART;TZID=Europe/Berlin:20241004T173000
DTEND;TZID=Europe/Berlin:20241004T190000
DTSTAMP:20260422T004641
CREATED:20240830T154914Z
LAST-MODIFIED:20240830T154914Z
UID:5706-1728063000-1728068400@wohnen-im-pennenfeld.de
SUMMARY:Deutsch-Konversationskurs für Männer
DESCRIPTION:Möchten Sie gemeinsam mit anderen Männern Ihren Wortschatz bereichern und Ihre Sprachfähigkeiten im Deutschen vertiefen? Wollen Sie sich in alltäglichen Gesprächsthemen auf Deutsch sicherer fühlen? Dann sind Sie hier genau richtig! \nDieser Kurs ist speziell für Männer konzipiert\, die als Anfänger oder mit mittlerem Sprachniveau (A2-B1) ihre Sprachfähigkeiten erweitern und im Alltag anwenden möchten. \nKursleiter: Yaser Darkashly \nDer Kurs ist kostenlos\, keine Anmeldung erforderlich. Ein Einstieg ist jederzeit möglich. \nInfos bei: hasan.barbar@caritas-bonn.de\, 0228-227 424 42
URL:https://wohnen-im-pennenfeld.de/termine/deutsch-konversationskurs-fuer-maenner-6/2024-10-04/
LOCATION:Nachbarschaftstreff Pennenfeld\, Maidenheadstraße 20\, Bonn\, NRW\, 53177\, Deutschland
ORGANIZER;CN="Quartiersmanagement Pennenfeld":MAILTO:wilbertz@vebowag.de
END:VEVENT
BEGIN:VEVENT
DTSTART;TZID=Europe/Berlin:20241002T180000
DTEND;TZID=Europe/Berlin:20241002T190000
DTSTAMP:20260422T004641
CREATED:20240930T120507Z
LAST-MODIFIED:20241002T120803Z
UID:5790-1727892000-1727895600@wohnen-im-pennenfeld.de
SUMMARY:Tai Chi & Qi Gong
DESCRIPTION:Die in den Kursen vermittelten Gesundheitsübungen hat die Kursleiterin Maria di Gennaro (www.zen-shiatsu.it) von Prof. Li Xiaoming\, einem authentischen chinesischen Meister\, von 2006 bis heute gelernt. Sie unterrichtet in English (bei Bedarf auch in Spanisch und Italienisch).\n\n\n\nTeilnehmerbeitrag: € 4\,- pro Termin.\nAnmeldung: 0228-227 424 41\, andreea.bretan@awo-badgodesberg.de
URL:https://wohnen-im-pennenfeld.de/termine/tai-chi-qi-gong-18/2024-10-02/
LOCATION:Nachbarschaftstreff Pennenfeld\, Maidenheadstraße 20\, Bonn\, NRW\, 53177\, Deutschland
ORGANIZER;CN="Quartiersmanagement Pennenfeld":MAILTO:wilbertz@vebowag.de
END:VEVENT
BEGIN:VEVENT
DTSTART;TZID=Europe/Berlin:20241002T093000
DTEND;TZID=Europe/Berlin:20241002T110000
DTSTAMP:20260422T004641
CREATED:20240930T123728Z
LAST-MODIFIED:20241002T123949Z
UID:5853-1727861400-1727866800@wohnen-im-pennenfeld.de
SUMMARY:Deutsch-Konversationskurs für Frauen
DESCRIPTION:Möchten Sie zusammen mit anderen Frauen Ihre Deutschkenntnisse üben und erweitern? Dann sind Sie hier genau richtig! Der Kurs ist für Anfängerinnen und Fortgeschrittene geeignet. \nKursleiterin: Simone Saure \nDer Kurs ist kostenlos\, keine Anmeldung erforderlich. Der Einstieg ist jederzeit möglich. \nInfos bei: andreea.bretan@awo-badgodesberg.de\, 0228-227 424 41
URL:https://wohnen-im-pennenfeld.de/termine/deutsch-konversationskurs-fuer-frauen-6/2024-10-02/
LOCATION:Nachbarschaftstreff Pennenfeld\, Maidenheadstraße 20\, Bonn\, NRW\, 53177\, Deutschland
ORGANIZER;CN="Quartiersmanagement Pennenfeld":MAILTO:wilbertz@vebowag.de
END:VEVENT
BEGIN:VEVENT
DTSTART;TZID=Europe/Berlin:20241001T153000
DTEND;TZID=Europe/Berlin:20241001T170000
DTSTAMP:20260422T004641
CREATED:20240930T123406Z
LAST-MODIFIED:20241002T123503Z
UID:5851-1727796600-1727802000@wohnen-im-pennenfeld.de
SUMMARY:Strick- und Häkeltreff
DESCRIPTION:Gemeinsames Handarbeiten\, Austausch von Anleitungen und Tipps\, Hilfestellung für Anfängerinnen sowie Knüpfen neuer Kontakte in lockerer Atmosphäre. Die Treffen finden in Deutsch und Englisch (wenn gewünscht auch in Spanisch und Italienisch) statt.\nBitte eigene Handarbeitssachen und Material mitbringen. \nKostenloses Angebot; Anmeldung unter 0228-227 424 41\, andreea.bretan@awo-badgodesberg.de
URL:https://wohnen-im-pennenfeld.de/termine/strick-und-haekeltreff-7/
LOCATION:Nachbarschaftstreff Pennenfeld\, Maidenheadstraße 20\, Bonn\, NRW\, 53177\, Deutschland
ORGANIZER;CN="Quartiersmanagement Pennenfeld":MAILTO:wilbertz@vebowag.de
END:VEVENT
BEGIN:VEVENT
DTSTART;TZID=Europe/Berlin:20241001T120000
DTEND;TZID=Europe/Berlin:20241001T143000
DTSTAMP:20260422T004641
CREATED:20240830T165131Z
LAST-MODIFIED:20240913T165501Z
UID:5758-1727784000-1727793000@wohnen-im-pennenfeld.de
SUMMARY:Verbraucher- und Umweltberatung - für einen Termin melden Sie sich bitte mindestens einen Tag vorher an
DESCRIPTION:Die Verbraucherzentrale berät Sie kostenlos zu rechtlichen Themen\, z.B. zu Telefon- und Internetverträgen\, Inkassobriefen\, Kaufverträgen\, dubiosen Kreditkartenangeboten\, Abos und Abzocke\, Energiesparen und Umweltschutz. \nFür einen Termin melden Sie sich bitte mindestens einen Tag vorher an: Telefonisch unter 0163-19 14 272 oder 0160-98 17 34 30 oder über die E-Mail-Adresse: bonn.quartier@verbraucherzentrale.nrw
URL:https://wohnen-im-pennenfeld.de/termine/verbraucher-und-umweltberatung-fuer-einen-termin-melden-sie-sich-bitte-mindestens-einen-tag-vorher-an/2024-10-01/
LOCATION:Nachbarschaftstreff Pennenfeld\, Maidenheadstraße 20\, Bonn\, NRW\, 53177\, Deutschland
END:VEVENT
END:VCALENDAR