﻿BEGIN:VCALENDAR
VERSION:2.0
PRODID:-//Pennenfeld - ECPv6.10.0//NONSGML v1.0//EN
CALSCALE:GREGORIAN
METHOD:PUBLISH
X-WR-CALNAME:Pennenfeld
X-ORIGINAL-URL:https://wohnen-im-pennenfeld.de
X-WR-CALDESC:Veranstaltungen für Pennenfeld
REFRESH-INTERVAL;VALUE=DURATION:PT1H
X-Robots-Tag:noindex
X-PUBLISHED-TTL:PT1H
BEGIN:VTIMEZONE
TZID:Europe/Berlin
BEGIN:DAYLIGHT
TZOFFSETFROM:+0100
TZOFFSETTO:+0200
TZNAME:CEST
DTSTART:20240331T010000
END:DAYLIGHT
BEGIN:STANDARD
TZOFFSETFROM:+0200
TZOFFSETTO:+0100
TZNAME:CET
DTSTART:20241027T010000
END:STANDARD
END:VTIMEZONE
BEGIN:VEVENT
DTSTART;TZID=Europe/Berlin:20240716T110000
DTEND;TZID=Europe/Berlin:20240716T110000
DTSTAMP:20260423T002205
CREATED:20240628T151804Z
LAST-MODIFIED:20240628T151804Z
UID:5542-1721127600-1721127600@wohnen-im-pennenfeld.de
SUMMARY:Lebensmittelausgabe im Nachbarschaftstreff Pennenfeld
DESCRIPTION:
URL:https://wohnen-im-pennenfeld.de/termine/lebensmittelausgabe-im-nachbarschaftstreff-pennenfeld-56/2024-07-16/
LOCATION:Nachbarschaftstreff Pennenfeld\, Maidenheadstraße 20\, Bonn\, NRW\, 53177\, Deutschland
ORGANIZER;CN="Quartiersmanagement Pennenfeld":MAILTO:wilbertz@vebowag.de
END:VEVENT
BEGIN:VEVENT
DTSTART;TZID=Europe/Berlin:20240712T173000
DTEND;TZID=Europe/Berlin:20240712T190000
DTSTAMP:20260423T002205
CREATED:20240603T151104Z
LAST-MODIFIED:20240603T151104Z
UID:5522-1720805400-1720810800@wohnen-im-pennenfeld.de
SUMMARY:Deutsch-Konversationskurs für Männer
DESCRIPTION:Möchten Sie gemeinsam mit anderen Männern Ihren Wortschatz bereichern und Ihre Sprachfähigkeiten im Deutschen vertiefen? Wollen Sie sich in alltäglichen Gesprächsthemen auf Deutsch sicherer fühlen? Dann sind Sie hier genau richtig! \nDieser Kurs ist speziell für Männer konzipiert\, die als Anfänger oder mit mittlerem Sprachniveau (A2-B1) ihre Sprachfähigkeiten erweitern und im Alltag anwenden möchten. \nKursleiter: Yaser Darkashly \nDer Kurs ist kostenlos\, keine Anmeldung erforderlich. Ein Einstieg ist jederzeit möglich.\n\n\n\nInfos bei: hasan.barbar@caritas-bonn.de\, 0228-227 424 42
URL:https://wohnen-im-pennenfeld.de/termine/deutsch-konversationskurs-fuer-maenner-2/2024-07-12/
LOCATION:Nachbarschaftstreff Pennenfeld\, Maidenheadstraße 20\, Bonn\, NRW\, 53177\, Deutschland
ORGANIZER;CN="Quartiersmanagement Pennenfeld":MAILTO:wilbertz@vebowag.de
END:VEVENT
BEGIN:VEVENT
DTSTART;TZID=Europe/Berlin:20240712T100000
DTEND;TZID=Europe/Berlin:20240712T113000
DTSTAMP:20260423T002205
CREATED:20240628T135411Z
LAST-MODIFIED:20240704T135528Z
UID:5565-1720778400-1720783800@wohnen-im-pennenfeld.de
SUMMARY:Interkulturelles Frauenfrühstück
DESCRIPTION:Herzliche Einladung zu unserem interkulturellen Frauenfrühstück! \nBitte bringen Sie einen kleinen Beitrag zum gemeinsamen bunten Buffet mit.\n\n\n\nAnmeldung: 0228-227 424 41\, andreea.bretan@awo-badgodesberg.de
URL:https://wohnen-im-pennenfeld.de/termine/interkulturelles-frauenfruehstueck-15/
LOCATION:Nachbarschaftstreff Pennenfeld\, Maidenheadstraße 20\, Bonn\, NRW\, 53177\, Deutschland
ORGANIZER;CN="Quartiersmanagement Pennenfeld":MAILTO:wilbertz@vebowag.de
END:VEVENT
BEGIN:VEVENT
DTSTART;TZID=Europe/Berlin:20240711T150000
DTEND;TZID=Europe/Berlin:20240711T170000
DTSTAMP:20260423T002205
CREATED:20240628T135252Z
LAST-MODIFIED:20240704T135359Z
UID:5563-1720710000-1720717200@wohnen-im-pennenfeld.de
SUMMARY:Gesangsnachmittag mit Kaffee und Kuchen
DESCRIPTION:Gemeinsam singen wir Lieder quer durch das deutsche Liederbuch und \nwerden dabei von Akkordeon\, Mandoline und Mundharmonika begleitet. \nTeilnehmerbeitrag: € 2\,50\n\n\n\nKeine Anmeldung erforderlich
URL:https://wohnen-im-pennenfeld.de/termine/gesangsnachmittag-mit-kaffee-und-kuchen-11/
LOCATION:Nachbarschaftstreff Pennenfeld\, Maidenheadstraße 20\, Bonn\, NRW\, 53177\, Deutschland
ORGANIZER;CN="Quartiersmanagement Pennenfeld":MAILTO:wilbertz@vebowag.de
END:VEVENT
BEGIN:VEVENT
DTSTART;TZID=Europe/Berlin:20240711T130000
DTEND;TZID=Europe/Berlin:20240711T143000
DTSTAMP:20260423T002205
CREATED:20240603T170939Z
LAST-MODIFIED:20240603T170939Z
UID:5517-1720702800-1720708200@wohnen-im-pennenfeld.de
SUMMARY:Deutsch-Konversationskurs für Männer
DESCRIPTION:Möchten Sie gemeinsam mit anderen Männern Ihren Wortschatz bereichern und Ihre Sprachfähigkeiten im Deutschen vertiefen? Wollen Sie sich in alltäglichen Gesprächsthemen auf Deutsch sicherer fühlen? Dann sind Sie hier genau richtig! \nDieser Kurs ist speziell für Männer konzipiert\, die als Anfänger oder mit mittlerem Sprachniveau (A2-B1) ihre Sprachfähigkeiten erweitern und im Alltag anwenden möchten. \nKursleiter: Yaser Darkashly \nDer Kurs ist kostenlos\, keine Anmeldung erforderlich. Ein Einstieg ist jederzeit möglich.\n\n\n\nInfos bei: hasan.barbar@caritas-bonn.de\, 0228-227 424 42
URL:https://wohnen-im-pennenfeld.de/termine/deutsch-konversationskurs-fuer-maenner/2024-07-11/
LOCATION:Nachbarschaftstreff Pennenfeld\, Maidenheadstraße 20\, Bonn\, NRW\, 53177\, Deutschland
ORGANIZER;CN="Quartiersmanagement Pennenfeld":MAILTO:wilbertz@vebowag.de
END:VEVENT
BEGIN:VEVENT
DTSTART;TZID=Europe/Berlin:20240711T110000
DTEND;TZID=Europe/Berlin:20240711T120000
DTSTAMP:20260423T002205
CREATED:20240628T151523Z
LAST-MODIFIED:20240628T151523Z
UID:5535-1720695600-1720699200@wohnen-im-pennenfeld.de
SUMMARY:Fitness für Körper und Geist
DESCRIPTION:Bewegungsangebot für Seniorinnen und Senioren \nGymnastik im Sitzen und Stehen mit Übungen aus dem Ganzheitlichen Gehirntraining (GGT)\, Wahrnehmungs-\, Gleichgewichts-\, Konzentrations- und Koordinationsübungen\, Training von Alltagskompetenzen; bei gutem Wetter nutzen wir den Outdoor-Fitnesspark Buchung des gesamten Kurses (8 Termine\, 4.7.-29.8.): € 45\,- Infos unter: 0228-227 424 41\, andreea.bretan@awo-badgodesberg.de
URL:https://wohnen-im-pennenfeld.de/termine/fitness-fuer-koerper-und-geist-16/2024-07-11/
LOCATION:Nachbarschaftstreff Pennenfeld\, Maidenheadstraße 20\, Bonn\, NRW\, 53177\, Deutschland
ORGANIZER;CN="Quartiersmanagement Pennenfeld":MAILTO:wilbertz@vebowag.de
END:VEVENT
BEGIN:VEVENT
DTSTART;TZID=Europe/Berlin:20240711T100000
DTEND;TZID=Europe/Berlin:20240711T110000
DTSTAMP:20260423T002205
CREATED:20240703T172421Z
LAST-MODIFIED:20240703T172421Z
UID:5553-1720692000-1720695600@wohnen-im-pennenfeld.de
SUMMARY:Fitness für Körper und Geist
DESCRIPTION:Bewegungsangebot für Seniorinnen und Senioren \n Gymnastik im Sitzen und Stehen mit Übungen aus dem Ganzheitlichen Gehirntraining (GGT)\, Wahrnehmungs-\, Gleichgewichts-\, Konzentrations- und Koordinationsübungen\, Training von Alltagskompetenzen; bei gutem Wetter nutzen wir den Outdoor-Fitnesspark \nBuchung des gesamten Kurses (8 Termine\, 4.7.-29.8.): € 45\,- \nInfos unter: 0228-227 424 41\, andreea.bretan@awo-badgodesberg.de
URL:https://wohnen-im-pennenfeld.de/termine/fitness-fuer-koerper-und-geist-15/2024-07-11/
LOCATION:Nachbarschaftstreff Pennenfeld\, Maidenheadstraße 20\, Bonn\, NRW\, 53177\, Deutschland
ORGANIZER;CN="Quartiersmanagement Pennenfeld":MAILTO:wilbertz@vebowag.de
END:VEVENT
BEGIN:VEVENT
DTSTART;TZID=Europe/Berlin:20240710T180000
DTEND;TZID=Europe/Berlin:20240710T190000
DTSTAMP:20260423T002205
CREATED:20240629T145057Z
LAST-MODIFIED:20240703T165236Z
UID:5465-1720634400-1720638000@wohnen-im-pennenfeld.de
SUMMARY:Tai Chi & Qi Gong
DESCRIPTION:Die in den Kursen vermittelten Gesundheitsübungen hat die Kursleiterin Maria di Gennaro (www.zen-shiatsu.it) von Prof. Li Xiaoming\, einem authentischen chinesischen Meister\, von 2006 bis heute gelernt. Sie unterrichtet in English (bei Bedarf auch in Spanisch und Italienisch).\n\n\n\nTeilnehmerbeitrag: € 4\,- pro Termin.\nAnmeldung: 0228-227 424 41\, andreea.bretan@awo-badgodesberg.de
URL:https://wohnen-im-pennenfeld.de/termine/tai-chi-qi-gong-15/2024-07-10/
LOCATION:Nachbarschaftstreff Pennenfeld\, Maidenheadstraße 20\, Bonn\, NRW\, 53177\, Deutschland
ORGANIZER;CN="Quartiersmanagement Pennenfeld":MAILTO:wilbertz@vebowag.de
END:VEVENT
BEGIN:VEVENT
DTSTART;TZID=Europe/Berlin:20240709T120000
DTEND;TZID=Europe/Berlin:20240709T143000
DTSTAMP:20260423T002205
CREATED:20240628T145937Z
LAST-MODIFIED:20240730T161653Z
UID:5484-1720526400-1720535400@wohnen-im-pennenfeld.de
SUMMARY:Die Rote Tonne öffnet Ihre Klappe für Elektrokleingeräte
DESCRIPTION:
URL:https://wohnen-im-pennenfeld.de/termine/die-rote-tonne-oeffnet-ihre-klappe-fuer-elektrokleingeraete-50/2024-07-09/
LOCATION:Nachbarschaftstreff Pennenfeld\, Maidenheadstraße 20\, Bonn\, NRW\, 53177\, Deutschland
END:VEVENT
BEGIN:VEVENT
DTSTART;TZID=Europe/Berlin:20240709T120000
DTEND;TZID=Europe/Berlin:20240709T143000
DTSTAMP:20260423T002205
CREATED:20240628T145454Z
LAST-MODIFIED:20240730T165323Z
UID:5476-1720526400-1720535400@wohnen-im-pennenfeld.de
SUMMARY:Verbraucher- und Umweltberatung
DESCRIPTION:Die Verbraucherzentrale berät Sie ohne Termin und kostenlos zu rechtlichen Themen\, z.B. zu Telefon- und Internetverträgen\, Inkassobriefen\, Kaufverträgen\, dubiosen Kreditkartenangeboten\, Abos und Abzocke\, Energiesparen und Umweltschutz.\n\n\n\n 
URL:https://wohnen-im-pennenfeld.de/termine/verbraucher-und-umweltberatung-3/2024-07-09/
LOCATION:Nachbarschaftstreff Pennenfeld\, Maidenheadstraße 20\, Bonn\, NRW\, 53177\, Deutschland
END:VEVENT
BEGIN:VEVENT
DTSTART;TZID=Europe/Berlin:20240709T110000
DTEND;TZID=Europe/Berlin:20240709T110000
DTSTAMP:20260423T002205
CREATED:20240628T151804Z
LAST-MODIFIED:20240628T151804Z
UID:5541-1720522800-1720522800@wohnen-im-pennenfeld.de
SUMMARY:Lebensmittelausgabe im Nachbarschaftstreff Pennenfeld
DESCRIPTION:
URL:https://wohnen-im-pennenfeld.de/termine/lebensmittelausgabe-im-nachbarschaftstreff-pennenfeld-56/2024-07-09/
LOCATION:Nachbarschaftstreff Pennenfeld\, Maidenheadstraße 20\, Bonn\, NRW\, 53177\, Deutschland
ORGANIZER;CN="Quartiersmanagement Pennenfeld":MAILTO:wilbertz@vebowag.de
END:VEVENT
BEGIN:VEVENT
DTSTART;TZID=Europe/Berlin:20240705T173000
DTEND;TZID=Europe/Berlin:20240705T190000
DTSTAMP:20260423T002205
CREATED:20240603T151104Z
LAST-MODIFIED:20240703T171254Z
UID:5520-1720200600-1720206000@wohnen-im-pennenfeld.de
SUMMARY:Deutsch-Konversationskurs für Männer
DESCRIPTION:Möchten Sie gemeinsam mit anderen Männern Ihren Wortschatz bereichern und Ihre Sprachfähigkeiten im Deutschen vertiefen? Wollen Sie sich in alltäglichen Gesprächsthemen auf Deutsch sicherer fühlen? Dann sind Sie hier genau richtig! \nDieser Kurs ist speziell für Männer konzipiert\, die als Anfänger oder mit mittlerem Sprachniveau (A2-B1) ihre Sprachfähigkeiten erweitern und im Alltag anwenden möchten. \nKursleiter: Yaser Darkashly \nDer Kurs ist kostenlos\, keine Anmeldung erforderlich. Ein Einstieg ist jederzeit möglich.\n\n\n\nInfos bei: hasan.barbar@caritas-bonn.de\, 0228-227 424 42
URL:https://wohnen-im-pennenfeld.de/termine/deutsch-konversationskurs-fuer-maenner-2/2024-07-05/
LOCATION:Nachbarschaftstreff Pennenfeld\, Maidenheadstraße 20\, Bonn\, NRW\, 53177\, Deutschland
ORGANIZER;CN="Quartiersmanagement Pennenfeld":MAILTO:wilbertz@vebowag.de
END:VEVENT
BEGIN:VEVENT
DTSTART;TZID=Europe/Berlin:20240704T153000
DTEND;TZID=Europe/Berlin:20240704T170000
DTSTAMP:20260423T002205
CREATED:20240629T144906Z
LAST-MODIFIED:20240703T165036Z
UID:5459-1720107000-1720112400@wohnen-im-pennenfeld.de
SUMMARY:English-Reading-and-Conversation-Club
DESCRIPTION:Wir lesen gemeinsam eine sprachlich einfache\, aber thematisch anspruchsvolle Lektüre und besprechen sie. \nTeilnehmerbeitrag: € 3\,- ; Anmeldung: 0228-227 424 41\, andreea.bretan@awo-badgodesberg.de
URL:https://wohnen-im-pennenfeld.de/termine/english-reading-and-conversation-club-8/2024-07-04/
LOCATION:Nachbarschaftstreff Pennenfeld\, Maidenheadstraße 20\, Bonn\, NRW\, 53177\, Deutschland
ORGANIZER;CN="Quartiersmanagement Pennenfeld":MAILTO:wilbertz@vebowag.de
END:VEVENT
BEGIN:VEVENT
DTSTART;TZID=Europe/Berlin:20240704T130000
DTEND;TZID=Europe/Berlin:20240704T143000
DTSTAMP:20260423T002205
CREATED:20240603T170939Z
LAST-MODIFIED:20240703T171059Z
UID:5515-1720098000-1720103400@wohnen-im-pennenfeld.de
SUMMARY:Deutsch-Konversationskurs für Männer
DESCRIPTION:Möchten Sie gemeinsam mit anderen Männern Ihren Wortschatz bereichern und Ihre Sprachfähigkeiten im Deutschen vertiefen? Wollen Sie sich in alltäglichen Gesprächsthemen auf Deutsch sicherer fühlen? Dann sind Sie hier genau richtig! \nDieser Kurs ist speziell für Männer konzipiert\, die als Anfänger oder mit mittlerem Sprachniveau (A2-B1) ihre Sprachfähigkeiten erweitern und im Alltag anwenden möchten. \nKursleiter: Yaser Darkashly \nDer Kurs ist kostenlos\, keine Anmeldung erforderlich. Ein Einstieg ist jederzeit möglich.\n\n\n\nInfos bei: hasan.barbar@caritas-bonn.de\, 0228-227 424 42
URL:https://wohnen-im-pennenfeld.de/termine/deutsch-konversationskurs-fuer-maenner/2024-07-04/
LOCATION:Nachbarschaftstreff Pennenfeld\, Maidenheadstraße 20\, Bonn\, NRW\, 53177\, Deutschland
ORGANIZER;CN="Quartiersmanagement Pennenfeld":MAILTO:wilbertz@vebowag.de
END:VEVENT
BEGIN:VEVENT
DTSTART;TZID=Europe/Berlin:20240704T110000
DTEND;TZID=Europe/Berlin:20240704T120000
DTSTAMP:20260423T002205
CREATED:20240628T151523Z
LAST-MODIFIED:20240703T171722Z
UID:5533-1720090800-1720094400@wohnen-im-pennenfeld.de
SUMMARY:Fitness für Körper und Geist
DESCRIPTION:Bewegungsangebot für Seniorinnen und Senioren \nGymnastik im Sitzen und Stehen mit Übungen aus dem Ganzheitlichen Gehirntraining (GGT)\, Wahrnehmungs-\, Gleichgewichts-\, Konzentrations- und Koordinationsübungen\, Training von Alltagskompetenzen; bei gutem Wetter nutzen wir den Outdoor-Fitnesspark Buchung des gesamten Kurses (8 Termine\, 4.7.-29.8.): € 45\,- Infos unter: 0228-227 424 41\, andreea.bretan@awo-badgodesberg.de
URL:https://wohnen-im-pennenfeld.de/termine/fitness-fuer-koerper-und-geist-16/2024-07-04/
LOCATION:Nachbarschaftstreff Pennenfeld\, Maidenheadstraße 20\, Bonn\, NRW\, 53177\, Deutschland
ORGANIZER;CN="Quartiersmanagement Pennenfeld":MAILTO:wilbertz@vebowag.de
END:VEVENT
BEGIN:VEVENT
DTSTART;TZID=Europe/Berlin:20240704T100000
DTEND;TZID=Europe/Berlin:20240704T110000
DTSTAMP:20260423T002205
CREATED:20240703T172421Z
LAST-MODIFIED:20240703T172421Z
UID:5551-1720087200-1720090800@wohnen-im-pennenfeld.de
SUMMARY:Fitness für Körper und Geist
DESCRIPTION:Bewegungsangebot für Seniorinnen und Senioren \n Gymnastik im Sitzen und Stehen mit Übungen aus dem Ganzheitlichen Gehirntraining (GGT)\, Wahrnehmungs-\, Gleichgewichts-\, Konzentrations- und Koordinationsübungen\, Training von Alltagskompetenzen; bei gutem Wetter nutzen wir den Outdoor-Fitnesspark \nBuchung des gesamten Kurses (8 Termine\, 4.7.-29.8.): € 45\,- \nInfos unter: 0228-227 424 41\, andreea.bretan@awo-badgodesberg.de
URL:https://wohnen-im-pennenfeld.de/termine/fitness-fuer-koerper-und-geist-15/2024-07-04/
LOCATION:Nachbarschaftstreff Pennenfeld\, Maidenheadstraße 20\, Bonn\, NRW\, 53177\, Deutschland
ORGANIZER;CN="Quartiersmanagement Pennenfeld":MAILTO:wilbertz@vebowag.de
END:VEVENT
BEGIN:VEVENT
DTSTART;TZID=Europe/Berlin:20240703T180000
DTEND;TZID=Europe/Berlin:20240703T190000
DTSTAMP:20260423T002205
CREATED:20240629T145057Z
LAST-MODIFIED:20240703T165235Z
UID:5463-1720029600-1720033200@wohnen-im-pennenfeld.de
SUMMARY:Tai Chi & Qi Gong
DESCRIPTION:Die in den Kursen vermittelten Gesundheitsübungen hat die Kursleiterin Maria di Gennaro (www.zen-shiatsu.it) von Prof. Li Xiaoming\, einem authentischen chinesischen Meister\, von 2006 bis heute gelernt. Sie unterrichtet in English (bei Bedarf auch in Spanisch und Italienisch).\n\n\n\nTeilnehmerbeitrag: € 4\,- pro Termin.\nAnmeldung: 0228-227 424 41\, andreea.bretan@awo-badgodesberg.de
URL:https://wohnen-im-pennenfeld.de/termine/tai-chi-qi-gong-15/2024-07-03/
LOCATION:Nachbarschaftstreff Pennenfeld\, Maidenheadstraße 20\, Bonn\, NRW\, 53177\, Deutschland
ORGANIZER;CN="Quartiersmanagement Pennenfeld":MAILTO:wilbertz@vebowag.de
END:VEVENT
BEGIN:VEVENT
DTSTART;TZID=Europe/Berlin:20240703T093000
DTEND;TZID=Europe/Berlin:20240703T110000
DTSTAMP:20260423T002205
CREATED:20240628T145257Z
LAST-MODIFIED:20240703T165430Z
UID:5473-1719999000-1720004400@wohnen-im-pennenfeld.de
SUMMARY:Deutsch-Konversationskurs für Frauen
DESCRIPTION:Möchten Sie zusammen mit anderen Frauen Ihre Deutschkenntnisse üben und erweitern? Dann sind Sie hier genau richtig! Der Kurs ist für Anfängerinnen und Fortgeschrittene geeignet. \nKursleiterin: Simone Saure \nDer Kurs ist kostenlos\, keine Anmeldung erforderlich.\n\n\n\nInfos bei: andreea.bretan@awo-badgodesberg.de\, 0228-227 424 41 \nSommerpause vom 8.7.-20.8.
URL:https://wohnen-im-pennenfeld.de/termine/deutsch-konversationskurs-fuer-frauen-3/
LOCATION:Nachbarschaftstreff Pennenfeld\, Maidenheadstraße 20\, Bonn\, NRW\, 53177\, Deutschland
ORGANIZER;CN="Quartiersmanagement Pennenfeld":MAILTO:wilbertz@vebowag.de
END:VEVENT
BEGIN:VEVENT
DTSTART;TZID=Europe/Berlin:20240702T173000
DTEND;TZID=Europe/Berlin:20240702T203000
DTSTAMP:20260423T002205
CREATED:20240628T144441Z
LAST-MODIFIED:20240703T164838Z
UID:5453-1719941400-1719952200@wohnen-im-pennenfeld.de
SUMMARY:Kochen im Nachbarschaftstreff
DESCRIPTION:Lernen Sie nette Menschen kennen und haben Sie Spaß beim gemeinsamen Kochen! Wir kochen regionale Gerichte aus regionalen Zutaten und probieren auch die internationale Küche mit exotischen Zutaten. Teilnehmerbeitrag: € 1\,50  Anmeldung erforderlich. Bei Herrn Lee: 0151-121 84 230 oder bei Frank Wilbertz: 0228-9158 444\, info@wohnen-im-pennenfeld.de. \nIn Kooperation mit der Gemeindepsychatrie Bonn-Rhein-Sieg \n  \n 
URL:https://wohnen-im-pennenfeld.de/termine/kochen-im-nachbarschaftstreff-8/
LOCATION:Nachbarschaftstreff Pennenfeld\, Maidenheadstraße 20\, Bonn\, NRW\, 53177\, Deutschland
END:VEVENT
BEGIN:VEVENT
DTSTART;TZID=Europe/Berlin:20240702T153000
DTEND;TZID=Europe/Berlin:20240702T170000
DTSTAMP:20260423T002205
CREATED:20240628T141207Z
LAST-MODIFIED:20240703T164426Z
UID:5451-1719934200-1719939600@wohnen-im-pennenfeld.de
SUMMARY:Strick- und Häkeltreff
DESCRIPTION:Gemeinsames Handarbeiten\, Austausch von Anleitungen und Tipps\, Hilfestellung für Anfängerinnen sowie Knüpfen neuer Kontakte in lockerer Atmosphäre. Die Treffen finden in Deutsch und Englisch (wenn gewünscht auch in Spanisch und Italienisch) statt. \nBitte eigene Handarbeitssachen und Material mitbringen. \nKostenloses Angebot; Anmeldung unter 0228-227 424 41\, andreea.bretan@awo-badgodesberg.de
URL:https://wohnen-im-pennenfeld.de/termine/strick-und-haekeltreff-4/
LOCATION:Nachbarschaftstreff Pennenfeld\, Maidenheadstraße 20\, Bonn\, NRW\, 53177\, Deutschland
ORGANIZER;CN="Quartiersmanagement Pennenfeld":MAILTO:wilbertz@vebowag.de
END:VEVENT
BEGIN:VEVENT
DTSTART;TZID=Europe/Berlin:20240702T110000
DTEND;TZID=Europe/Berlin:20240702T110000
DTSTAMP:20260423T002205
CREATED:20240628T151804Z
LAST-MODIFIED:20240703T171901Z
UID:5539-1719918000-1719918000@wohnen-im-pennenfeld.de
SUMMARY:Lebensmittelausgabe im Nachbarschaftstreff Pennenfeld
DESCRIPTION:
URL:https://wohnen-im-pennenfeld.de/termine/lebensmittelausgabe-im-nachbarschaftstreff-pennenfeld-56/2024-07-02/
LOCATION:Nachbarschaftstreff Pennenfeld\, Maidenheadstraße 20\, Bonn\, NRW\, 53177\, Deutschland
ORGANIZER;CN="Quartiersmanagement Pennenfeld":MAILTO:wilbertz@vebowag.de
END:VEVENT
BEGIN:VEVENT
DTSTART;TZID=Europe/Berlin:20240627T150000
DTEND;TZID=Europe/Berlin:20240627T170000
DTSTAMP:20260423T002205
CREATED:20240603T182740Z
LAST-MODIFIED:20240603T182740Z
UID:5416-1719500400-1719507600@wohnen-im-pennenfeld.de
SUMMARY:Spielenachmittag für Erwachsene
DESCRIPTION:Doppelkopf und Rummy-Cup\nKostenloses Angebot\, Spenden willkommen.\nKeine Anmeldung erforderlich.\nWir suchen noch Mitspieler*innen für Rummy-Cup. Einfach vorbeikommen!
URL:https://wohnen-im-pennenfeld.de/termine/spielenachmittag-fuer-erwachsene-5/
LOCATION:Nachbarschaftstreff Pennenfeld\, Maidenheadstraße 20\, Bonn\, NRW\, 53177\, Deutschland
ORGANIZER;CN="Quartiersmanagement Pennenfeld":MAILTO:wilbertz@vebowag.de
END:VEVENT
BEGIN:VEVENT
DTSTART;TZID=Europe/Berlin:20240627T113000
DTEND;TZID=Europe/Berlin:20240627T123000
DTSTAMP:20260423T002205
CREATED:20240603T180747Z
LAST-MODIFIED:20240603T180747Z
UID:5395-1719487800-1719491400@wohnen-im-pennenfeld.de
SUMMARY:Fitness für Körper und Geist
DESCRIPTION:Bewegungsangebot für Seniorinnen und Senioren\nGymnastik im Sitzen und Stehen mit Übungen aus dem Ganzheitlichen Gehirntraining (GGT)\, Wahrnehmungs-\, Gleichgewichts-\, Konzentrations- und Koordinationsübungen\, Training von Alltagskompetenzen; bei gutem Wetter nutzen wir den Outdoor-Fitnesspark\nBuchung des gesamten Kurses (8 Termine\, 18.4.-20.6.): € 45\,-\nInfos unter: 0228-22 74 24 41\, andreea.bretan@awo-badgodesberg.de
URL:https://wohnen-im-pennenfeld.de/termine/fitness-fuer-koerper-und-geist-14/2024-06-27/
LOCATION:Nachbarschaftstreff Pennenfeld\, Maidenheadstraße 20\, Bonn\, NRW\, 53177\, Deutschland
ORGANIZER;CN="Quartiersmanagement Pennenfeld":MAILTO:wilbertz@vebowag.de
END:VEVENT
BEGIN:VEVENT
DTSTART;TZID=Europe/Berlin:20240627T103000
DTEND;TZID=Europe/Berlin:20240627T113000
DTSTAMP:20260423T002205
CREATED:20240603T180003Z
LAST-MODIFIED:20240603T180044Z
UID:5378-1719484200-1719487800@wohnen-im-pennenfeld.de
SUMMARY:Fitness für Körper und Geist
DESCRIPTION:Bewegungsangebot für Seniorinnen und Senioren\nGymnastik im Sitzen und Stehen mit Übungen aus dem Ganzheitlichen Gehirntraining (GGT)\, Wahrnehmungs-\, Gleichgewichts-\, Konzentrations- und Koordinationsübungen\, Training von Alltagskompetenzen; bei gutem Wetter nutzen wir den Outdoor-Fitnesspark\nBuchung des gesamten Kurses (8 Termine\, 18.4.-20.6.): € 45\,-\nInfos unter: 0228-22 74 24 41\, andreea.bretan@awo-badgodesberg.de
URL:https://wohnen-im-pennenfeld.de/termine/fitness-fuer-koerper-und-geist-13/2024-06-27/
LOCATION:Nachbarschaftstreff Pennenfeld\, Maidenheadstraße 20\, Bonn\, NRW\, 53177\, Deutschland
ORGANIZER;CN="Quartiersmanagement Pennenfeld":MAILTO:wilbertz@vebowag.de
END:VEVENT
BEGIN:VEVENT
DTSTART;TZID=Europe/Berlin:20240626T180000
DTEND;TZID=Europe/Berlin:20240626T190000
DTSTAMP:20260423T002205
CREATED:20240603T175624Z
LAST-MODIFIED:20240603T180157Z
UID:5373-1719424800-1719428400@wohnen-im-pennenfeld.de
SUMMARY:Tai Chi & Qi Gong
DESCRIPTION:Die in den Kursen vermittelten Gesundheitsübungen hat die Kursleiterin Maria di Gennaro (www.zen-shiatsu.it) von Prof. Li Xiaoming\, einem authentischen chinesischen Meister\, von 2006 bis heute gelernt. Sie unterrichtet in English (bei Bedarf auch in Spanisch und Italienisch).\nTeilnehmerbeitrag: € 4\,- pro Termin. Anmeldung: 0228-22 74 24 41\, andreea.bretan@awo-badgodesberg.de
URL:https://wohnen-im-pennenfeld.de/termine/tai-chi-qi-gong-14/2024-06-26/
LOCATION:Nachbarschaftstreff Pennenfeld\, Maidenheadstraße 20\, Bonn\, NRW\, 53177\, Deutschland
ORGANIZER;CN="Quartiersmanagement Pennenfeld":MAILTO:wilbertz@vebowag.de
END:VEVENT
BEGIN:VEVENT
DTSTART;TZID=Europe/Berlin:20240626T120000
DTEND;TZID=Europe/Berlin:20240626T120000
DTSTAMP:20260423T002205
CREATED:20240603T182551Z
LAST-MODIFIED:20240603T182551Z
UID:5414-1719403200-1719403200@wohnen-im-pennenfeld.de
SUMMARY:Mittagstisch
DESCRIPTION:Kostenbeitrag inkl. Nachtisch und Kaffee: € 4\,-\nBitte melden Sie sich bis zum 16.5. verbindlich an:\n0228-22 74 24 41 oder andreea.bretan@awo-badgodesberg.de
URL:https://wohnen-im-pennenfeld.de/termine/mittagstisch-12/
LOCATION:Nachbarschaftstreff Pennenfeld\, Maidenheadstraße 20\, Bonn\, NRW\, 53177\, Deutschland
ORGANIZER;CN="Quartiersmanagement Pennenfeld":MAILTO:wilbertz@vebowag.de
END:VEVENT
BEGIN:VEVENT
DTSTART;TZID=Europe/Berlin:20240626T093000
DTEND;TZID=Europe/Berlin:20240626T110000
DTSTAMP:20260423T002205
CREATED:20240603T173811Z
LAST-MODIFIED:20240603T173811Z
UID:5368-1719394200-1719399600@wohnen-im-pennenfeld.de
SUMMARY:Deutsch-Konversationskurs für Frauen
DESCRIPTION:Deutsch-Konversationskurs für Frauen\nMöchten Sie zusammen mit anderen Frauen Ihre Deutschkenntnisse\nüben und erweitern? Dann sind Sie hier genau richtig! Der Kurs ist für\nAnfängerinnen und Fortgeschrittene geeignet.\nKursleiterin: Simone Saure\nDer Kurs ist kostenlos\, keine Anmeldung erforderlich. \nGerman Conversation Course for Women (beginners and advanced)\nInterested in exercising and intensifying your knowledge of the German\nlanguage? Welcome to our course!\nTeacher: Simone Saure\nNo fees. No registration necessary \nНовий курс спілкування німецькою\nВи бажаєте розширити знання німецької разом з іншими\nукраїнками? Тоді\, Вам до нас! Наш курс для початківців\, і уже\nдосвідчених знавців мови.\nВикладачка: Сімоне Зауре (Simone Saure)\nУчасть безкоштовна\, і без зголошення \nدورة المحادثة األلمانية للنساء\nاللغة األلمانية مع نساء أخريات؟ إذا ً فأنت هنا ي ن ممارسة وتوسيع مهاراتك ف ي ن فن هل ترغبي\nبالمكان الصحيح!\nن\nالدورة مناسبة للمبتدئين المتقدمين والمتعلمي.\nالمعلمة: سيمون ساوري(Simone Saure)\nط التسجيلرالدورة مجانية، ال يشت. \nInfos unter: andreea.bretan@awo-badgodesberg.de\, 0228-227 424 41
URL:https://wohnen-im-pennenfeld.de/termine/deutsch-konversationskurs-fuer-frauen-2/2024-06-26/
LOCATION:Nachbarschaftstreff Pennenfeld\, Maidenheadstraße 20\, Bonn\, NRW\, 53177\, Deutschland
ORGANIZER;CN="Quartiersmanagement Pennenfeld":MAILTO:wilbertz@vebowag.de
END:VEVENT
BEGIN:VEVENT
DTSTART;TZID=Europe/Berlin:20240625T120000
DTEND;TZID=Europe/Berlin:20240625T143000
DTSTAMP:20260423T002205
CREATED:20240603T173545Z
LAST-MODIFIED:20240603T173545Z
UID:5363-1719316800-1719325800@wohnen-im-pennenfeld.de
SUMMARY:Die Rote Tonne öffnet Ihre Klappe für Elektrokleingeräte
DESCRIPTION:
URL:https://wohnen-im-pennenfeld.de/termine/die-rote-tonne-oeffnet-ihre-klappe-fuer-elektrokleingeraete-49/2024-06-25/
LOCATION:Nachbarschaftstreff Pennenfeld\, Maidenheadstraße 20\, Bonn\, NRW\, 53177\, Deutschland
END:VEVENT
BEGIN:VEVENT
DTSTART;TZID=Europe/Berlin:20240625T120000
DTEND;TZID=Europe/Berlin:20240625T143000
DTSTAMP:20260423T002205
CREATED:20240603T173147Z
LAST-MODIFIED:20240603T173147Z
UID:5358-1719316800-1719325800@wohnen-im-pennenfeld.de
SUMMARY:Verbraucher- und Umweltberatung der Verbraucherzentrale
DESCRIPTION:
URL:https://wohnen-im-pennenfeld.de/termine/verbraucher-und-umweltberatung-der-verbraucherzentrale-37/2024-06-25/
LOCATION:Nachbarschaftstreff Pennenfeld\, Maidenheadstraße 20\, Bonn\, NRW\, 53177\, Deutschland
END:VEVENT
BEGIN:VEVENT
DTSTART;TZID=Europe/Berlin:20240625T110000
DTEND;TZID=Europe/Berlin:20240625T110000
DTSTAMP:20260423T002205
CREATED:20240603T172851Z
LAST-MODIFIED:20240603T172851Z
UID:5352-1719313200-1719313200@wohnen-im-pennenfeld.de
SUMMARY:Lebensmittelausgabe im Nachbarschaftstreff Pennenfeld
DESCRIPTION:
URL:https://wohnen-im-pennenfeld.de/termine/lebensmittelausgabe-im-nachbarschaftstreff-pennenfeld-55/2024-06-25/
LOCATION:Nachbarschaftstreff Pennenfeld\, Maidenheadstraße 20\, Bonn\, NRW\, 53177\, Deutschland
END:VEVENT
END:VCALENDAR