﻿BEGIN:VCALENDAR
VERSION:2.0
PRODID:-//Pennenfeld - ECPv6.10.0//NONSGML v1.0//EN
CALSCALE:GREGORIAN
METHOD:PUBLISH
X-ORIGINAL-URL:https://wohnen-im-pennenfeld.de
X-WR-CALDESC:Veranstaltungen für Pennenfeld
REFRESH-INTERVAL;VALUE=DURATION:PT1H
X-Robots-Tag:noindex
X-PUBLISHED-TTL:PT1H
BEGIN:VTIMEZONE
TZID:Europe/Berlin
BEGIN:DAYLIGHT
TZOFFSETFROM:+0100
TZOFFSETTO:+0200
TZNAME:CEST
DTSTART:20240331T010000
END:DAYLIGHT
BEGIN:STANDARD
TZOFFSETFROM:+0200
TZOFFSETTO:+0100
TZNAME:CET
DTSTART:20241027T010000
END:STANDARD
END:VTIMEZONE
BEGIN:VEVENT
DTSTART;TZID=Europe/Berlin:20240624T150000
DTEND;TZID=Europe/Berlin:20240624T170000
DTSTAMP:20260423T045627
CREATED:20240603T172740Z
LAST-MODIFIED:20240603T172740Z
UID:5347-1719241200-1719248400@wohnen-im-pennenfeld.de
SUMMARY:Meine Zukunft gestalte ich selbst
DESCRIPTION:Für Kinder zwischen 6 und 12 Jahren\nWir wollen Kinder stark machen für die Zukunft.\nBasteln\, Experimente\, Kochen\, Natur\, Umwelt\, Nachhaltigkeit und\nnatürlich Spaß haben\, chillen und spielen. \nDie Veranstaltung ist kostenlos\nOffener Treff\, keine Anmeldung erforderlich\, einfach vorbeikommen! \n\nEin Projekt von Kultur verbindet e.V. (www.kulturverbindet-bonn.de)
URL:https://wohnen-im-pennenfeld.de/termine/meine-zukunft-gestalte-ich-selbst-8/2024-06-24/
LOCATION:Nachbarschaftstreff Pennenfeld\, Maidenheadstraße 20\, Bonn\, NRW\, 53177\, Deutschland
END:VEVENT
BEGIN:VEVENT
DTSTART;TZID=Europe/Berlin:20240621T150000
DTEND;TZID=Europe/Berlin:20240621T170000
DTSTAMP:20260423T045627
CREATED:20240603T182430Z
LAST-MODIFIED:20240603T182430Z
UID:5412-1718982000-1718989200@wohnen-im-pennenfeld.de
SUMMARY:Repair Café – Reparieren statt wegwerfen!
DESCRIPTION:In gemütlicher Atmosphäre unter fachkundiger Anleitung Elektrogeräte\, Möbelstücke etc. reparieren.\nKostenloses Angebot\, Spenden willkommen.\nAnmeldung/ Terminvergabe: Frank Wilbertz 0228-91 58 444
URL:https://wohnen-im-pennenfeld.de/termine/repair-cafe-reparieren-statt-wegwerfen-25/
LOCATION:Nachbarschaftstreff Pennenfeld\, Maidenheadstraße 20\, Bonn\, NRW\, 53177\, Deutschland
ORGANIZER;CN="Quartiersmanagement Pennenfeld":MAILTO:wilbertz@vebowag.de
END:VEVENT
BEGIN:VEVENT
DTSTART;TZID=Europe/Berlin:20240620T153000
DTEND;TZID=Europe/Berlin:20240620T170000
DTSTAMP:20260423T045627
CREATED:20240603T181421Z
LAST-MODIFIED:20240603T181507Z
UID:5403-1718897400-1718902800@wohnen-im-pennenfeld.de
SUMMARY:English-Reading-and-Conversation-Club
DESCRIPTION:Wir lesen gemeinsam eine sprachlich einfache\, aber thematisch anspruchsvolle Lektüre und besprechen sie.\nNEU: Der Englischtreff findet ab Juni zweimal im Monat statt\, jeweils am 1. und 3. Donnerstag im Monat\nTeilnehmerbeitrag: € 3\,- ; Anmeldung: 0228-227 424 41\, andreea.bretan@awo-badgodesberg.de
URL:https://wohnen-im-pennenfeld.de/termine/english-reading-and-conversation-club-7/2024-06-20/
LOCATION:Nachbarschaftstreff Pennenfeld\, Maidenheadstraße 20\, Bonn\, NRW\, 53177\, Deutschland
ORGANIZER;CN="Quartiersmanagement Pennenfeld":MAILTO:wilbertz@vebowag.de
END:VEVENT
BEGIN:VEVENT
DTSTART;TZID=Europe/Berlin:20240620T113000
DTEND;TZID=Europe/Berlin:20240620T123000
DTSTAMP:20260423T045627
CREATED:20240603T180747Z
LAST-MODIFIED:20240603T180747Z
UID:5394-1718883000-1718886600@wohnen-im-pennenfeld.de
SUMMARY:Fitness für Körper und Geist
DESCRIPTION:Bewegungsangebot für Seniorinnen und Senioren\nGymnastik im Sitzen und Stehen mit Übungen aus dem Ganzheitlichen Gehirntraining (GGT)\, Wahrnehmungs-\, Gleichgewichts-\, Konzentrations- und Koordinationsübungen\, Training von Alltagskompetenzen; bei gutem Wetter nutzen wir den Outdoor-Fitnesspark\nBuchung des gesamten Kurses (8 Termine\, 18.4.-20.6.): € 45\,-\nInfos unter: 0228-22 74 24 41\, andreea.bretan@awo-badgodesberg.de
URL:https://wohnen-im-pennenfeld.de/termine/fitness-fuer-koerper-und-geist-14/2024-06-20/
LOCATION:Nachbarschaftstreff Pennenfeld\, Maidenheadstraße 20\, Bonn\, NRW\, 53177\, Deutschland
ORGANIZER;CN="Quartiersmanagement Pennenfeld":MAILTO:wilbertz@vebowag.de
END:VEVENT
BEGIN:VEVENT
DTSTART;TZID=Europe/Berlin:20240620T103000
DTEND;TZID=Europe/Berlin:20240620T113000
DTSTAMP:20260423T045627
CREATED:20240603T180003Z
LAST-MODIFIED:20240603T180044Z
UID:5377-1718879400-1718883000@wohnen-im-pennenfeld.de
SUMMARY:Fitness für Körper und Geist
DESCRIPTION:Bewegungsangebot für Seniorinnen und Senioren\nGymnastik im Sitzen und Stehen mit Übungen aus dem Ganzheitlichen Gehirntraining (GGT)\, Wahrnehmungs-\, Gleichgewichts-\, Konzentrations- und Koordinationsübungen\, Training von Alltagskompetenzen; bei gutem Wetter nutzen wir den Outdoor-Fitnesspark\nBuchung des gesamten Kurses (8 Termine\, 18.4.-20.6.): € 45\,-\nInfos unter: 0228-22 74 24 41\, andreea.bretan@awo-badgodesberg.de
URL:https://wohnen-im-pennenfeld.de/termine/fitness-fuer-koerper-und-geist-13/2024-06-20/
LOCATION:Nachbarschaftstreff Pennenfeld\, Maidenheadstraße 20\, Bonn\, NRW\, 53177\, Deutschland
ORGANIZER;CN="Quartiersmanagement Pennenfeld":MAILTO:wilbertz@vebowag.de
END:VEVENT
BEGIN:VEVENT
DTSTART;TZID=Europe/Berlin:20240619T180000
DTEND;TZID=Europe/Berlin:20240619T190000
DTSTAMP:20260423T045627
CREATED:20240603T175624Z
LAST-MODIFIED:20240603T180157Z
UID:5372-1718820000-1718823600@wohnen-im-pennenfeld.de
SUMMARY:Tai Chi & Qi Gong
DESCRIPTION:Die in den Kursen vermittelten Gesundheitsübungen hat die Kursleiterin Maria di Gennaro (www.zen-shiatsu.it) von Prof. Li Xiaoming\, einem authentischen chinesischen Meister\, von 2006 bis heute gelernt. Sie unterrichtet in English (bei Bedarf auch in Spanisch und Italienisch).\nTeilnehmerbeitrag: € 4\,- pro Termin. Anmeldung: 0228-22 74 24 41\, andreea.bretan@awo-badgodesberg.de
URL:https://wohnen-im-pennenfeld.de/termine/tai-chi-qi-gong-14/2024-06-19/
LOCATION:Nachbarschaftstreff Pennenfeld\, Maidenheadstraße 20\, Bonn\, NRW\, 53177\, Deutschland
ORGANIZER;CN="Quartiersmanagement Pennenfeld":MAILTO:wilbertz@vebowag.de
END:VEVENT
BEGIN:VEVENT
DTSTART;TZID=Europe/Berlin:20240619T093000
DTEND;TZID=Europe/Berlin:20240619T110000
DTSTAMP:20260423T045627
CREATED:20240603T173811Z
LAST-MODIFIED:20240603T173811Z
UID:5367-1718789400-1718794800@wohnen-im-pennenfeld.de
SUMMARY:Deutsch-Konversationskurs für Frauen
DESCRIPTION:Deutsch-Konversationskurs für Frauen\nMöchten Sie zusammen mit anderen Frauen Ihre Deutschkenntnisse\nüben und erweitern? Dann sind Sie hier genau richtig! Der Kurs ist für\nAnfängerinnen und Fortgeschrittene geeignet.\nKursleiterin: Simone Saure\nDer Kurs ist kostenlos\, keine Anmeldung erforderlich. \nGerman Conversation Course for Women (beginners and advanced)\nInterested in exercising and intensifying your knowledge of the German\nlanguage? Welcome to our course!\nTeacher: Simone Saure\nNo fees. No registration necessary \nНовий курс спілкування німецькою\nВи бажаєте розширити знання німецької разом з іншими\nукраїнками? Тоді\, Вам до нас! Наш курс для початківців\, і уже\nдосвідчених знавців мови.\nВикладачка: Сімоне Зауре (Simone Saure)\nУчасть безкоштовна\, і без зголошення \nدورة المحادثة األلمانية للنساء\nاللغة األلمانية مع نساء أخريات؟ إذا ً فأنت هنا ي ن ممارسة وتوسيع مهاراتك ف ي ن فن هل ترغبي\nبالمكان الصحيح!\nن\nالدورة مناسبة للمبتدئين المتقدمين والمتعلمي.\nالمعلمة: سيمون ساوري(Simone Saure)\nط التسجيلرالدورة مجانية، ال يشت. \nInfos unter: andreea.bretan@awo-badgodesberg.de\, 0228-227 424 41
URL:https://wohnen-im-pennenfeld.de/termine/deutsch-konversationskurs-fuer-frauen-2/2024-06-19/
LOCATION:Nachbarschaftstreff Pennenfeld\, Maidenheadstraße 20\, Bonn\, NRW\, 53177\, Deutschland
ORGANIZER;CN="Quartiersmanagement Pennenfeld":MAILTO:wilbertz@vebowag.de
END:VEVENT
BEGIN:VEVENT
DTSTART;TZID=Europe/Berlin:20240618T173000
DTEND;TZID=Europe/Berlin:20240618T203000
DTSTAMP:20260423T045627
CREATED:20240603T181210Z
LAST-MODIFIED:20240603T181210Z
UID:5400-1718731800-1718742600@wohnen-im-pennenfeld.de
SUMMARY:Kochen im Nachbarschaftstreff
DESCRIPTION:Lernen Sie nette Menschen kennen und haben Sie Spaß beim\ngemeinsamen Kochen! Wir kochen regionale Gerichte aus regionalen\nZutaten und probieren auch die internationale Küche mit exotischen\nZutaten.\nTeilnehmerbeitrag: € 1\,50 pro Termin\nAnmeldung erforderlich. Bei Herrn Lee: 0151-121 84 230 oder bei Frank\nWilbertz: 0228- 91 58 444\, info@wohnen-im-pennenfeld.de\nIn Kooperation mit der Gemeindepsychatrie Bonn-Rhein-Sieg
URL:https://wohnen-im-pennenfeld.de/termine/kochen-im-nachbarschaftstreff-7/2024-06-18/
LOCATION:Nachbarschaftstreff Pennenfeld\, Maidenheadstraße 20\, Bonn\, NRW\, 53177\, Deutschland
END:VEVENT
BEGIN:VEVENT
DTSTART;TZID=Europe/Berlin:20240618T120000
DTEND;TZID=Europe/Berlin:20240618T143000
DTSTAMP:20260423T045627
CREATED:20240603T173545Z
LAST-MODIFIED:20240603T173545Z
UID:5362-1718712000-1718721000@wohnen-im-pennenfeld.de
SUMMARY:Die Rote Tonne öffnet Ihre Klappe für Elektrokleingeräte
DESCRIPTION:
URL:https://wohnen-im-pennenfeld.de/termine/die-rote-tonne-oeffnet-ihre-klappe-fuer-elektrokleingeraete-49/2024-06-18/
LOCATION:Nachbarschaftstreff Pennenfeld\, Maidenheadstraße 20\, Bonn\, NRW\, 53177\, Deutschland
END:VEVENT
BEGIN:VEVENT
DTSTART;TZID=Europe/Berlin:20240618T120000
DTEND;TZID=Europe/Berlin:20240618T143000
DTSTAMP:20260423T045627
CREATED:20240603T173147Z
LAST-MODIFIED:20240603T173147Z
UID:5357-1718712000-1718721000@wohnen-im-pennenfeld.de
SUMMARY:Verbraucher- und Umweltberatung der Verbraucherzentrale
DESCRIPTION:
URL:https://wohnen-im-pennenfeld.de/termine/verbraucher-und-umweltberatung-der-verbraucherzentrale-37/2024-06-18/
LOCATION:Nachbarschaftstreff Pennenfeld\, Maidenheadstraße 20\, Bonn\, NRW\, 53177\, Deutschland
END:VEVENT
BEGIN:VEVENT
DTSTART;TZID=Europe/Berlin:20240618T110000
DTEND;TZID=Europe/Berlin:20240618T110000
DTSTAMP:20260423T045627
CREATED:20240603T172851Z
LAST-MODIFIED:20240603T172851Z
UID:5351-1718708400-1718708400@wohnen-im-pennenfeld.de
SUMMARY:Lebensmittelausgabe im Nachbarschaftstreff Pennenfeld
DESCRIPTION:
URL:https://wohnen-im-pennenfeld.de/termine/lebensmittelausgabe-im-nachbarschaftstreff-pennenfeld-55/2024-06-18/
LOCATION:Nachbarschaftstreff Pennenfeld\, Maidenheadstraße 20\, Bonn\, NRW\, 53177\, Deutschland
END:VEVENT
BEGIN:VEVENT
DTSTART;TZID=Europe/Berlin:20240617T150000
DTEND;TZID=Europe/Berlin:20240617T170000
DTSTAMP:20260423T045627
CREATED:20240603T172740Z
LAST-MODIFIED:20240603T172740Z
UID:5346-1718636400-1718643600@wohnen-im-pennenfeld.de
SUMMARY:Meine Zukunft gestalte ich selbst
DESCRIPTION:Für Kinder zwischen 6 und 12 Jahren\nWir wollen Kinder stark machen für die Zukunft.\nBasteln\, Experimente\, Kochen\, Natur\, Umwelt\, Nachhaltigkeit und\nnatürlich Spaß haben\, chillen und spielen. \nDie Veranstaltung ist kostenlos\nOffener Treff\, keine Anmeldung erforderlich\, einfach vorbeikommen! \n\nEin Projekt von Kultur verbindet e.V. (www.kulturverbindet-bonn.de)
URL:https://wohnen-im-pennenfeld.de/termine/meine-zukunft-gestalte-ich-selbst-8/2024-06-17/
LOCATION:Nachbarschaftstreff Pennenfeld\, Maidenheadstraße 20\, Bonn\, NRW\, 53177\, Deutschland
END:VEVENT
BEGIN:VEVENT
DTSTART;TZID=Europe/Berlin:20240613T150000
DTEND;TZID=Europe/Berlin:20240613T170000
DTSTAMP:20260423T045627
CREATED:20240603T181700Z
LAST-MODIFIED:20240603T181700Z
UID:5406-1718290800-1718298000@wohnen-im-pennenfeld.de
SUMMARY:Gesangsnachmittag mit Kaffee und Kuchen
DESCRIPTION:Gemeinsam singen wir Lieder quer durch das deutsche Liederbuch und\nwerden dabei von Akkordeon\, Mandoline und Mundharmonika\nbegleitet.\nTeilnehmerbeitrag: € 2\,50\nKeine Anmeldung erforderlich
URL:https://wohnen-im-pennenfeld.de/termine/gesangsnachmittag-mit-kaffee-und-kuchen-10/
LOCATION:Nachbarschaftstreff Pennenfeld\, Maidenheadstraße 20\, Bonn\, NRW\, 53177\, Deutschland
ORGANIZER;CN="Quartiersmanagement Pennenfeld":MAILTO:wilbertz@vebowag.de
END:VEVENT
BEGIN:VEVENT
DTSTART;TZID=Europe/Berlin:20240613T113000
DTEND;TZID=Europe/Berlin:20240613T123000
DTSTAMP:20260423T045627
CREATED:20240603T180747Z
LAST-MODIFIED:20240603T180747Z
UID:5393-1718278200-1718281800@wohnen-im-pennenfeld.de
SUMMARY:Fitness für Körper und Geist
DESCRIPTION:Bewegungsangebot für Seniorinnen und Senioren\nGymnastik im Sitzen und Stehen mit Übungen aus dem Ganzheitlichen Gehirntraining (GGT)\, Wahrnehmungs-\, Gleichgewichts-\, Konzentrations- und Koordinationsübungen\, Training von Alltagskompetenzen; bei gutem Wetter nutzen wir den Outdoor-Fitnesspark\nBuchung des gesamten Kurses (8 Termine\, 18.4.-20.6.): € 45\,-\nInfos unter: 0228-22 74 24 41\, andreea.bretan@awo-badgodesberg.de
URL:https://wohnen-im-pennenfeld.de/termine/fitness-fuer-koerper-und-geist-14/2024-06-13/
LOCATION:Nachbarschaftstreff Pennenfeld\, Maidenheadstraße 20\, Bonn\, NRW\, 53177\, Deutschland
ORGANIZER;CN="Quartiersmanagement Pennenfeld":MAILTO:wilbertz@vebowag.de
END:VEVENT
BEGIN:VEVENT
DTSTART;TZID=Europe/Berlin:20240613T103000
DTEND;TZID=Europe/Berlin:20240613T113000
DTSTAMP:20260423T045627
CREATED:20240603T180003Z
LAST-MODIFIED:20240603T180044Z
UID:5376-1718274600-1718278200@wohnen-im-pennenfeld.de
SUMMARY:Fitness für Körper und Geist
DESCRIPTION:Bewegungsangebot für Seniorinnen und Senioren\nGymnastik im Sitzen und Stehen mit Übungen aus dem Ganzheitlichen Gehirntraining (GGT)\, Wahrnehmungs-\, Gleichgewichts-\, Konzentrations- und Koordinationsübungen\, Training von Alltagskompetenzen; bei gutem Wetter nutzen wir den Outdoor-Fitnesspark\nBuchung des gesamten Kurses (8 Termine\, 18.4.-20.6.): € 45\,-\nInfos unter: 0228-22 74 24 41\, andreea.bretan@awo-badgodesberg.de
URL:https://wohnen-im-pennenfeld.de/termine/fitness-fuer-koerper-und-geist-13/2024-06-13/
LOCATION:Nachbarschaftstreff Pennenfeld\, Maidenheadstraße 20\, Bonn\, NRW\, 53177\, Deutschland
ORGANIZER;CN="Quartiersmanagement Pennenfeld":MAILTO:wilbertz@vebowag.de
END:VEVENT
BEGIN:VEVENT
DTSTART;TZID=Europe/Berlin:20240612T180000
DTEND;TZID=Europe/Berlin:20240612T190000
DTSTAMP:20260423T045627
CREATED:20240603T175624Z
LAST-MODIFIED:20240603T180157Z
UID:5371-1718215200-1718218800@wohnen-im-pennenfeld.de
SUMMARY:Tai Chi & Qi Gong
DESCRIPTION:Die in den Kursen vermittelten Gesundheitsübungen hat die Kursleiterin Maria di Gennaro (www.zen-shiatsu.it) von Prof. Li Xiaoming\, einem authentischen chinesischen Meister\, von 2006 bis heute gelernt. Sie unterrichtet in English (bei Bedarf auch in Spanisch und Italienisch).\nTeilnehmerbeitrag: € 4\,- pro Termin. Anmeldung: 0228-22 74 24 41\, andreea.bretan@awo-badgodesberg.de
URL:https://wohnen-im-pennenfeld.de/termine/tai-chi-qi-gong-14/2024-06-12/
LOCATION:Nachbarschaftstreff Pennenfeld\, Maidenheadstraße 20\, Bonn\, NRW\, 53177\, Deutschland
ORGANIZER;CN="Quartiersmanagement Pennenfeld":MAILTO:wilbertz@vebowag.de
END:VEVENT
BEGIN:VEVENT
DTSTART;TZID=Europe/Berlin:20240612T093000
DTEND;TZID=Europe/Berlin:20240612T110000
DTSTAMP:20260423T045627
CREATED:20240603T173811Z
LAST-MODIFIED:20240603T173811Z
UID:5366-1718184600-1718190000@wohnen-im-pennenfeld.de
SUMMARY:Deutsch-Konversationskurs für Frauen
DESCRIPTION:Deutsch-Konversationskurs für Frauen\nMöchten Sie zusammen mit anderen Frauen Ihre Deutschkenntnisse\nüben und erweitern? Dann sind Sie hier genau richtig! Der Kurs ist für\nAnfängerinnen und Fortgeschrittene geeignet.\nKursleiterin: Simone Saure\nDer Kurs ist kostenlos\, keine Anmeldung erforderlich. \nGerman Conversation Course for Women (beginners and advanced)\nInterested in exercising and intensifying your knowledge of the German\nlanguage? Welcome to our course!\nTeacher: Simone Saure\nNo fees. No registration necessary \nНовий курс спілкування німецькою\nВи бажаєте розширити знання німецької разом з іншими\nукраїнками? Тоді\, Вам до нас! Наш курс для початківців\, і уже\nдосвідчених знавців мови.\nВикладачка: Сімоне Зауре (Simone Saure)\nУчасть безкоштовна\, і без зголошення \nدورة المحادثة األلمانية للنساء\nاللغة األلمانية مع نساء أخريات؟ إذا ً فأنت هنا ي ن ممارسة وتوسيع مهاراتك ف ي ن فن هل ترغبي\nبالمكان الصحيح!\nن\nالدورة مناسبة للمبتدئين المتقدمين والمتعلمي.\nالمعلمة: سيمون ساوري(Simone Saure)\nط التسجيلرالدورة مجانية، ال يشت. \nInfos unter: andreea.bretan@awo-badgodesberg.de\, 0228-227 424 41
URL:https://wohnen-im-pennenfeld.de/termine/deutsch-konversationskurs-fuer-frauen-2/2024-06-12/
LOCATION:Nachbarschaftstreff Pennenfeld\, Maidenheadstraße 20\, Bonn\, NRW\, 53177\, Deutschland
ORGANIZER;CN="Quartiersmanagement Pennenfeld":MAILTO:wilbertz@vebowag.de
END:VEVENT
BEGIN:VEVENT
DTSTART;TZID=Europe/Berlin:20240611T120000
DTEND;TZID=Europe/Berlin:20240611T143000
DTSTAMP:20260423T045627
CREATED:20240603T173545Z
LAST-MODIFIED:20240603T173545Z
UID:5361-1718107200-1718116200@wohnen-im-pennenfeld.de
SUMMARY:Die Rote Tonne öffnet Ihre Klappe für Elektrokleingeräte
DESCRIPTION:
URL:https://wohnen-im-pennenfeld.de/termine/die-rote-tonne-oeffnet-ihre-klappe-fuer-elektrokleingeraete-49/2024-06-11/
LOCATION:Nachbarschaftstreff Pennenfeld\, Maidenheadstraße 20\, Bonn\, NRW\, 53177\, Deutschland
END:VEVENT
BEGIN:VEVENT
DTSTART;TZID=Europe/Berlin:20240611T120000
DTEND;TZID=Europe/Berlin:20240611T143000
DTSTAMP:20260423T045627
CREATED:20240603T173147Z
LAST-MODIFIED:20240603T173147Z
UID:5356-1718107200-1718116200@wohnen-im-pennenfeld.de
SUMMARY:Verbraucher- und Umweltberatung der Verbraucherzentrale
DESCRIPTION:
URL:https://wohnen-im-pennenfeld.de/termine/verbraucher-und-umweltberatung-der-verbraucherzentrale-37/2024-06-11/
LOCATION:Nachbarschaftstreff Pennenfeld\, Maidenheadstraße 20\, Bonn\, NRW\, 53177\, Deutschland
END:VEVENT
BEGIN:VEVENT
DTSTART;TZID=Europe/Berlin:20240611T110000
DTEND;TZID=Europe/Berlin:20240611T110000
DTSTAMP:20260423T045627
CREATED:20240603T172851Z
LAST-MODIFIED:20240603T172851Z
UID:5350-1718103600-1718103600@wohnen-im-pennenfeld.de
SUMMARY:Lebensmittelausgabe im Nachbarschaftstreff Pennenfeld
DESCRIPTION:
URL:https://wohnen-im-pennenfeld.de/termine/lebensmittelausgabe-im-nachbarschaftstreff-pennenfeld-55/2024-06-11/
LOCATION:Nachbarschaftstreff Pennenfeld\, Maidenheadstraße 20\, Bonn\, NRW\, 53177\, Deutschland
END:VEVENT
BEGIN:VEVENT
DTSTART;TZID=Europe/Berlin:20240610T150000
DTEND;TZID=Europe/Berlin:20240610T170000
DTSTAMP:20260423T045627
CREATED:20240603T172740Z
LAST-MODIFIED:20240603T172740Z
UID:5345-1718031600-1718038800@wohnen-im-pennenfeld.de
SUMMARY:Meine Zukunft gestalte ich selbst
DESCRIPTION:Für Kinder zwischen 6 und 12 Jahren\nWir wollen Kinder stark machen für die Zukunft.\nBasteln\, Experimente\, Kochen\, Natur\, Umwelt\, Nachhaltigkeit und\nnatürlich Spaß haben\, chillen und spielen. \nDie Veranstaltung ist kostenlos\nOffener Treff\, keine Anmeldung erforderlich\, einfach vorbeikommen! \n\nEin Projekt von Kultur verbindet e.V. (www.kulturverbindet-bonn.de)
URL:https://wohnen-im-pennenfeld.de/termine/meine-zukunft-gestalte-ich-selbst-8/2024-06-10/
LOCATION:Nachbarschaftstreff Pennenfeld\, Maidenheadstraße 20\, Bonn\, NRW\, 53177\, Deutschland
END:VEVENT
BEGIN:VEVENT
DTSTART;TZID=Europe/Berlin:20240606T153000
DTEND;TZID=Europe/Berlin:20240606T170000
DTSTAMP:20260423T045627
CREATED:20240603T181421Z
LAST-MODIFIED:20240603T181507Z
UID:5401-1717687800-1717693200@wohnen-im-pennenfeld.de
SUMMARY:English-Reading-and-Conversation-Club
DESCRIPTION:Wir lesen gemeinsam eine sprachlich einfache\, aber thematisch anspruchsvolle Lektüre und besprechen sie.\nNEU: Der Englischtreff findet ab Juni zweimal im Monat statt\, jeweils am 1. und 3. Donnerstag im Monat\nTeilnehmerbeitrag: € 3\,- ; Anmeldung: 0228-227 424 41\, andreea.bretan@awo-badgodesberg.de
URL:https://wohnen-im-pennenfeld.de/termine/english-reading-and-conversation-club-7/2024-06-06/
LOCATION:Nachbarschaftstreff Pennenfeld\, Maidenheadstraße 20\, Bonn\, NRW\, 53177\, Deutschland
ORGANIZER;CN="Quartiersmanagement Pennenfeld":MAILTO:wilbertz@vebowag.de
END:VEVENT
BEGIN:VEVENT
DTSTART;TZID=Europe/Berlin:20240606T113000
DTEND;TZID=Europe/Berlin:20240606T123000
DTSTAMP:20260423T045627
CREATED:20240603T180747Z
LAST-MODIFIED:20240603T180833Z
UID:5388-1717673400-1717677000@wohnen-im-pennenfeld.de
SUMMARY:Fitness für Körper und Geist
DESCRIPTION:Bewegungsangebot für Seniorinnen und Senioren\nGymnastik im Sitzen und Stehen mit Übungen aus dem Ganzheitlichen Gehirntraining (GGT)\, Wahrnehmungs-\, Gleichgewichts-\, Konzentrations- und Koordinationsübungen\, Training von Alltagskompetenzen; bei gutem Wetter nutzen wir den Outdoor-Fitnesspark\nBuchung des gesamten Kurses (8 Termine\, 18.4.-20.6.): € 45\,-\nInfos unter: 0228-22 74 24 41\, andreea.bretan@awo-badgodesberg.de
URL:https://wohnen-im-pennenfeld.de/termine/fitness-fuer-koerper-und-geist-14/2024-06-06/
LOCATION:Nachbarschaftstreff Pennenfeld\, Maidenheadstraße 20\, Bonn\, NRW\, 53177\, Deutschland
ORGANIZER;CN="Quartiersmanagement Pennenfeld":MAILTO:wilbertz@vebowag.de
END:VEVENT
BEGIN:VEVENT
DTSTART;TZID=Europe/Berlin:20240606T103000
DTEND;TZID=Europe/Berlin:20240606T113000
DTSTAMP:20260423T045627
CREATED:20240603T180003Z
LAST-MODIFIED:20240603T180044Z
UID:5374-1717669800-1717673400@wohnen-im-pennenfeld.de
SUMMARY:Fitness für Körper und Geist
DESCRIPTION:Bewegungsangebot für Seniorinnen und Senioren\nGymnastik im Sitzen und Stehen mit Übungen aus dem Ganzheitlichen Gehirntraining (GGT)\, Wahrnehmungs-\, Gleichgewichts-\, Konzentrations- und Koordinationsübungen\, Training von Alltagskompetenzen; bei gutem Wetter nutzen wir den Outdoor-Fitnesspark\nBuchung des gesamten Kurses (8 Termine\, 18.4.-20.6.): € 45\,-\nInfos unter: 0228-22 74 24 41\, andreea.bretan@awo-badgodesberg.de
URL:https://wohnen-im-pennenfeld.de/termine/fitness-fuer-koerper-und-geist-13/2024-06-06/
LOCATION:Nachbarschaftstreff Pennenfeld\, Maidenheadstraße 20\, Bonn\, NRW\, 53177\, Deutschland
ORGANIZER;CN="Quartiersmanagement Pennenfeld":MAILTO:wilbertz@vebowag.de
END:VEVENT
BEGIN:VEVENT
DTSTART;TZID=Europe/Berlin:20240605T180000
DTEND;TZID=Europe/Berlin:20240605T190000
DTSTAMP:20260423T045627
CREATED:20240603T175624Z
LAST-MODIFIED:20240603T180157Z
UID:5369-1717610400-1717614000@wohnen-im-pennenfeld.de
SUMMARY:Tai Chi & Qi Gong
DESCRIPTION:Die in den Kursen vermittelten Gesundheitsübungen hat die Kursleiterin Maria di Gennaro (www.zen-shiatsu.it) von Prof. Li Xiaoming\, einem authentischen chinesischen Meister\, von 2006 bis heute gelernt. Sie unterrichtet in English (bei Bedarf auch in Spanisch und Italienisch).\nTeilnehmerbeitrag: € 4\,- pro Termin. Anmeldung: 0228-22 74 24 41\, andreea.bretan@awo-badgodesberg.de
URL:https://wohnen-im-pennenfeld.de/termine/tai-chi-qi-gong-14/2024-06-05/
LOCATION:Nachbarschaftstreff Pennenfeld\, Maidenheadstraße 20\, Bonn\, NRW\, 53177\, Deutschland
ORGANIZER;CN="Quartiersmanagement Pennenfeld":MAILTO:wilbertz@vebowag.de
END:VEVENT
BEGIN:VEVENT
DTSTART;TZID=Europe/Berlin:20240605T093000
DTEND;TZID=Europe/Berlin:20240605T110000
DTSTAMP:20260423T045627
CREATED:20240603T173811Z
LAST-MODIFIED:20240603T173811Z
UID:5364-1717579800-1717585200@wohnen-im-pennenfeld.de
SUMMARY:Deutsch-Konversationskurs für Frauen
DESCRIPTION:Deutsch-Konversationskurs für Frauen\nMöchten Sie zusammen mit anderen Frauen Ihre Deutschkenntnisse\nüben und erweitern? Dann sind Sie hier genau richtig! Der Kurs ist für\nAnfängerinnen und Fortgeschrittene geeignet.\nKursleiterin: Simone Saure\nDer Kurs ist kostenlos\, keine Anmeldung erforderlich. \nGerman Conversation Course for Women (beginners and advanced)\nInterested in exercising and intensifying your knowledge of the German\nlanguage? Welcome to our course!\nTeacher: Simone Saure\nNo fees. No registration necessary \nНовий курс спілкування німецькою\nВи бажаєте розширити знання німецької разом з іншими\nукраїнками? Тоді\, Вам до нас! Наш курс для початківців\, і уже\nдосвідчених знавців мови.\nВикладачка: Сімоне Зауре (Simone Saure)\nУчасть безкоштовна\, і без зголошення \nدورة المحادثة األلمانية للنساء\nاللغة األلمانية مع نساء أخريات؟ إذا ً فأنت هنا ي ن ممارسة وتوسيع مهاراتك ف ي ن فن هل ترغبي\nبالمكان الصحيح!\nن\nالدورة مناسبة للمبتدئين المتقدمين والمتعلمي.\nالمعلمة: سيمون ساوري(Simone Saure)\nط التسجيلرالدورة مجانية، ال يشت. \nInfos unter: andreea.bretan@awo-badgodesberg.de\, 0228-227 424 41
URL:https://wohnen-im-pennenfeld.de/termine/deutsch-konversationskurs-fuer-frauen-2/2024-06-05/
LOCATION:Nachbarschaftstreff Pennenfeld\, Maidenheadstraße 20\, Bonn\, NRW\, 53177\, Deutschland
ORGANIZER;CN="Quartiersmanagement Pennenfeld":MAILTO:wilbertz@vebowag.de
END:VEVENT
BEGIN:VEVENT
DTSTART;TZID=Europe/Berlin:20240604T173000
DTEND;TZID=Europe/Berlin:20240604T203000
DTSTAMP:20260423T045627
CREATED:20240603T181210Z
LAST-MODIFIED:20240603T181210Z
UID:5398-1717522200-1717533000@wohnen-im-pennenfeld.de
SUMMARY:Kochen im Nachbarschaftstreff
DESCRIPTION:Lernen Sie nette Menschen kennen und haben Sie Spaß beim\ngemeinsamen Kochen! Wir kochen regionale Gerichte aus regionalen\nZutaten und probieren auch die internationale Küche mit exotischen\nZutaten.\nTeilnehmerbeitrag: € 1\,50 pro Termin\nAnmeldung erforderlich. Bei Herrn Lee: 0151-121 84 230 oder bei Frank\nWilbertz: 0228- 91 58 444\, info@wohnen-im-pennenfeld.de\nIn Kooperation mit der Gemeindepsychatrie Bonn-Rhein-Sieg
URL:https://wohnen-im-pennenfeld.de/termine/kochen-im-nachbarschaftstreff-7/2024-06-04/
LOCATION:Nachbarschaftstreff Pennenfeld\, Maidenheadstraße 20\, Bonn\, NRW\, 53177\, Deutschland
END:VEVENT
BEGIN:VEVENT
DTSTART;TZID=Europe/Berlin:20240604T153000
DTEND;TZID=Europe/Berlin:20240604T170000
DTSTAMP:20260423T045627
CREATED:20240603T180956Z
LAST-MODIFIED:20240603T180956Z
UID:5396-1717515000-1717520400@wohnen-im-pennenfeld.de
SUMMARY:Strick- und Häkeltreff
DESCRIPTION:Gemeinsames Handarbeiten\, Austausch von Anleitungen und Tipps\,\nHilfestellung für Anfängerinnen sowie Knüpfen neuer Kontakte in\nlockerer Atmosphäre. Die Treffen finden in Deutsch und Englisch (wenn\ngewünscht auch in Spanisch und Italienisch) statt.\nBitte eigene Handarbeitssachen und Material mitbringen. \nKnitting and Crocheting meeting\nHandcrafting together\, exchanging instructions and tips\, assistance for beginners. Make new contacts in a relaxed atmosphere! English\, German\, Spanish and Italian is spoken.\nPlease bring your own handicraft items and materials.\nKostenloses Angebot (The event is free of charge).\nAnmeldung unter (Registration): 0228-22 74 24 41\, andreea.bretan@awo-badgodesberg.de
URL:https://wohnen-im-pennenfeld.de/termine/strick-und-haekeltreff-3/
LOCATION:Nachbarschaftstreff Pennenfeld\, Maidenheadstraße 20\, Bonn\, NRW\, 53177\, Deutschland
ORGANIZER;CN="Quartiersmanagement Pennenfeld":MAILTO:wilbertz@vebowag.de
END:VEVENT
BEGIN:VEVENT
DTSTART;TZID=Europe/Berlin:20240604T120000
DTEND;TZID=Europe/Berlin:20240604T143000
DTSTAMP:20260423T045627
CREATED:20240603T173545Z
LAST-MODIFIED:20240603T173545Z
UID:5359-1717502400-1717511400@wohnen-im-pennenfeld.de
SUMMARY:Die Rote Tonne öffnet Ihre Klappe für Elektrokleingeräte
DESCRIPTION:
URL:https://wohnen-im-pennenfeld.de/termine/die-rote-tonne-oeffnet-ihre-klappe-fuer-elektrokleingeraete-49/2024-06-04/
LOCATION:Nachbarschaftstreff Pennenfeld\, Maidenheadstraße 20\, Bonn\, NRW\, 53177\, Deutschland
END:VEVENT
BEGIN:VEVENT
DTSTART;TZID=Europe/Berlin:20240604T120000
DTEND;TZID=Europe/Berlin:20240604T143000
DTSTAMP:20260423T045627
CREATED:20240603T173147Z
LAST-MODIFIED:20240603T173147Z
UID:5355-1717502400-1717511400@wohnen-im-pennenfeld.de
SUMMARY:Verbraucher- und Umweltberatung der Verbraucherzentrale
DESCRIPTION:
URL:https://wohnen-im-pennenfeld.de/termine/verbraucher-und-umweltberatung-der-verbraucherzentrale-37/2024-06-04/
LOCATION:Nachbarschaftstreff Pennenfeld\, Maidenheadstraße 20\, Bonn\, NRW\, 53177\, Deutschland
END:VEVENT
END:VCALENDAR